Workbook
Name CelkemDPHVypocet: Stavba!$H$49:$H$49
Name CenaCelkem: Stavba!$G$29
Name CenaCelkemBezDPH: Stavba!$G$28
Name CenaCelkemVypocet: Stavba!$I$49:$I$49
Name cisloobjektu: Stavba!$D$3
Name CisloRozpoctu: '[1]Krycí list'!$C$2
Name CisloStavby: Stavba!$D$2
Name cislostavby: '[1]Krycí list'!$A$7
Name CisloStavebnihoRozpoctu: Stavba!$D$4
Name dadresa: Stavba!$D$12:$G$12
Name DIČ: Stavba!$I$12
Name dmisto: Stavba!$E$13:$H$13
Name DPHSni: Stavba!$G$24
Name DPHZakl: Stavba!$G$26
Name dpsc: Stavba!$D$13
Name IČO: Stavba!$I$11
Name Mena: Stavba!$J$29
Name MistoStavby: Stavba!$D$4
Name nazevobjektu: Stavba!$E$3
Name NazevRozpoctu: '[1]Krycí list'!$D$2
Name NazevStavby: Stavba!$E$2
Name nazevstavby: '[1]Krycí list'!$C$7
Name NazevStavebnihoRozpoctu: Stavba!$E$4
Name oadresa: Stavba!$D$6
Name Objednatel: Stavba!$D$5
Name Objekt: Stavba!$B$38
Name odic: Stavba!$I$6
Name oico: Stavba!$I$5
Name omisto: Stavba!$E$7
Name onazev: Stavba!$D$6
Name opsc: Stavba!$D$7
Name padresa: Stavba!$D$9
Name pdic: Stavba!$I$9
Name pico: Stavba!$I$8
Name pmisto: Stavba!$E$10
Name PocetMJ: #REF!
Name PoptavkaID: Stavba!$A$1
Name pPSC: Stavba!$D$10
Name Projektant: Stavba!$D$8
Name SazbaDPH1: Stavba!$E$23
Name SazbaDPH1: '[1]Krycí list'!$C$30
Name SazbaDPH2: Stavba!$E$25
Name SazbaDPH2: '[1]Krycí list'!$C$32
Name SloupecCC: #REF!
Name SloupecCisloPol: #REF!
Name SloupecJC: #REF!
Name SloupecMJ: #REF!
Name SloupecMnozstvi: #REF!
Name SloupecNazPol: #REF!
Name SloupecPC: #REF!
Name Vypracoval: Stavba!$D$14
Name ZakladDPHSni: Stavba!$G$23
Name ZakladDPHSniVypocet: Stavba!$F$49:$F$49
Name ZakladDPHZakl: Stavba!$G$25
Name ZakladDPHZaklVypocet: Stavba!$G$49:$G$49
Name Zaokrouhleni: Stavba!$G$27
Name Zhotovitel: Stavba!$D$11:$G$11

Sheet Pokyny pro vyplnění
A1: Pokyny pro vyplnění
A2: Ve všech listech tohoto souboru můžete měnit pouze buňky s modrým pozadím. Jedná se o tyto údaje : - údaje o firmě - jednotkové ceny položek zadané na maximálně dvě desetinná místa

Sheet Stavba
A1: #RTSSTAROZP# | B1: Položkový rozpočet stavby
B2: Stavba: | D2: 12 | E2: Tenisový dvojkurt, Bohuslavice u Kyjova
A4: 274731 | D4: 1 | E4: Tenisový dvojkurt, Bohuslavice u Kyjova
B5: Objednatel: | D5: Město Kyjov | H5: IČ: | I5: 00285030
D6: Masarykovo náměstí 30/1 | H6: DIČ: | I6: CZ00285030
D7: 69701 | E7: Kyjov
B8: Projektant: | H8: IČ:
H9: DIČ:
B11: Zhotovitel: | H11: IČ:
H12: DIČ:
B14: Vypracoval:
B15: Rozpis ceny | I15: Celkem
A16: HSV | B16: HSV | I16: =SUMIF(F55:F75,A16,I55:I75)+SUMIF(F55:F75,"PSU",I55:I75) -> 0
A17: PSV | B17: PSV | I17: =SUMIF(F55:F75,A17,I55:I75) -> 0
A18: MON | B18: MON | I18: =SUMIF(F55:F75,A18,I55:I75) -> 0
A19: VN | B19: VN | I19: =SUMIF(F55:F75,A19,I55:I75) -> 0
A20: ON | B20: ON | I20: =SUMIF(F55:F75,A20,I55:I75) -> 0
B21: Celkem | I21: =SUM(I16:J20) -> 0
B22: Rekapitulace daní
B23: Základ pro sníženou DPH | E23: 12 | F23: % | G23: =ZakladDPHSniVypocet -> 0 | J23: =Mena -> CZK
B24: Snížená DPH | E24: =SazbaDPH1 -> 12 | F24: % | G24: =ZakladDPHSni*SazbaDPH1/100 -> 0 | J24: =Mena -> CZK
B25: Základ pro základní DPH | E25: 21 | F25: % | G25: =ZakladDPHZaklVypocet -> 0 | J25: =Mena -> CZK
B26: Základní DPH | E26: =SazbaDPH2 -> 21 | F26: % | G26: =ZakladDPHZakl*SazbaDPH2/100 -> 0 | J26: =Mena -> CZK
B27: Zaokrouhlení | G27: =0 -> 0 | J27: =Mena -> CZK
B28: Cena celkem bez DPH | G28: =ZakladDPHSniVypocet+ZakladDPHZaklVypocet -> 0 | J28: =Mena -> CZK
B29: Cena celkem s DPH | G29: =ZakladDPHSni+DPHSni+ZakladDPHZakl+DPHZakl+Zaokrouhleni -> 0 | J29: CZK
B32: V | F32: dne
C35: Za zhotovitele | H35: Za objednatele
B37: Rekapitulace dílčích částí
A38: #CASTI>> | B38: Číslo | C38: Název | F38: =B23 -> Základ pro sníženou DPH | G38: =B25 -> Základ pro základní DPH | H38: DPH celkem | I38: Cena celkem | J38: %
A39: 1 | B39: 1 | C39: Tenisový dvojkurt, Bohuslavice u Kyjova | F39: =OVN!AC25+'01.1'!AC135+'01.2'!AC127+'O1'!AC23+'02.1'!AC63+'02.2'!AC14+'02.3'!AC14 -> 0 | G39: =OVN!AD25+'01.1'!AD135+'01.2'!AD127+'O1'!AD23+'02.1'!AD63+'02.2'!AD14+'02.3'!AD14 -> 0 | H39: =(F39*SazbaDPH1/100)+(G39*SazbaDPH2/100) -> 0 | I39: =F39+G39+H39 -> 0 | J39: =IF(CenaCelkemVypocet=0,"",I39/CenaCelkemVypocet*100)
A40: 2 | B40: 01 | C40: Tenisový dvojkurt | F40: =OVN!AC25+'01.1'!AC135+'01.2'!AC127 -> 0 | G40: =OVN!AD25+'01.1'!AD135+'01.2'!AD127 -> 0 | H40: =(F40*SazbaDPH1/100)+(G40*SazbaDPH2/100) -> 0 | I40: =F40+G40+H40 -> 0 | J40: =IF(CenaCelkemVypocet=0,"",I40/CenaCelkemVypocet*100)
A41: 3 | B41: OVN | C41: Ostatní a vedlejší náklady | F41: =OVN!AC25 -> 0 | G41: =OVN!AD25 -> 0 | H41: =(F41*SazbaDPH1/100)+(G41*SazbaDPH2/100) -> 0 | I41: =F41+G41+H41 -> 0 | J41: =IF(CenaCelkemVypocet=0,"",I41/CenaCelkemVypocet*100)
A42: 3 | B42: 01.1 | C42: Konstrukce kurtu | F42: ='01.1'!AC135 -> 0 | G42: ='01.1'!AD135 -> 0 | H42: =(F42*SazbaDPH1/100)+(G42*SazbaDPH2/100) -> 0 | I42: =F42+G42+H42 -> 0 | J42: =IF(CenaCelkemVypocet=0,"",I42/CenaCelkemVypocet*100)
A43: 3 | B43: 01.2 | C43: Zpevněné plochy, opěrná stěna a oplocení | F43: ='01.2'!AC127 -> 0 | G43: ='01.2'!AD127 -> 0 | H43: =(F43*SazbaDPH1/100)+(G43*SazbaDPH2/100) -> 0 | I43: =F43+G43+H43 -> 0 | J43: =IF(CenaCelkemVypocet=0,"",I43/CenaCelkemVypocet*100)
A44: 2 | B44: 02 | C44: Nafukovací hala pro dvojkurt | F44: ='O1'!AC23+'02.1'!AC63+'02.2'!AC14+'02.3'!AC14 -> 0 | G44: ='O1'!AD23+'02.1'!AD63+'02.2'!AD14+'02.3'!AD14 -> 0 | H44: =(F44*SazbaDPH1/100)+(G44*SazbaDPH2/100) -> 0 | I44: =F44+G44+H44 -> 0 | J44: =IF(CenaCelkemVypocet=0,"",I44/CenaCelkemVypocet*100)
A45: 3 | B45: OVN | C45: Ostatní a vedlejší náklady | F45: ='O1'!AC23 -> 0 | G45: ='O1'!AD23 -> 0 | H45: =(F45*SazbaDPH1/100)+(G45*SazbaDPH2/100) -> 0 | I45: =F45+G45+H45 -> 0 | J45: =IF(CenaCelkemVypocet=0,"",I45/CenaCelkemVypocet*100)
A46: 3 | B46: 02.1 | C46: Nafukovací hala a technologie | F46: ='02.1'!AC63 -> 0 | G46: ='02.1'!AD63 -> 0 | H46: =(F46*SazbaDPH1/100)+(G46*SazbaDPH2/100) -> 0 | I46: =F46+G46+H46 -> 0 | J46: =IF(CenaCelkemVypocet=0,"",I46/CenaCelkemVypocet*100)
A47: 3 | B47: 02.2 | C47: Přípojka NN | F47: ='02.2'!AC14 -> 0 | G47: ='02.2'!AD14 -> 0 | H47: =(F47*SazbaDPH1/100)+(G47*SazbaDPH2/100) -> 0 | I47: =F47+G47+H47 -> 0 | J47: =IF(CenaCelkemVypocet=0,"",I47/CenaCelkemVypocet*100)
A48: 3 | B48: 02.3 | C48: Přípojka plynu | F48: ='02.3'!AC14 -> 0 | G48: ='02.3'!AD14 -> 0 | H48: =(F48*SazbaDPH1/100)+(G48*SazbaDPH2/100) -> 0 | I48: =F48+G48+H48 -> 0 | J48: =IF(CenaCelkemVypocet=0,"",I48/CenaCelkemVypocet*100)
B49: Celkem za stavbu | F49: =SUMIF(A39:A48,"=1",F39:F48) -> 0 | G49: =SUMIF(A39:A48,"=1",G39:G48) -> 0 | H49: =SUMIF(A39:A48,"=1",H39:H48) -> 0 | I49: =SUMIF(A39:A48,"=1",I39:I48) -> 0 | J49: =SUMIF(A39:A48,"=1",J39:J48) -> 0
B53: Rekapitulace dílů
B54: Číslo | C54: Název | F54: Typ dílu | I54: Celkem | J54: %
B55: 1 | C55: Zemní práce | F55: HSV | I55: ='01.1'!G11+'01.2'!G11 -> 0 | J55: =IF(I76=0,"",I55/I76*100)
B56: 2 | C56: Základy a zvláštní zakládání | F56: HSV | I56: ='01.1'!G36+'01.2'!G35 -> 0 | J56: =IF(I76=0,"",I56/I76*100)
B57: 212 | C57: Drenáže | F57: HSV | I57: ='01.1'!G40 -> 0 | J57: =IF(I76=0,"",I57/I76*100)
B58: 55 | C58: Stabilizace podloží | F58: HSV | I58: ='01.1'!G45 -> 0 | J58: =IF(I76=0,"",I58/I76*100)
B59: 56 | C59: Podkladní vrstvy komunikací a zpevněných ploch | F59: HSV | I59: ='01.1'!G71+'01.2'!G50 -> 0 | J59: =IF(I76=0,"",I59/I76*100)
B60: 59 | C60: Komunikace dlážděné | F60: HSV | I60: ='01.2'!G71 -> 0 | J60: =IF(I76=0,"",I60/I76*100)
B61: 597 | C61: Odvodnění komunikací a zpevněných ploch | F61: HSV | I61: ='01.1'!G113 -> 0 | J61: =IF(I76=0,"",I61/I76*100)
B62: 598 | C62: Obrubníky, přídlažby, palisády | F62: HSV | I62: ='01.2'!G93 -> 0 | J62: =IF(I76=0,"",I62/I76*100)
B63: 8 | C63: Trubní vedení | F63: HSV | I63: ='02.3'!G11 -> 0 | J63: =IF(I76=0,"",I63/I76*100)
B64: 901 | C64: Oplocení | F64: HSV | I64: ='01.2'!G102 -> 0 | J64: =IF(I76=0,"",I64/I76*100)
B65: 99 | C65: Staveništní přesun hmot | F65: HSV | I65: ='01.1'!G129+'01.2'!G111 -> 0 | J65: =IF(I76=0,"",I65/I76*100)
B66: NH.1 | C66: Nafukovacia hala + príslušenstvo | F66: HSV | I66: ='02.1'!G11 -> 0 | J66: =IF(I76=0,"",I66/I76*100)
B67: NH.2 | C67: Technologie a dveře | F67: HSV | I67: ='02.1'!G37 -> 0 | J67: =IF(I76=0,"",I67/I76*100)
B68: NH.3 | C68: Kotvení | F68: HSV | I68: ='02.1'!G53 -> 0 | J68: =IF(I76=0,"",I68/I76*100)
B69: NH.4 | C69: Instalace a montáž nafukovací haly | F69: HSV | I69: ='02.1'!G58 -> 0 | J69: =IF(I76=0,"",I69/I76*100)
B70: SP | C70: Sportovní povrch | F70: HSV | I70: ='01.1'!G125 -> 0 | J70: =IF(I76=0,"",I70/I76*100)
B71: 711 | C71: Izolace proti vodě | F71: PSV | I71: ='01.2'!G117 -> 0 | J71: =IF(I76=0,"",I71/I76*100)
B72: 768 | C72: Konstrukce sportovního vybavení | F72: PSV | I72: ='01.1'!G122 -> 0 | J72: =IF(I76=0,"",I72/I76*100)
B73: M21 | C73: Elektromontáže | F73: MON | I73: ='02.2'!G11 -> 0 | J73: =IF(I76=0,"",I73/I76*100)
B74: VN | C74: Vedlejší náklady | F74: VN | I74: =OVN!G11+'O1'!G11 -> 0 | J74: =IF(I76=0,"",I74/I76*100)
B75: ON | C75: Ostatní náklady | F75: ON | I75: =OVN!G18+'O1'!G17 -> 0 | J75: =IF(I76=0,"",I75/I76*100)
B76: Cena celkem | I76: =SUM(I55:I75) -> 0 | J76: =SUM(J55:J75) -> 0

Sheet VzorPolozky
A1: Položkový rozpočet
A2: S:
A3: O:
A4: R:

Sheet OVN
A1: Položkový rozpočet | AE1: #TypZaznamu#
A2: S: | B2: 12 | C2: Tenisový dvojkurt, Bohuslavice u Kyjova | AE2: STA
A3: O: | AE3: OBJ
A4: R: | B4: 1 | C4: Tenisový dvojkurt, Bohuslavice u Kyjova | AE4: ROZ
A5: C: | B5: 1 | C5: Tenisový dvojkurt, Bohuslavice u Kyjova | AE5: CAS_STR
A6: C: | B6: 01 | C6: Tenisový dvojkurt | AE6: CAS_STA
A7: C: | B7: OVN | C7: Ostatní a vedlejší náklady | AE7: CAS_NAK
A9: # | B9: Číslo položky | C9: Název položky | D9: MJ | E9: Množství | F9: Cena / MJ | G9: Celkem | H9: Dodávka | I9: Dodávka celk. | J9: Montáž | K9: Montáž celk. | L9: DPH | M9: cena s DPH | N9: hmotnost / MJ | O9: hmotnost celk.(t) | P9: dem. hmotnost / MJ | Q9: dem. hmotnost celk.(t) | R9: Ceník | S9: Cen. soustava / platnost | T9: Cenová úroveň | U9: Nhod / MJ | V9: Nhod celk. | W9: Dodavatel | X9: Identifikace | AD9: CenaCelkem pro UzivDil | AE9: Typ | AF9: ParovaciUID
A11: Díl | B11: VN | C11: Vedlejší náklady | G11: =SUMIF(AE12:AE16,"<>NOR",G12:G16) -> 0 | I11: =SUM(I12:I16) -> 0 | K11: =SUM(K12:K16) -> 0 | M11: =SUM(M12:M16) -> 0 | O11: =SUM(O12:O16) -> 0 | Q11: =SUM(Q12:Q16) -> 0 | V11: =SUM(V12:V16) -> 0 | AE11: DIL
A12: 1 | B12: 005111020R | C12: Vytyčení stavby | D12: Soubor | E12: 1 | G12: =ROUND(E12*F12,2) -> 0 | I12: =ROUND(E12*H12,2) -> 0 | K12: =ROUND(E12*J12,2) -> 0 | L12: 21 | M12: =G12*(1+L12/100) -> 0 | N12: 0 | O12: =ROUND(E12*N12,2) -> 0 | P12: 0 | Q12: =ROUND(E12*P12,2) -> 0 | S12: Firemní | T12: Indiv | U12: 0 | V12: =ROUND(E12*U12,2) -> 0 | AE12: POL99_8 | AF12: 6C833048-3D12-459A-B04A-3F98D415CDC0
A13: 2 | B13: 005111021R | C13: Vytyčení inženýrských sítí | D13: Soubor | E13: 1 | G13: =ROUND(E13*F13,2) -> 0 | I13: =ROUND(E13*H13,2) -> 0 | K13: =ROUND(E13*J13,2) -> 0 | L13: 21 | M13: =G13*(1+L13/100) -> 0 | N13: 0 | O13: =ROUND(E13*N13,2) -> 0 | P13: 0 | Q13: =ROUND(E13*P13,2) -> 0 | S13: Firemní | T13: Indiv | U13: 0 | V13: =ROUND(E13*U13,2) -> 0 | AE13: POL99_8 | AF13: 6E38D2D2-F9E8-4CE4-AD7D-41F5C1DA5619
A14: 3 | B14: 005121010R | C14: Vybudování zařízení staveniště | D14: Soubor | E14: 1 | G14: =ROUND(E14*F14,2) -> 0 | I14: =ROUND(E14*H14,2) -> 0 | K14: =ROUND(E14*J14,2) -> 0 | L14: 21 | M14: =G14*(1+L14/100) -> 0 | N14: 0 | O14: =ROUND(E14*N14,2) -> 0 | P14: 0 | Q14: =ROUND(E14*P14,2) -> 0 | R14: 800-0 | S14: RTS 26/II | T14: Indiv | U14: 0 | V14: =ROUND(E14*U14,2) -> 0 | AE14: POL99_8 | AF14: CCE15760-ACA4-46B0-A2DE-458C2F718FB9
A15: 4 | B15: 005121020R | C15: Provoz zařízení staveniště | D15: Soubor | E15: 1 | G15: =ROUND(E15*F15,2) -> 0 | I15: =ROUND(E15*H15,2) -> 0 | K15: =ROUND(E15*J15,2) -> 0 | L15: 21 | M15: =G15*(1+L15/100) -> 0 | N15: 0 | O15: =ROUND(E15*N15,2) -> 0 | P15: 0 | Q15: =ROUND(E15*P15,2) -> 0 | R15: 800-0 | S15: RTS 26/II | T15: Indiv | U15: 0 | V15: =ROUND(E15*U15,2) -> 0 | AE15: POL99_8 | AF15: 8A013696-0EB5-4E73-B3D4-CF8A4E323721
A16: 5 | B16: 005121030R | C16: Odstranění zařízení staveniště | D16: Soubor | E16: 1 | G16: =ROUND(E16*F16,2) -> 0 | I16: =ROUND(E16*H16,2) -> 0 | K16: =ROUND(E16*J16,2) -> 0 | L16: 21 | M16: =G16*(1+L16/100) -> 0 | N16: 0 | O16: =ROUND(E16*N16,2) -> 0 | P16: 0 | Q16: =ROUND(E16*P16,2) -> 0 | R16: 800-0 | S16: RTS 26/II | T16: Indiv | U16: 0 | V16: =ROUND(E16*U16,2) -> 0 | AE16: POL99_8 | AF16: 962A94E5-DBCE-429C-919E-2D52A40913C9
A18: Díl | B18: ON | C18: Ostatní náklady | G18: =SUMIF(AE19:AE23,"<>NOR",G19:G23) -> 0 | I18: =SUM(I19:I23) -> 0 | K18: =SUM(K19:K23) -> 0 | M18: =SUM(M19:M23) -> 0 | O18: =SUM(O19:O23) -> 0 | Q18: =SUM(Q19:Q23) -> 0 | V18: =SUM(V19:V23) -> 0 | AE18: DIL
A19: 6 | B19: 005211030R | C19: Dočasná dopravní opatření | D19: Soubor | E19: 1 | G19: =ROUND(E19*F19,2) -> 0 | I19: =ROUND(E19*H19,2) -> 0 | K19: =ROUND(E19*J19,2) -> 0 | L19: 21 | M19: =G19*(1+L19/100) -> 0 | N19: 0 | O19: =ROUND(E19*N19,2) -> 0 | P19: 0 | Q19: =ROUND(E19*P19,2) -> 0 | R19: 800-0 | S19: RTS 26/II | T19: Indiv | U19: 0 | V19: =ROUND(E19*U19,2) -> 0 | AE19: POL99_8 | AF19: 9101E740-A553-4A62-B781-746ADE11DB48
A20: 7 | B20: 005211084R | C20: Uvedení uzemí staveniště do původního stavu | D20: Soubor | E20: 1 | G20: =ROUND(E20*F20,2) -> 0 | I20: =ROUND(E20*H20,2) -> 0 | K20: =ROUND(E20*J20,2) -> 0 | L20: 21 | M20: =G20*(1+L20/100) -> 0 | N20: 0 | O20: =ROUND(E20*N20,2) -> 0 | P20: 0 | Q20: =ROUND(E20*P20,2) -> 0 | S20: Firemní | T20: Indiv | U20: 0 | V20: =ROUND(E20*U20,2) -> 0 | AE20: POL99_8 | AF20: ECEB0EB5-C08A-443A-A20E-3C82FFEF685C
A21: 8 | B21: 005231021R | C21: Rázová zatěžovací zkouška podloží | D21: Soubor | E21: 4 | G21: =ROUND(E21*F21,2) -> 0 | I21: =ROUND(E21*H21,2) -> 0 | K21: =ROUND(E21*J21,2) -> 0 | L21: 21 | M21: =G21*(1+L21/100) -> 0 | N21: 0 | O21: =ROUND(E21*N21,2) -> 0 | P21: 0 | Q21: =ROUND(E21*P21,2) -> 0 | S21: Firemní | T21: Indiv | U21: 0 | V21: =ROUND(E21*U21,2) -> 0 | AE21: POL99_8 | AF21: D5CCB03C-1F04-478E-BBC1-C1C6C140CED6
A22: 9 | B22: 005241010R | C22: Dokumentace skutečného provedení | D22: Soubor | E22: 1 | G22: =ROUND(E22*F22,2) -> 0 | I22: =ROUND(E22*H22,2) -> 0 | K22: =ROUND(E22*J22,2) -> 0 | L22: 21 | M22: =G22*(1+L22/100) -> 0 | N22: 0 | O22: =ROUND(E22*N22,2) -> 0 | P22: 0 | Q22: =ROUND(E22*P22,2) -> 0 | R22: 800-0 | S22: RTS 26/II | T22: Indiv | U22: 0 | V22: =ROUND(E22*U22,2) -> 0 | AE22: POL99_8 | AF22: BCB2E8DA-EDB1-4BBB-B8F8-1EDD885DF017
A23: 10 | B23: 005241020R | C23: Geodetické zaměření skutečného provedení | D23: Soubor | E23: 1 | G23: =ROUND(E23*F23,2) -> 0 | I23: =ROUND(E23*H23,2) -> 0 | K23: =ROUND(E23*J23,2) -> 0 | L23: 21 | M23: =G23*(1+L23/100) -> 0 | N23: 0 | O23: =ROUND(E23*N23,2) -> 0 | P23: 0 | Q23: =ROUND(E23*P23,2) -> 0 | R23: 800-0 | S23: RTS 26/II | T23: Indiv | U23: 0 | V23: =ROUND(E23*U23,2) -> 0 | AE23: POL99_8 | AF23: 2EBEEE16-E861-4925-96EB-12543E7311FD
AC24: 12 | AD24: 21
B25: Celkem | G25: =G11+G18 -> 0 | AC25: =SUMIF(L7:L23,AC24,G7:G23) -> 0 | AD25: =SUMIF(L7:L23,AD24,G7:G23) -> 0 | AE25: SUM
A28: Poznámky uchazeče k zadání
AE29: POPUZIV
AE35: END

Sheet 01.1
A1: Položkový rozpočet | AE1: #TypZaznamu#
A2: S: | B2: 12 | C2: Tenisový dvojkurt, Bohuslavice u Kyjova | AE2: STA
A3: O: | AE3: OBJ
A4: R: | B4: 1 | C4: Tenisový dvojkurt, Bohuslavice u Kyjova | AE4: ROZ
A5: C: | B5: 1 | C5: Tenisový dvojkurt, Bohuslavice u Kyjova | AE5: CAS_STR
A6: C: | B6: 01 | C6: Tenisový dvojkurt | AE6: CAS_STA
A7: C: | B7: 01.1 | C7: Konstrukce kurtu | AE7: CAS_STA
A9: # | B9: Číslo položky | C9: Název položky | D9: MJ | E9: Množství | F9: Cena / MJ | G9: Celkem | H9: Dodávka | I9: Dodávka celk. | J9: Montáž | K9: Montáž celk. | L9: DPH | M9: cena s DPH | N9: hmotnost / MJ | O9: hmotnost celk.(t) | P9: dem. hmotnost / MJ | Q9: dem. hmotnost celk.(t) | R9: Ceník | S9: Cen. soustava / platnost | T9: Cenová úroveň | U9: Nhod / MJ | V9: Nhod celk. | W9: Dodavatel | X9: Identifikace | AD9: CenaCelkem pro UzivDil | AE9: Typ | AF9: ParovaciUID
A11: Díl | B11: 1 | C11: Zemní práce | G11: =SUMIF(AE12:AE34,"<>NOR",G12:G34) -> 0 | I11: =SUM(I12:I34) -> 0 | K11: =SUM(K12:K34) -> 0 | M11: =SUM(M12:M34) -> 0 | O11: =SUM(O12:O34) -> 0.03 | Q11: =SUM(Q12:Q34) -> 0 | V11: =SUM(V12:V34) -> 534.14 | AE11: DIL
A12: 1 | B12: 121101103R00 | C12: Sejmutí ornice s přemístěním přes 100 do 250 m | D12: m3 | E12: 191.91 | G12: =ROUND(E12*F12,2) -> 0 | I12: =ROUND(E12*H12,2) -> 0 | K12: =ROUND(E12*J12,2) -> 0 | L12: 21 | M12: =G12*(1+L12/100) -> 0 | N12: 0 | O12: =ROUND(E12*N12,2) -> 0 | P12: 0 | Q12: =ROUND(E12*P12,2) -> 0 | R12: 800-1 | S12: RTS 26/II | T12: RTS 26/I | U12: 0.0134 | V12: =ROUND(E12*U12,2) -> 2.57 | AE12: POL1_ | AF12: FD15361E-70AB-478A-9219-5A422E823013
B13: Skrývka ornice : 1279,4*0,15 | E13: 191.91 | AE13: VV | AF13: 0 | AI13: Skrývka ornice : 1279,4*0,15
A14: 2 | B14: 122202202R00 | C14: Odkopávky pro silnice v hor. 3 do 1000 m3 | D14: m3 | E14: 631.04125 | G14: =ROUND(E14*F14,2) -> 0 | I14: =ROUND(E14*H14,2) -> 0 | K14: =ROUND(E14*J14,2) -> 0 | L14: 21 | M14: =G14*(1+L14/100) -> 0 | N14: 0 | O14: =ROUND(E14*N14,2) -> 0 | P14: 0 | Q14: =ROUND(E14*P14,2) -> 0 | R14: 800-1 | S14: RTS 26/II | T14: RTS 26/I | U14: 0.223 | V14: =ROUND(E14*U14,2) -> 140.72 | AE14: POL1_ | AF14: 2DC3A4E9-80E4-4E54-A299-57827B3A08DF
B15: Výkop podkladu : | AE15: VV | AF15: 0 | AI15: Výkop podkladu :
B16: - tenisový kurt : 36,5*36,5*0,55*1,1 | E16: 806.01125 | AE16: VV | AF16: 0 | AI16: - tenisový kurt : 36,5*36,5*0,55*1,1
B17: - ŽB deska : 4,0*7,0*0,55*1,1 | E17: 16.94 | AE17: VV | AF17: 0 | AI17: - ŽB deska : 4,0*7,0*0,55*1,1
B18: Ornice : -191,91 | E18: -191.91 | AE18: VV | AF18: 0 | AI18: Ornice : -191,91
A19: 3 | B19: 162301102R00 | C19: Vodorovné přemístění výkopku z hor.1-4 do 1000 m | D19: m3 | E19: 822.95125 | G19: =ROUND(E19*F19,2) -> 0 | I19: =ROUND(E19*H19,2) -> 0 | K19: =ROUND(E19*J19,2) -> 0 | L19: 21 | M19: =G19*(1+L19/100) -> 0 | N19: 0 | O19: =ROUND(E19*N19,2) -> 0 | P19: 0 | Q19: =ROUND(E19*P19,2) -> 0 | R19: 800-1 | S19: RTS 26/II | T19: RTS 26/I | U19: 0.011 | V19: =ROUND(E19*U19,2) -> 9.05 | AE19: POL1_ | AF19: 07DC410A-A79A-46FE-A7FF-695C02B6CB1B
B20: Odkaz na mn. položky pořadí 1 : 191,91000 | E20: 191.91 | AE20: VV | AF20: 5 | AI20: Odkaz na mn. položky pořadí 1 : 191,91000
B21: Odkaz na mn. položky pořadí 2 : 631,04125 | E21: 631.04125 | AE21: VV | AF21: 5 | AI21: Odkaz na mn. položky pořadí 2 : 631,04125
A22: 4 | B22: 162802512R00 | C22: Příplatek k vodorov. přemístění hor.1-4 do 1000 m | D22: m3 | E22: 16459.025 | G22: =ROUND(E22*F22,2) -> 0 | I22: =ROUND(E22*H22,2) -> 0 | K22: =ROUND(E22*J22,2) -> 0 | L22: 21 | M22: =G22*(1+L22/100) -> 0 | N22: 0 | O22: =ROUND(E22*N22,2) -> 0 | P22: 0 | Q22: =ROUND(E22*P22,2) -> 0 | R22: 800-1 | S22: RTS 26/II | T22: RTS 26/I | U22: 0 | V22: =ROUND(E22*U22,2) -> 0 | AE22: POL1_ | AF22: 897275E1-69BA-42E7-9DB6-7B687D5C165A
B23: Odvoz zeminy do 20 km : | AE23: VV | AF23: 0 | AI23: Odvoz zeminy do 20 km :
B24: Odkaz na mn. položky pořadí 3 : 822,95125*20 | E24: 16459.025 | AE24: VV | AF24: 5 | AI24: Odkaz na mn. položky pořadí 3 : 822,95125*20
A25: 5 | B25: 167101102R00 | C25: Nakládání výkopku z hor. 1 ÷ 4 v množství nad 100 m3 | D25: m3 | E25: 822.95125 | G25: =ROUND(E25*F25,2) -> 0 | I25: =ROUND(E25*H25,2) -> 0 | K25: =ROUND(E25*J25,2) -> 0 | L25: 21 | M25: =G25*(1+L25/100) -> 0 | N25: 0 | O25: =ROUND(E25*N25,2) -> 0 | P25: 0 | Q25: =ROUND(E25*P25,2) -> 0 | R25: 800-1 | S25: RTS 26/II | T25: RTS 26/I | U25: 0.053 | V25: =ROUND(E25*U25,2) -> 43.62 | AE25: POL1_ | AF25: 9A520D58-A3DD-4745-8523-CC3E92548D37
B26: Odkaz na mn. položky pořadí 3 : 822,95125 | E26: 822.95125 | AE26: VV | AF26: 5 | AI26: Odkaz na mn. položky pořadí 3 : 822,95125
A27: 6 | B27: 171201201R00 | C27: Uložení sypaniny na skl.-sypanina na výšku přes 2m | D27: m3 | E27: 822.95125 | G27: =ROUND(E27*F27,2) -> 0 | I27: =ROUND(E27*H27,2) -> 0 | K27: =ROUND(E27*J27,2) -> 0 | L27: 21 | M27: =G27*(1+L27/100) -> 0 | N27: 0 | O27: =ROUND(E27*N27,2) -> 0 | P27: 0 | Q27: =ROUND(E27*P27,2) -> 0 | R27: 800-1 | S27: RTS 26/II | T27: RTS 26/I | U27: 0.009 | V27: =ROUND(E27*U27,2) -> 7.41 | AE27: POL1_ | AF27: A30F8735-7E7C-48F9-8492-EC3E8880342C
B28: Odkaz na mn. položky pořadí 3 : 822,95125 | E28: 822.95125 | AE28: VV | AF28: 5 | AI28: Odkaz na mn. položky pořadí 3 : 822,95125
A29: 7 | B29: 199000002R00 | C29: Poplatek za skládku horniny 1- 4, č. dle katal. odpadů 17 05 04 | D29: m3 | E29: 822.95125 | G29: =ROUND(E29*F29,2) -> 0 | I29: =ROUND(E29*H29,2) -> 0 | K29: =ROUND(E29*J29,2) -> 0 | L29: 21 | M29: =G29*(1+L29/100) -> 0 | N29: 0 | O29: =ROUND(E29*N29,2) -> 0 | P29: 0 | Q29: =ROUND(E29*P29,2) -> 0 | R29: 800-1 | S29: RTS 26/II | T29: RTS 26/I | U29: 0 | V29: =ROUND(E29*U29,2) -> 0 | AE29: POL1_ | AF29: DE68E17F-5902-408E-BFFB-526A01992952
B30: Odkaz na mn. položky pořadí 3 : 822,95125 | E30: 822.95125 | AE30: VV | AF30: 5 | AI30: Odkaz na mn. položky pořadí 3 : 822,95125
A31: 8 | B31: 181300012RAA | C31: Rozprostření ornice v rovině tloušťka 200 mm, dovoz ornice ze vzdálenosti 500 m, osetí trávou | D31: m2 | E31: 955 | G31: =ROUND(E31*F31,2) -> 0 | I31: =ROUND(E31*H31,2) -> 0 | K31: =ROUND(E31*J31,2) -> 0 | L31: 21 | M31: =G31*(1+L31/100) -> 0 | N31: 3e-05 | O31: =ROUND(E31*N31,2) -> 0.03 | P31: 0 | Q31: =ROUND(E31*P31,2) -> 0 | R31: AP-HSV | S31: RTS 26/II | T31: RTS 26/I | U31: 0.33367 | V31: =ROUND(E31*U31,2) -> 318.65 | AE31: POL2_ | AF31: D2D05443-F446-425C-9610-EC1F4668221F
B32: 191/0,20 | E32: 955 | AE32: VV | AF32: 0 | AI32: 191/0,20
A33: 9 | B33: 111200001RA0 | C33: Odstranění křovin a stromů do 100 mm, spálení | D33: m2 | E33: 60 | G33: =ROUND(E33*F33,2) -> 0 | I33: =ROUND(E33*H33,2) -> 0 | K33: =ROUND(E33*J33,2) -> 0 | L33: 21 | M33: =G33*(1+L33/100) -> 0 | N33: 5e-05 | O33: =ROUND(E33*N33,2) -> 0 | P33: 0 | Q33: =ROUND(E33*P33,2) -> 0 | R33: AP-HSV | S33: RTS 26/II | T33: RTS 26/II | U33: 0.202 | V33: =ROUND(E33*U33,2) -> 12.12 | AE33: POL2_ | AF33: 90F2ED39-E6A0-40C8-8EB9-A42CD5B96AA7
B34: Odstranění náletových křovin : 30,0*2,0 | E34: 60 | AE34: VV | AF34: 0 | AI34: Odstranění náletových křovin : 30,0*2,0
A36: Díl | B36: 2 | C36: Základy a zvláštní zakládání | G36: =SUMIF(AE37:AE38,"<>NOR",G37:G38) -> 0 | I36: =SUM(I37:I38) -> 0 | K36: =SUM(K37:K38) -> 0 | M36: =SUM(M37:M38) -> 0 | O36: =SUM(O37:O38) -> 2.36 | Q36: =SUM(Q37:Q38) -> 0 | V36: =SUM(V37:V38) -> 7.68 | AE36: DIL
A37: 10 | B37: 275310040RA0 | C37: Základová patka z betonu prostého C 20/25, včetně bednění | D37: m3 | E37: 0.8 | G37: =ROUND(E37*F37,2) -> 0 | I37: =ROUND(E37*H37,2) -> 0 | K37: =ROUND(E37*J37,2) -> 0 | L37: 21 | M37: =G37*(1+L37/100) -> 0 | N37: 2.9523 | O37: =ROUND(E37*N37,2) -> 2.36 | P37: 0 | Q37: =ROUND(E37*P37,2) -> 0 | R37: AP-HSV | S37: RTS 26/II | T37: RTS 26/I | U37: 9.6056 | V37: =ROUND(E37*U37,2) -> 7.68 | AE37: POL2_ | AF37: 171EF2AB-0BE2-43F4-8D1A-A14F3CC357AB
B38: Patky pro sloupky sítě : 4*(0,5*0,5*0,8) | E38: 0.8 | AE38: VV | AF38: 0 | AI38: Patky pro sloupky sítě : 4*(0,5*0,5*0,8)
A40: Díl | B40: 212 | C40: Drenáže | G40: =SUMIF(AE41:AE43,"<>NOR",G41:G43) -> 0 | I40: =SUM(I41:I43) -> 0 | K40: =SUM(K41:K43) -> 0 | M40: =SUM(M41:M43) -> 0 | O40: =SUM(O41:O43) -> 117.31 | Q40: =SUM(Q41:Q43) -> 0 | V40: =SUM(V41:V43) -> 257.09 | AE40: DIL
A41: 11 | B41: 212810010RAC | C41: Trativody z PVC drenážních flexibilních trubek, lože štěrkopískové, obsyp kamenivem, trubky průměr 100 mm | D41: m | E41: 250 | G41: =ROUND(E41*F41,2) -> 0 | I41: =ROUND(E41*H41,2) -> 0 | K41: =ROUND(E41*J41,2) -> 0 | L41: 21 | M41: =G41*(1+L41/100) -> 0 | N41: 0.43651 | O41: =ROUND(E41*N41,2) -> 109.13 | P41: 0 | Q41: =ROUND(E41*P41,2) -> 0 | R41: AP-HSV | S41: RTS 26/II | T41: RTS 26/I | U41: 0.78386 | V41: =ROUND(E41*U41,2) -> 195.97 | AE41: POL2_ | AF41: ECB735B4-CC71-4682-964E-E1A4B610707F
B42: osazení drenáží v případě potencionální přítomnosti spodní vody : 250 | E42: 250 | AE42: VV | AF42: 0 | AI42: osazení drenáží v případě potencionální přítomnosti spodní vody : 250
A43: 12 | B43: 213150060RAD | C43: Vsakovací objekt pro odvodnění zpevněné plochy 2000 m2 | D43: soubor | E43: 1 | G43: =ROUND(E43*F43,2) -> 0 | I43: =ROUND(E43*H43,2) -> 0 | K43: =ROUND(E43*J43,2) -> 0 | L43: 21 | M43: =G43*(1+L43/100) -> 0 | N43: 8.18372 | O43: =ROUND(E43*N43,2) -> 8.18 | P43: 0 | Q43: =ROUND(E43*P43,2) -> 0 | S43: Firemní | T43: Indiv | U43: 61.12362 | V43: =ROUND(E43*U43,2) -> 61.12 | AE43: POL2_ | AF43: 2562BA21-3E62-42A6-8CEA-402C68F7B662
A45: Díl | B45: 55 | C45: Stabilizace podloží | G45: =SUMIF(AE46:AE69,"<>NOR",G46:G69) -> 0 | I45: =SUM(I46:I69) -> 0 | K45: =SUM(K46:K69) -> 0 | M45: =SUM(M46:M69) -> 0 | O45: =SUM(O46:O69) -> 1032.81 | Q45: =SUM(Q46:Q69) -> 0 | V45: =SUM(V46:V69) -> 233.12 | AE45: DIL
A46: 13 | B46: 122202202R00 | C46: Odkopávky pro silnice v hor. 3 do 1000 m3 | D46: m3 | E46: 448.8825 | G46: =ROUND(E46*F46,2) -> 0 | I46: =ROUND(E46*H46,2) -> 0 | K46: =ROUND(E46*J46,2) -> 0 | L46: 21 | M46: =G46*(1+L46/100) -> 0 | N46: 0 | O46: =ROUND(E46*N46,2) -> 0 | P46: 0 | Q46: =ROUND(E46*P46,2) -> 0 | R46: 800-1 | S46: RTS 26/II | T46: RTS 26/I | U46: 0.223 | V46: =ROUND(E46*U46,2) -> 100.1 | AE46: POL1_ | AF46: 41F74D7D-9152-4D91-AE24-13B7C8562839
B47: V případě nevyhovující únosnosti pláně (min. 45 MPa) provedení stabilizačních opatření - předpoklad ŠD 0-63 mm tl. 300mm : | AE47: VV | AF47: 0 | AI47: V případě nevyhovující únosnosti pláně (min. 45 MPa) provedení stabilizačních opatření - předpoklad ŠD 0-63 mm tl. 300mm :
B48: - tenisový kurt : 36,5*36,5*0,30*1,1 | E48: 439.6425 | AE48: VV | AF48: 0 | AI48: - tenisový kurt : 36,5*36,5*0,30*1,1
B49: - ŽB deska : 4,0*7,0*0,30*1,1 | E49: 9.24 | AE49: VV | AF49: 0 | AI49: - ŽB deska : 4,0*7,0*0,30*1,1
A50: 14 | B50: 162301102R00 | C50: Vodorovné přemístění výkopku z hor.1-4 do 1000 m | D50: m3 | E50: 448.8825 | G50: =ROUND(E50*F50,2) -> 0 | I50: =ROUND(E50*H50,2) -> 0 | K50: =ROUND(E50*J50,2) -> 0 | L50: 21 | M50: =G50*(1+L50/100) -> 0 | N50: 0 | O50: =ROUND(E50*N50,2) -> 0 | P50: 0 | Q50: =ROUND(E50*P50,2) -> 0 | R50: 800-1 | S50: RTS 26/II | T50: RTS 26/I | U50: 0.011 | V50: =ROUND(E50*U50,2) -> 4.94 | AE50: POL1_ | AF50: 27595445-F014-4C1F-9346-0F23646945BB
A51: 15 | B51: 162802512R00 | C51: Příplatek k vodorov. přemístění hor.1-4 do 1000 m | D51: m3 | E51: 8977.65 | G51: =ROUND(E51*F51,2) -> 0 | I51: =ROUND(E51*H51,2) -> 0 | K51: =ROUND(E51*J51,2) -> 0 | L51: 21 | M51: =G51*(1+L51/100) -> 0 | N51: 0 | O51: =ROUND(E51*N51,2) -> 0 | P51: 0 | Q51: =ROUND(E51*P51,2) -> 0 | R51: 800-1 | S51: RTS 26/II | T51: RTS 26/I | U51: 0 | V51: =ROUND(E51*U51,2) -> 0 | AE51: POL1_ | AF51: BD75A661-BFC7-4E85-988D-96F7B22B571A
B52: 448,8825*20 | E52: 8977.65 | AE52: VV | AF52: 0 | AI52: 448,8825*20
A53: 16 | B53: 167101102R00 | C53: Nakládání výkopku z hor. 1 ÷ 4 v množství nad 100 m3 | D53: m3 | E53: 448.8825 | G53: =ROUND(E53*F53,2) -> 0 | I53: =ROUND(E53*H53,2) -> 0 | K53: =ROUND(E53*J53,2) -> 0 | L53: 21 | M53: =G53*(1+L53/100) -> 0 | N53: 0 | O53: =ROUND(E53*N53,2) -> 0 | P53: 0 | Q53: =ROUND(E53*P53,2) -> 0 | R53: 800-1 | S53: RTS 26/II | T53: RTS 26/I | U53: 0.053 | V53: =ROUND(E53*U53,2) -> 23.79 | AE53: POL1_ | AF53: 046E902E-F4B2-4F27-8319-4D0E0CF794A4
A54: 17 | B54: 171201201R00 | C54: Uložení sypaniny na skl.-sypanina na výšku přes 2m | D54: m3 | E54: 448.8825 | G54: =ROUND(E54*F54,2) -> 0 | I54: =ROUND(E54*H54,2) -> 0 | K54: =ROUND(E54*J54,2) -> 0 | L54: 21 | M54: =G54*(1+L54/100) -> 0 | N54: 0 | O54: =ROUND(E54*N54,2) -> 0 | P54: 0 | Q54: =ROUND(E54*P54,2) -> 0 | R54: 800-1 | S54: RTS 26/II | T54: RTS 26/I | U54: 0.009 | V54: =ROUND(E54*U54,2) -> 4.04 | AE54: POL1_ | AF54: 474C96A6-72D6-41D3-8F53-C804FA5D0116
A55: 18 | B55: 199000002R00 | C55: Poplatek za skládku horniny 1- 4, č. dle katal. odpadů 17 05 04 | D55: m3 | E55: 448.8825 | G55: =ROUND(E55*F55,2) -> 0 | I55: =ROUND(E55*H55,2) -> 0 | K55: =ROUND(E55*J55,2) -> 0 | L55: 21 | M55: =G55*(1+L55/100) -> 0 | N55: 0 | O55: =ROUND(E55*N55,2) -> 0 | P55: 0 | Q55: =ROUND(E55*P55,2) -> 0 | R55: 800-1 | S55: RTS 26/II | T55: RTS 26/I | U55: 0 | V55: =ROUND(E55*U55,2) -> 0 | AE55: POL1_ | AF55: 7A23C10E-46AD-46CB-BF82-A0C65309B7DF
A56: 19 | B56: 289971211R00 | C56: Zřízení vrstvy z geotextilie sklon do 1:5 š.do 3 m | D56: m2 | E56: 1496.275 | G56: =ROUND(E56*F56,2) -> 0 | I56: =ROUND(E56*H56,2) -> 0 | K56: =ROUND(E56*J56,2) -> 0 | L56: 21 | M56: =G56*(1+L56/100) -> 0 | N56: 3e-05 | O56: =ROUND(E56*N56,2) -> 0.04 | P56: 0 | Q56: =ROUND(E56*P56,2) -> 0 | R56: 800-2 | S56: RTS 26/II | T56: RTS 26/I | U56: 0.044 | V56: =ROUND(E56*U56,2) -> 65.84 | AE56: POL1_ | AF56: 33649970-EB4F-4856-95F3-541151412DA6
B57: V případě nevyhovující únosnosti pláně (min. 45 MPa) provedení stabilizačních opatření - předpoklad geotextílie 300 g/m2 : | AE57: VV | AF57: 0 | AI57: V případě nevyhovující únosnosti pláně (min. 45 MPa) provedení stabilizačních opatření - předpoklad geotextílie 300 g/m2 :
B58: - tenisový kurt : 36,5*36,5*1,1 | E58: 1465.475 | AE58: VV | AF58: 0 | AI58: - tenisový kurt : 36,5*36,5*1,1
B59: - ŽB deska : 4,0*7,0*1,1 | E59: 30.8 | AE59: VV | AF59: 0 | AI59: - ŽB deska : 4,0*7,0*1,1
A60: 20 | B60: 564581111R00 | C60: Zřízení podsypu nebo podkladu ze sypaniny tl. 300 mm po zhutnění | D60: m2 | E60: 1496.275 | G60: =ROUND(E60*F60,2) -> 0 | I60: =ROUND(E60*H60,2) -> 0 | K60: =ROUND(E60*J60,2) -> 0 | L60: 21 | M60: =G60*(1+L60/100) -> 0 | N60: 0 | O60: =ROUND(E60*N60,2) -> 0 | P60: 0 | Q60: =ROUND(E60*P60,2) -> 0 | R60: 822-1 | S60: RTS 26/II | T60: RTS 26/I | U60: 0.023 | V60: =ROUND(E60*U60,2) -> 34.41 | AE60: POL1_ | AF60: 3DFD4FB1-E671-4995-A401-8B1B646F59E4
B61: V případě nevyhovující únosnosti pláně (min. 45 MPa) provedení stabilizačních opatření - předpoklad ŠD 0-63 mm tl. 300mm : | AE61: VV | AF61: 0 | AI61: V případě nevyhovující únosnosti pláně (min. 45 MPa) provedení stabilizačních opatření - předpoklad ŠD 0-63 mm tl. 300mm :
B62: - tenisový kurt : 36,5*36,5*1,1 | E62: 1465.475 | AE62: VV | AF62: 0 | AI62: - tenisový kurt : 36,5*36,5*1,1
B63: - ŽB deska : 4,0*7,0*1,1 | E63: 30.8 | AE63: VV | AF63: 0 | AI63: - ŽB deska : 4,0*7,0*1,1
A64: 21 | B64: 583423602R | C64: Kamenivo drcené 0/63 | D64: t | E64: 1032.4298 | G64: =ROUND(E64*F64,2) -> 0 | I64: =ROUND(E64*H64,2) -> 0 | K64: =ROUND(E64*J64,2) -> 0 | L64: 21 | M64: =G64*(1+L64/100) -> 0 | N64: 1 | O64: =ROUND(E64*N64,2) -> 1032.43 | P64: 0 | Q64: =ROUND(E64*P64,2) -> 0 | R64: SPCM | S64: RTS 26/II | T64: RTS 26/I | U64: 0 | V64: =ROUND(E64*U64,2) -> 0 | AE64: POL3_0 | AF64: F4221956-0BCB-4817-B6A6-FA5FA8025185
B65: V případě nevyhovující únosnosti pláně (min. 45 MPa) provedení stabilizačních opatření - předpoklad ŠD 0-63 mm tl. 300mm : 1496,275*0,30*2,30 | E65: 1032.4298 | AE65: VV | AF65: 0 | AI65: V případě nevyhovující únosnosti pláně (min. 45 MPa) provedení stabilizačních opatření - předpoklad ŠD 0-63 mm tl. 300mm : 1496,275*0,30*2,30
A66: 22 | B66: 69365032R | C66: Geotextilie BS16 5x100 m černá | D66: m2 | E66: 1720.7162 | G66: =ROUND(E66*F66,2) -> 0 | I66: =ROUND(E66*H66,2) -> 0 | K66: =ROUND(E66*J66,2) -> 0 | L66: 21 | M66: =G66*(1+L66/100) -> 0 | N66: 0.0002 | O66: =ROUND(E66*N66,2) -> 0.34 | P66: 0 | Q66: =ROUND(E66*P66,2) -> 0 | R66: SPCM | S66: RTS 26/II | T66: RTS 26/I | U66: 0 | V66: =ROUND(E66*U66,2) -> 0 | AE66: POL3_0 | AF66: 7C634204-73EA-4C0D-8F87-FBE631EA53E7
B67: V případě nevyhovující únosnosti pláně (min. 45 MPa) provedení stabilizačních opatření - předpoklad geotextílie 300 g/m2 : | AE67: VV | AF67: 0 | AI67: V případě nevyhovující únosnosti pláně (min. 45 MPa) provedení stabilizačních opatření - předpoklad geotextílie 300 g/m2 :
B68: - tenisový kurt : 1465,475*1,15 | E68: 1685.2963 | AE68: VV | AF68: 0 | AI68: - tenisový kurt : 1465,475*1,15
B69: - ŽB deska : 30,8*1,15 | E69: 35.42 | AE69: VV | AF69: 0 | AI69: - ŽB deska : 30,8*1,15
A71: Díl | B71: 56 | C71: Podkladní vrstvy komunikací a zpevněných ploch | G71: =SUMIF(AE72:AE111,"<>NOR",G72:G111) -> 0 | I71: =SUM(I72:I111) -> 0 | K71: =SUM(K72:K111) -> 0 | M71: =SUM(M72:M111) -> 0 | O71: =SUM(O72:O111) -> 2226.18 | Q71: =SUM(Q72:Q111) -> 0 | V71: =SUM(V72:V111) -> 1163.44 | AE71: DIL
A72: 23 | B72: 181101102R00 | C72: Úprava pláně v zářezech v hor. 1-4, se zhutněním | D72: m2 | E72: 1496.275 | G72: =ROUND(E72*F72,2) -> 0 | I72: =ROUND(E72*H72,2) -> 0 | K72: =ROUND(E72*J72,2) -> 0 | L72: 21 | M72: =G72*(1+L72/100) -> 0 | N72: 0 | O72: =ROUND(E72*N72,2) -> 0 | P72: 0 | Q72: =ROUND(E72*P72,2) -> 0 | R72: 800-1 | S72: RTS 26/II | T72: RTS 26/I | U72: 0.018 | V72: =ROUND(E72*U72,2) -> 26.93 | AE72: POL1_ | AF72: FEE81C39-7112-41B3-B2EC-1C33743D9218
B73: Zhutnění podkladu : | AE73: VV | AF73: 0 | AI73: Zhutnění podkladu :
B74: - tenisový kurt : 36,5*36,5*1,1 | E74: 1465.475 | AE74: VV | AF74: 0 | AI74: - tenisový kurt : 36,5*36,5*1,1
B75: - ŽB deska : 4,0*7,0*1,1 | E75: 30.8 | AE75: VV | AF75: 0 | AI75: - ŽB deska : 4,0*7,0*1,1
A76: 24 | B76: 564551111R00 | C76: Zřízení podsypu nebo podkladu ze sypaniny tl. 150 mm po zhutnění | D76: m2 | E76: 1496.275 | G76: =ROUND(E76*F76,2) -> 0 | I76: =ROUND(E76*H76,2) -> 0 | K76: =ROUND(E76*J76,2) -> 0 | L76: 21 | M76: =G76*(1+L76/100) -> 0 | N76: 0 | O76: =ROUND(E76*N76,2) -> 0 | P76: 0 | Q76: =ROUND(E76*P76,2) -> 0 | R76: 822-1 | S76: RTS 26/II | T76: RTS 26/I | U76: 0.016 | V76: =ROUND(E76*U76,2) -> 23.94 | AE76: POL1_ | AF76: B0943197-2D4F-4097-9B0E-61DDA83D260E
B77: Podkladní vrstvy : | AE77: VV | AF77: 0 | AI77: Podkladní vrstvy :
B78: - tenisový kurt (ŠD 0-32 mm, tl. 150 mm) : 36,5*36,5*1,1 | E78: 1465.475 | AE78: VV | AF78: 0 | AI78: - tenisový kurt (ŠD 0-32 mm, tl. 150 mm) : 36,5*36,5*1,1
B79: - ŽB deska (ŠD 0-32 mm, tl. 150 mm) : 4,0*7,0*1,1 | E79: 30.8 | AE79: VV | AF79: 0 | AI79: - ŽB deska (ŠD 0-32 mm, tl. 150 mm) : 4,0*7,0*1,1
A80: 25 | B80: 564581111R00 | C80: Zřízení podsypu nebo podkladu ze sypaniny tl. 300 mm po zhutnění | D80: m2 | E80: 1496.275 | G80: =ROUND(E80*F80,2) -> 0 | I80: =ROUND(E80*H80,2) -> 0 | K80: =ROUND(E80*J80,2) -> 0 | L80: 21 | M80: =G80*(1+L80/100) -> 0 | N80: 0 | O80: =ROUND(E80*N80,2) -> 0 | P80: 0 | Q80: =ROUND(E80*P80,2) -> 0 | R80: 822-1 | S80: RTS 26/II | T80: RTS 26/I | U80: 0.023 | V80: =ROUND(E80*U80,2) -> 34.41 | AE80: POL1_ | AF80: 2A530113-AE1A-4AB7-AFF1-747C54E39B6C
B81: Podkladní vrstvy : | AE81: VV | AF81: 0 | AI81: Podkladní vrstvy :
B82: - tenisový kurt (ŠD 0-63 mm, tl. 300 mm) : 36,5*36,5*1,1 | E82: 1465.475 | AE82: VV | AF82: 0 | AI82: - tenisový kurt (ŠD 0-63 mm, tl. 300 mm) : 36,5*36,5*1,1
B83: - ŽB deska (ŠD 0-63 mm, tl. 300 mm) : 4,0*7,0*1,1 | E83: 30.8 | AE83: VV | AF83: 0 | AI83: - ŽB deska (ŠD 0-63 mm, tl. 300 mm) : 4,0*7,0*1,1
A84: 26 | B84: 568111111R00 | C84: Zřízení vrstvy z geotextilie, sklon do 1:5, š. do 3 m | D84: m2 | E84: 2992.55 | G84: =ROUND(E84*F84,2) -> 0 | I84: =ROUND(E84*H84,2) -> 0 | K84: =ROUND(E84*J84,2) -> 0 | L84: 21 | M84: =G84*(1+L84/100) -> 0 | N84: 0 | O84: =ROUND(E84*N84,2) -> 0 | P84: 0 | Q84: =ROUND(E84*P84,2) -> 0 | R84: 822-1 | S84: RTS 26/II | T84: RTS 26/I | U84: 0.091 | V84: =ROUND(E84*U84,2) -> 272.32 | AE84: POL1_ | AF84: 43A231B4-2B4A-44A6-B3BA-94052DEDE55D
B85: Podkladní vrstvy : | AE85: VV | AF85: 0 | AI85: Podkladní vrstvy :
B86: - tenisový kurt (separace 2x geotextílie min. 300 g/m2) : 36,5*36,5*2*1,1 | E86: 2930.95 | AE86: VV | AF86: 0 | AI86: - tenisový kurt (separace 2x geotextílie min. 300 g/m2) : 36,5*36,5*2*1,1
B87: - ŽB deska (separace 2x geotextílie min. 300 g/m2) : 4,0*7,0*2*1,1 | E87: 61.6 | AE87: VV | AF87: 0 | AI87: - ŽB deska (separace 2x geotextílie min. 300 g/m2) : 4,0*7,0*2*1,1
A88: 27 | B88: 631315711R00 | C88: Mazanina betonová tl. 120 - 240 mm C 25/30 | D88: m3 | E88: 264.8 | G88: =ROUND(E88*F88,2) -> 0 | I88: =ROUND(E88*H88,2) -> 0 | K88: =ROUND(E88*J88,2) -> 0 | L88: 21 | M88: =G88*(1+L88/100) -> 0 | N88: 2.525 | O88: =ROUND(E88*N88,2) -> 668.62 | P88: 0 | Q88: =ROUND(E88*P88,2) -> 0 | R88: 801-1 | S88: RTS 26/II | T88: RTS 26/I | U88: 2.317 | V88: =ROUND(E88*U88,2) -> 613.54 | AE88: POL1_ | AF88: 66615D24-4A78-4EC7-83FB-7E0B77794186
B89: Železobetonová deska : | AE89: VV | AF89: 0 | AI89: Železobetonová deska :
B90: - tenisový kurt (beton třídy C25/30, mrazuvzdorný, tl. 200 mm) : 36,0*36,0*0,20 | E90: 259.2 | AE90: VV | AF90: 0 | AI90: - tenisový kurt (beton třídy C25/30, mrazuvzdorný, tl. 200 mm) : 36,0*36,0*0,20
B91: - ŽB deska (beton třídy C25/30, mrazuvzdorný, tl. 200 mm) : 4,0*7,0*0,20 | E91: 5.6 | AE91: VV | AF91: 0 | AI91: - ŽB deska (beton třídy C25/30, mrazuvzdorný, tl. 200 mm) : 4,0*7,0*0,20
A92: 28 | B92: 631317205R00 | C92: Řezání dilatační spáry hl. 0-50 mm, železobeton | D92: m | E92: 583 | G92: =ROUND(E92*F92,2) -> 0 | I92: =ROUND(E92*H92,2) -> 0 | K92: =ROUND(E92*J92,2) -> 0 | L92: 21 | M92: =G92*(1+L92/100) -> 0 | N92: 0 | O92: =ROUND(E92*N92,2) -> 0 | P92: 0 | Q92: =ROUND(E92*P92,2) -> 0 | R92: 801-1 | S92: RTS 26/II | T92: RTS 26/I | U92: 0.051 | V92: =ROUND(E92*U92,2) -> 29.73 | AE92: POL1_ | AF92: CA313317-1603-4E61-9FB0-2C47A3B98768
B93: řezané dilatační spáry – 4m x 4m : 36,0*8+36,0*8+7,0 | E93: 583 | AE93: VV | AF93: 0 | AI93: řezané dilatační spáry – 4m x 4m : 36,0*8+36,0*8+7,0
A94: 29 | B94: 631319175R00 | C94: Příplatek za stržení povrchu mazaniny tl. 240 mm | D94: m3 | E94: 264.8 | G94: =ROUND(E94*F94,2) -> 0 | I94: =ROUND(E94*H94,2) -> 0 | K94: =ROUND(E94*J94,2) -> 0 | L94: 21 | M94: =G94*(1+L94/100) -> 0 | N94: 0 | O94: =ROUND(E94*N94,2) -> 0 | P94: 0 | Q94: =ROUND(E94*P94,2) -> 0 | R94: 801-1 | S94: RTS 26/II | T94: RTS 26/I | U94: 0.205 | V94: =ROUND(E94*U94,2) -> 54.28 | AE94: POL1_ | AF94: 2F681B5A-A1B8-4F06-A938-17837E3A13A0
B95: Odkaz na mn. položky pořadí 27 : 264,80000 | E95: 264.8 | AE95: VV | AF95: 5 | AI95: Odkaz na mn. položky pořadí 27 : 264,80000
A96: 30 | B96: 631361921RT9 | C96: Výztuž mazanin svařovanou sítí, KY 80, drát d 8,0 mm, oko 150 x 150 mm | D96: t | E96: 7.10988 | G96: =ROUND(E96*F96,2) -> 0 | I96: =ROUND(E96*H96,2) -> 0 | K96: =ROUND(E96*J96,2) -> 0 | L96: 21 | M96: =G96*(1+L96/100) -> 0 | N96: 1.08004 | O96: =ROUND(E96*N96,2) -> 7.68 | P96: 0 | Q96: =ROUND(E96*P96,2) -> 0 | R96: 801-1 | S96: RTS 26/II | T96: RTS 26/I | U96: 15.231 | V96: =ROUND(E96*U96,2) -> 108.29 | AE96: POL1_ | AF96: 64E03D34-ADF1-4B35-BAB7-450B0836F55C
B97: Železobetonová deska - vyztužení : | AE97: VV | AF97: 0 | AI97: Železobetonová deska - vyztužení :
B98: - tenisový kurt (výztuž kari sítí 8mm, 150x150mm uložená v dolní třetině desky) : 36,0*36,0*0,00537 | E98: 6.95952 | AE98: VV | AF98: 0 | AI98: - tenisový kurt (výztuž kari sítí 8mm, 150x150mm uložená v dolní třetině desky) : 36,0*36,0*0,00537
B99: - ŽB deska (výztuž kari sítí 8mm, 150x150mm uložená v dolní třetině desky) : 4,0*7,0*0,00537 | E99: 0.15036 | AE99: VV | AF99: 0 | AI99: - ŽB deska (výztuž kari sítí 8mm, 150x150mm uložená v dolní třetině desky) : 4,0*7,0*0,00537
A100: 31 | B100: 583423202R | C100: Kamenivo drcené 0/32 | D100: t | E100: 516.21488 | G100: =ROUND(E100*F100,2) -> 0 | I100: =ROUND(E100*H100,2) -> 0 | K100: =ROUND(E100*J100,2) -> 0 | L100: 21 | M100: =G100*(1+L100/100) -> 0 | N100: 1 | O100: =ROUND(E100*N100,2) -> 516.21 | P100: 0 | Q100: =ROUND(E100*P100,2) -> 0 | R100: SPCM | S100: RTS 26/II | T100: RTS 26/I | U100: 0 | V100: =ROUND(E100*U100,2) -> 0 | AE100: POL3_0 | AF100: DBA9D4BE-535F-44B6-9450-802D6EFD7B2A
B101: Podkladní vrstvy : | AE101: VV | AF101: 0 | AI101: Podkladní vrstvy :
B102: - tenisový kurt (ŠD 0-32 mm, tl. 150 mm) : 1465,475*0,15*2,30 | E102: 505.58888 | AE102: VV | AF102: 0 | AI102: - tenisový kurt (ŠD 0-32 mm, tl. 150 mm) : 1465,475*0,15*2,30
B103: - ŽB deska (ŠD 0-32 mm, tl. 150 mm) : 30,800*0,15*2,30 | E103: 10.626 | AE103: VV | AF103: 0 | AI103: - ŽB deska (ŠD 0-32 mm, tl. 150 mm) : 30,800*0,15*2,30
A104: 32 | B104: 583423602R | C104: Kamenivo drcené 0/63 | D104: t | E104: 1032.4298 | G104: =ROUND(E104*F104,2) -> 0 | I104: =ROUND(E104*H104,2) -> 0 | K104: =ROUND(E104*J104,2) -> 0 | L104: 21 | M104: =G104*(1+L104/100) -> 0 | N104: 1 | O104: =ROUND(E104*N104,2) -> 1032.43 | P104: 0 | Q104: =ROUND(E104*P104,2) -> 0 | R104: SPCM | S104: RTS 26/II | T104: RTS 26/I | U104: 0 | V104: =ROUND(E104*U104,2) -> 0 | AE104: POL3_0 | AF104: 34FA0821-ADA3-48A1-8AB2-2FF960A633E3
B105: Podkladní vrstvy : | AE105: VV | AF105: 0 | AI105: Podkladní vrstvy :
B106: - tenisový kurt (ŠD 0-63 mm, tl. 300 mm) : 1465,475*0,30*2,30 | E106: 1011.1777 | AE106: VV | AF106: 0 | AI106: - tenisový kurt (ŠD 0-63 mm, tl. 300 mm) : 1465,475*0,30*2,30
...

Sheet 01.2
A1: Položkový rozpočet | AE1: #TypZaznamu#
A2: S: | B2: 12 | C2: Tenisový dvojkurt, Bohuslavice u Kyjova | AE2: STA
A3: O: | AE3: OBJ
A4: R: | B4: 1 | C4: Tenisový dvojkurt, Bohuslavice u Kyjova | AE4: ROZ
A5: C: | B5: 1 | C5: Tenisový dvojkurt, Bohuslavice u Kyjova | AE5: CAS_STR
A6: C: | B6: 01 | C6: Tenisový dvojkurt | AE6: CAS_STA
A7: C: | B7: 01.2 | C7: Zpevněné plochy, opěrná stěna a oplocení | AE7: CAS_STA
A9: # | B9: Číslo položky | C9: Název položky | D9: MJ | E9: Množství | F9: Cena / MJ | G9: Celkem | H9: Dodávka | I9: Dodávka celk. | J9: Montáž | K9: Montáž celk. | L9: DPH | M9: cena s DPH | N9: hmotnost / MJ | O9: hmotnost celk.(t) | P9: dem. hmotnost / MJ | Q9: dem. hmotnost celk.(t) | R9: Ceník | S9: Cen. soustava / platnost | T9: Cenová úroveň | U9: Nhod / MJ | V9: Nhod celk. | W9: Dodavatel | X9: Identifikace | AD9: CenaCelkem pro UzivDil | AE9: Typ | AF9: ParovaciUID
A11: Díl | B11: 1 | C11: Zemní práce | G11: =SUMIF(AE12:AE33,"<>NOR",G12:G33) -> 0 | I11: =SUM(I12:I33) -> 0 | K11: =SUM(K12:K33) -> 0 | M11: =SUM(M12:M33) -> 0 | O11: =SUM(O12:O33) -> 0 | Q11: =SUM(Q12:Q33) -> 0 | V11: =SUM(V12:V33) -> 177.1 | AE11: DIL
A12: 1 | B12: 122202202R00 | C12: Odkopávky pro silnice v hor. 3 do 1000 m3 | D12: m3 | E12: 189.0976 | G12: =ROUND(E12*F12,2) -> 0 | I12: =ROUND(E12*H12,2) -> 0 | K12: =ROUND(E12*J12,2) -> 0 | L12: 21 | M12: =G12*(1+L12/100) -> 0 | N12: 0 | O12: =ROUND(E12*N12,2) -> 0 | P12: 0 | Q12: =ROUND(E12*P12,2) -> 0 | R12: 800-1 | S12: RTS 26/II | T12: RTS 26/I | U12: 0.223 | V12: =ROUND(E12*U12,2) -> 42.17 | AE12: POL1_ | AF12: 55C1710B-3EB5-4177-A2A5-6A4B5A533BB3
B13: Výkop podkladu : | AE13: VV | AF13: 0 | AI13: Výkop podkladu :
B14: - opěrná stěna : 38,0*2,0*1,0 | E14: 76 | AE14: VV | AF14: 0 | AI14: - opěrná stěna : 38,0*2,0*1,0
B15: - zpevněná plocha : (1,2*22,0+1,2*1,2+1,2*36,0+37,2*5,0)*0,40*1,1 | E15: 113.0976 | AE15: VV | AF15: 0 | AI15: - zpevněná plocha : (1,2*22,0+1,2*1,2+1,2*36,0+37,2*5,0)*0,40*1,1
A16: 2 | B16: 132201210R00 | C16: Hloubení rýh šířky do 2000 mm v hor. 3, do 50 m3, STROJNĚ | D16: m3 | E16: 18.81 | G16: =ROUND(E16*F16,2) -> 0 | I16: =ROUND(E16*H16,2) -> 0 | K16: =ROUND(E16*J16,2) -> 0 | L16: 21 | M16: =G16*(1+L16/100) -> 0 | N16: 0 | O16: =ROUND(E16*N16,2) -> 0 | P16: 0 | Q16: =ROUND(E16*P16,2) -> 0 | R16: 800-1 | S16: RTS 26/II | T16: RTS 26/I | U16: 0.365 | V16: =ROUND(E16*U16,2) -> 6.87 | AE16: POL1_ | AF16: 30237BFB-BC91-440B-A345-8F0339E4F1FF
B17: Opěrná stěna : 38,0*0,5*0,9*1,1 | E17: 18.81 | AE17: VV | AF17: 0 | AI17: Opěrná stěna : 38,0*0,5*0,9*1,1
A18: 3 | B18: 162301102R00 | C18: Vodorovné přemístění výkopku z hor.1-4 do 1000 m | D18: m3 | E18: 154.7076 | G18: =ROUND(E18*F18,2) -> 0 | I18: =ROUND(E18*H18,2) -> 0 | K18: =ROUND(E18*J18,2) -> 0 | L18: 21 | M18: =G18*(1+L18/100) -> 0 | N18: 0 | O18: =ROUND(E18*N18,2) -> 0 | P18: 0 | Q18: =ROUND(E18*P18,2) -> 0 | R18: 800-1 | S18: RTS 26/II | T18: RTS 26/I | U18: 0.011 | V18: =ROUND(E18*U18,2) -> 1.7 | AE18: POL1_ | AF18: 870B9474-398D-4520-8603-AA611BA04E6F
B19: Odkaz na mn. položky pořadí 1 : 189,09760 | E19: 189.0976 | AE19: VV | AF19: 5 | AI19: Odkaz na mn. položky pořadí 1 : 189,09760
B20: Odkaz na mn. položky pořadí 2 : 18,81000 | E20: 18.81 | AE20: VV | AF20: 5 | AI20: Odkaz na mn. položky pořadí 2 : 18,81000
B21: Odkaz na mn. položky pořadí 7 : 53,20000*-1 | E21: -53.2 | AE21: VV | AF21: 5 | AI21: Odkaz na mn. položky pořadí 7 : 53,20000*-1
A22: 4 | B22: 162802512R00 | C22: Příplatek k vodorov. přemístění hor.1-4 do 1000 m | D22: m3 | E22: 3094.152 | G22: =ROUND(E22*F22,2) -> 0 | I22: =ROUND(E22*H22,2) -> 0 | K22: =ROUND(E22*J22,2) -> 0 | L22: 21 | M22: =G22*(1+L22/100) -> 0 | N22: 0 | O22: =ROUND(E22*N22,2) -> 0 | P22: 0 | Q22: =ROUND(E22*P22,2) -> 0 | R22: 800-1 | S22: RTS 26/II | T22: RTS 26/I | U22: 0 | V22: =ROUND(E22*U22,2) -> 0 | AE22: POL1_ | AF22: 99F2EB0C-A345-4F77-B43A-4B9517DBFC42
B23: Odvoz zeminy do 20 km : | AE23: VV | AF23: 0 | AI23: Odvoz zeminy do 20 km :
B24: Odkaz na mn. položky pořadí 3 : 154,70760*20 | E24: 3094.152 | AE24: VV | AF24: 5 | AI24: Odkaz na mn. položky pořadí 3 : 154,70760*20
A25: 5 | B25: 167101102R00 | C25: Nakládání výkopku z hor. 1 ÷ 4 v množství nad 100 m3 | D25: m3 | E25: 154.7076 | G25: =ROUND(E25*F25,2) -> 0 | I25: =ROUND(E25*H25,2) -> 0 | K25: =ROUND(E25*J25,2) -> 0 | L25: 21 | M25: =G25*(1+L25/100) -> 0 | N25: 0 | O25: =ROUND(E25*N25,2) -> 0 | P25: 0 | Q25: =ROUND(E25*P25,2) -> 0 | R25: 800-1 | S25: RTS 26/II | T25: RTS 26/I | U25: 0.053 | V25: =ROUND(E25*U25,2) -> 8.2 | AE25: POL1_ | AF25: 622EEA67-07C5-4AC2-917A-A20E77EF8DC0
B26: Odkaz na mn. položky pořadí 3 : 154,70760 | E26: 154.7076 | AE26: VV | AF26: 5 | AI26: Odkaz na mn. položky pořadí 3 : 154,70760
A27: 6 | B27: 171201201R00 | C27: Uložení sypaniny na skl.-sypanina na výšku přes 2m | D27: m3 | E27: 154.7076 | G27: =ROUND(E27*F27,2) -> 0 | I27: =ROUND(E27*H27,2) -> 0 | K27: =ROUND(E27*J27,2) -> 0 | L27: 21 | M27: =G27*(1+L27/100) -> 0 | N27: 0 | O27: =ROUND(E27*N27,2) -> 0 | P27: 0 | Q27: =ROUND(E27*P27,2) -> 0 | R27: 800-1 | S27: RTS 26/II | T27: RTS 26/I | U27: 0.009 | V27: =ROUND(E27*U27,2) -> 1.39 | AE27: POL1_ | AF27: D15DAFB4-303B-4C84-B01D-D5E8EEC092F5
B28: Odkaz na mn. položky pořadí 3 : 154,70760 | E28: 154.7076 | AE28: VV | AF28: 5 | AI28: Odkaz na mn. položky pořadí 3 : 154,70760
A29: 7 | B29: 175101201R00 | C29: Obsyp objektu bez prohození sypaniny | D29: m3 | E29: 53.2 | G29: =ROUND(E29*F29,2) -> 0 | I29: =ROUND(E29*H29,2) -> 0 | K29: =ROUND(E29*J29,2) -> 0 | L29: 21 | M29: =G29*(1+L29/100) -> 0 | N29: 0 | O29: =ROUND(E29*N29,2) -> 0 | P29: 0 | Q29: =ROUND(E29*P29,2) -> 0 | R29: 800-1 | S29: RTS 26/II | T29: RTS 26/I | U29: 2.195 | V29: =ROUND(E29*U29,2) -> 116.77 | AE29: POL1_ | AF29: B08130CA-7CFC-4EF9-AC7B-6BC73425C56A
B30: zásyp : | AE30: VV | AF30: 0 | AI30: zásyp :
B31: - opěrná stěna : 38,0*2,0*0,7 | E31: 53.2 | AE31: VV | AF31: 0 | AI31: - opěrná stěna : 38,0*2,0*0,7
A32: 8 | B32: 199000002R00 | C32: Poplatek za skládku horniny 1- 4, č. dle katal. odpadů 17 05 04 | D32: m3 | E32: 154.7076 | G32: =ROUND(E32*F32,2) -> 0 | I32: =ROUND(E32*H32,2) -> 0 | K32: =ROUND(E32*J32,2) -> 0 | L32: 21 | M32: =G32*(1+L32/100) -> 0 | N32: 0 | O32: =ROUND(E32*N32,2) -> 0 | P32: 0 | Q32: =ROUND(E32*P32,2) -> 0 | R32: 800-1 | S32: RTS 26/II | T32: RTS 26/I | U32: 0 | V32: =ROUND(E32*U32,2) -> 0 | AE32: POL1_ | AF32: F0A4B106-5CD2-4B8E-9BC4-2BAF8F7D620A
B33: Odkaz na mn. položky pořadí 3 : 154,70760 | E33: 154.7076 | AE33: VV | AF33: 5 | AI33: Odkaz na mn. položky pořadí 3 : 154,70760
A35: Díl | B35: 2 | C35: Základy a zvláštní zakládání | G35: =SUMIF(AE36:AE48,"<>NOR",G36:G48) -> 0 | I35: =SUM(I36:I48) -> 0 | K35: =SUM(K36:K48) -> 0 | M35: =SUM(M36:M48) -> 0 | O35: =SUM(O36:O48) -> 87.93 | Q35: =SUM(Q36:Q48) -> 0 | V35: =SUM(V36:V48) -> 200.65 | AE35: DIL
A36: 9 | B36: 271313511R00 | C36: Beton podkladní pod základové konstrukce, prostý | D36: m3 | E36: 3.2 | G36: =ROUND(E36*F36,2) -> 0 | I36: =ROUND(E36*H36,2) -> 0 | K36: =ROUND(E36*J36,2) -> 0 | L36: 21 | M36: =G36*(1+L36/100) -> 0 | N36: 2.52514 | O36: =ROUND(E36*N36,2) -> 8.08 | P36: 0 | Q36: =ROUND(E36*P36,2) -> 0 | R36: 801-1 | S36: RTS 26/II | T36: RTS 26/I | U36: 1.17 | V36: =ROUND(E36*U36,2) -> 3.74 | AE36: POL1_ | AF36: 180390B2-AFF1-4FBE-B519-671EA0D9E772
B37: Opěrná stěna : 40,0*0,8*0,1 | E37: 3.2 | AE37: VV | AF37: 0 | AI37: Opěrná stěna : 40,0*0,8*0,1
A38: 10 | B38: 274272140RT4 | C38: Zdivo základové z bednicích tvárnic, tl. 300 mm, výplň tvárnic betonem C 20/25 | D38: m2 | E38: 47.6 | G38: =ROUND(E38*F38,2) -> 0 | I38: =ROUND(E38*H38,2) -> 0 | K38: =ROUND(E38*J38,2) -> 0 | L38: 21 | M38: =G38*(1+L38/100) -> 0 | N38: 0.73 | O38: =ROUND(E38*N38,2) -> 34.75 | P38: 0 | Q38: =ROUND(E38*P38,2) -> 0 | R38: 801-1 | S38: RTS 26/II | T38: RTS 26/I | U38: 1.1 | V38: =ROUND(E38*U38,2) -> 52.36 | AE38: POL1_ | AF38: 15F682CD-30A1-47B8-9614-94AA05DE37AA
B39: Opěrná stěna : (6*3,0+0,5)*1,0+(2,9+5*3,0+1,5)*1,5 | E39: 47.6 | AE39: VV | AF39: 0 | AI39: Opěrná stěna : (6*3,0+0,5)*1,0+(2,9+5*3,0+1,5)*1,5
A40: 11 | B40: 274321321R00 | C40: Železobeton základových pasů C 20/25 | D40: m3 | E40: 16 | G40: =ROUND(E40*F40,2) -> 0 | I40: =ROUND(E40*H40,2) -> 0 | K40: =ROUND(E40*J40,2) -> 0 | L40: 21 | M40: =G40*(1+L40/100) -> 0 | N40: 2.525 | O40: =ROUND(E40*N40,2) -> 40.4 | P40: 0 | Q40: =ROUND(E40*P40,2) -> 0 | R40: 801-1 | S40: RTS 26/II | T40: RTS 26/I | U40: 0.48 | V40: =ROUND(E40*U40,2) -> 7.68 | AE40: POL1_ | AF40: 5E417BE1-5818-4882-AF21-B08B4A62F4DD
B41: Opěrná stěna : 40,0*0,5*0,8 | E41: 16 | AE41: VV | AF41: 0 | AI41: Opěrná stěna : 40,0*0,5*0,8
A42: 12 | B42: 274351215R00 | C42: Bednění stěn základových pasů - zřízení | D42: m2 | E42: 64 | G42: =ROUND(E42*F42,2) -> 0 | I42: =ROUND(E42*H42,2) -> 0 | K42: =ROUND(E42*J42,2) -> 0 | L42: 21 | M42: =G42*(1+L42/100) -> 0 | N42: 0.03915 | O42: =ROUND(E42*N42,2) -> 2.51 | P42: 0 | Q42: =ROUND(E42*P42,2) -> 0 | R42: 801-1 | S42: RTS 26/II | T42: RTS 26/I | U42: 1.05 | V42: =ROUND(E42*U42,2) -> 67.2 | AE42: POL1_ | AF42: E2E63A1B-CBBD-42BD-A7D2-875943B32887
B43: Opěrná stěna : 40,0*2*0,8 | E43: 64 | AE43: VV | AF43: 0 | AI43: Opěrná stěna : 40,0*2*0,8
A44: 13 | B44: 274351216R00 | C44: Bednění stěn základových pasů - odstranění | D44: m2 | E44: 60.8 | G44: =ROUND(E44*F44,2) -> 0 | I44: =ROUND(E44*H44,2) -> 0 | K44: =ROUND(E44*J44,2) -> 0 | L44: 21 | M44: =G44*(1+L44/100) -> 0 | N44: 0 | O44: =ROUND(E44*N44,2) -> 0 | P44: 0 | Q44: =ROUND(E44*P44,2) -> 0 | R44: 801-1 | S44: RTS 26/II | T44: RTS 26/I | U44: 0.32 | V44: =ROUND(E44*U44,2) -> 19.46 | AE44: POL1_ | AF44: BA4B394D-21F3-475B-BFCD-A5DB81BF8BAF
A45: 14 | B45: 274361022R00 | C45: Výztuž zdiva základových pasů z tvárnic ztraceného bednění 12 prutů/m2, průměr 12 mm | D45: m2 | E45: 47.6 | G45: =ROUND(E45*F45,2) -> 0 | I45: =ROUND(E45*H45,2) -> 0 | K45: =ROUND(E45*J45,2) -> 0 | L45: 21 | M45: =G45*(1+L45/100) -> 0 | N45: 0.01147 | O45: =ROUND(E45*N45,2) -> 0.55 | P45: 0 | Q45: =ROUND(E45*P45,2) -> 0 | R45: 801-1 | S45: RTS 26/II | T45: RTS 26/I | U45: 0.2638 | V45: =ROUND(E45*U45,2) -> 12.56 | AE45: POL1_ | AF45: 11E97359-CC52-4FA0-88DA-E06737955E6E
B46: Odkaz na mn. položky pořadí 10 : 47,60000 | E46: 47.6 | AE46: VV | AF46: 5 | AI46: Odkaz na mn. položky pořadí 10 : 47,60000
A47: 15 | B47: 274361821R00 | C47: Výztuž základových pasů z betonářské oceli B500B (10 505) | D47: t | E47: 1.6 | G47: =ROUND(E47*F47,2) -> 0 | I47: =ROUND(E47*H47,2) -> 0 | K47: =ROUND(E47*J47,2) -> 0 | L47: 21 | M47: =G47*(1+L47/100) -> 0 | N47: 1.02493 | O47: =ROUND(E47*N47,2) -> 1.64 | P47: 0 | Q47: =ROUND(E47*P47,2) -> 0 | R47: 801-1 | S47: RTS 26/II | T47: RTS 26/I | U47: 23.531 | V47: =ROUND(E47*U47,2) -> 37.65 | AE47: POL1_ | AF47: 1A964B60-60CA-4A81-A4DB-5D7804AD2A2F
B48: Opěrná stěna (100 kg/m3) : 16,0*0,100 | E48: 1.6 | AE48: VV | AF48: 0 | AI48: Opěrná stěna (100 kg/m3) : 16,0*0,100
A50: Díl | B50: 56 | C50: Podkladní vrstvy komunikací a zpevněných ploch | G50: =SUMIF(AE51:AE69,"<>NOR",G51:G69) -> 0 | I50: =SUM(I51:I69) -> 0 | K50: =SUM(K51:K69) -> 0 | M50: =SUM(M51:M69) -> 0 | O50: =SUM(O51:O69) -> 214.72 | Q50: =SUM(Q51:Q69) -> 0 | V50: =SUM(V51:V69) -> 40.77 | AE50: DIL
A51: 16 | B51: 181101102R00 | C51: Úprava pláně v zářezech v hor. 1-4, se zhutněním | D51: m2 | E51: 282.744 | G51: =ROUND(E51*F51,2) -> 0 | I51: =ROUND(E51*H51,2) -> 0 | K51: =ROUND(E51*J51,2) -> 0 | L51: 21 | M51: =G51*(1+L51/100) -> 0 | N51: 0 | O51: =ROUND(E51*N51,2) -> 0 | P51: 0 | Q51: =ROUND(E51*P51,2) -> 0 | R51: 800-1 | S51: RTS 26/II | T51: RTS 26/I | U51: 0.018 | V51: =ROUND(E51*U51,2) -> 5.09 | AE51: POL1_ | AF51: ABFF6A51-4C29-4167-B1DD-B336A5FDE2AE
B52: Zhutnění podkladu : | AE52: VV | AF52: 0 | AI52: Zhutnění podkladu :
B53: - zpevněná plocha : (1,2*22,0+1,2*1,2+1,2*36,0+37,2*5,0)*1,1 | E53: 282.744 | AE53: VV | AF53: 0 | AI53: - zpevněná plocha : (1,2*22,0+1,2*1,2+1,2*36,0+37,2*5,0)*1,1
A54: 17 | B54: 564551111R00 | C54: Zřízení podsypu nebo podkladu ze sypaniny tl. 150 mm po zhutnění | D54: m2 | E54: 622.0368 | G54: =ROUND(E54*F54,2) -> 0 | I54: =ROUND(E54*H54,2) -> 0 | K54: =ROUND(E54*J54,2) -> 0 | L54: 21 | M54: =G54*(1+L54/100) -> 0 | N54: 0 | O54: =ROUND(E54*N54,2) -> 0 | P54: 0 | Q54: =ROUND(E54*P54,2) -> 0 | R54: 822-1 | S54: RTS 26/II | T54: RTS 26/I | U54: 0.016 | V54: =ROUND(E54*U54,2) -> 9.95 | AE54: POL1_ | AF54: FCC4AF95-FC1B-4523-B537-858BAAA86C25
B55: Podkladní vrstvy : | AE55: VV | AF55: 0 | AI55: Podkladní vrstvy :
B56: - zpevněná plocha (ŠD 0-32 mm, tl. 150 mm) : 282,744*1,1 | E56: 311.0184 | AE56: VV | AF56: 0 | AI56: - zpevněná plocha (ŠD 0-32 mm, tl. 150 mm) : 282,744*1,1
B57: - zpevněná plocha (ŠD 0-63 mm, tl. 150 mm) : 282,744*1,1 | E57: 311.0184 | AE57: VV | AF57: 0 | AI57: - zpevněná plocha (ŠD 0-63 mm, tl. 150 mm) : 282,744*1,1
A58: 18 | B58: 568111111R00 | C58: Zřízení vrstvy z geotextilie, sklon do 1:5, š. do 3 m | D58: m2 | E58: 282.744 | G58: =ROUND(E58*F58,2) -> 0 | I58: =ROUND(E58*H58,2) -> 0 | K58: =ROUND(E58*J58,2) -> 0 | L58: 21 | M58: =G58*(1+L58/100) -> 0 | N58: 0 | O58: =ROUND(E58*N58,2) -> 0 | P58: 0 | Q58: =ROUND(E58*P58,2) -> 0 | R58: 822-1 | S58: RTS 26/II | T58: RTS 26/I | U58: 0.091 | V58: =ROUND(E58*U58,2) -> 25.73 | AE58: POL1_ | AF58: FA64AC2B-83A8-4FB0-A949-4A7961698186
B59: Podkladní vrstvy : | AE59: VV | AF59: 0 | AI59: Podkladní vrstvy :
B60: - zpevněná plocha (separace 1x geotextílie min. 300 g/m2) : (1,2*22,0+1,2*1,2+1,2*36,0+37,2*5,0)*1,1 | E60: 282.744 | AE60: VV | AF60: 0 | AI60: - zpevněná plocha (separace 1x geotextílie min. 300 g/m2) : (1,2*22,0+1,2*1,2+1,2*36,0+37,2*5,0)*1,1
A61: 19 | B61: 583423202R | C61: Kamenivo drcené 0/32 | D61: t | E61: 107.30135 | G61: =ROUND(E61*F61,2) -> 0 | I61: =ROUND(E61*H61,2) -> 0 | K61: =ROUND(E61*J61,2) -> 0 | L61: 21 | M61: =G61*(1+L61/100) -> 0 | N61: 1 | O61: =ROUND(E61*N61,2) -> 107.3 | P61: 0 | Q61: =ROUND(E61*P61,2) -> 0 | R61: SPCM | S61: RTS 26/II | T61: RTS 26/I | U61: 0 | V61: =ROUND(E61*U61,2) -> 0 | AE61: POL3_0 | AF61: E3A0BCE2-8011-46E9-84B9-A48EE07D1134
B62: Podkladní vrstvy : | AE62: VV | AF62: 0 | AI62: Podkladní vrstvy :
B63: - zpevněná plocha (ŠD 0-32 mm, tl. 150 mm) : 311,0184*0,15*2,30 | E63: 107.30135 | AE63: VV | AF63: 0 | AI63: - zpevněná plocha (ŠD 0-32 mm, tl. 150 mm) : 311,0184*0,15*2,30
A64: 20 | B64: 583423602R | C64: Kamenivo drcené 0/63 | D64: t | E64: 107.30135 | G64: =ROUND(E64*F64,2) -> 0 | I64: =ROUND(E64*H64,2) -> 0 | K64: =ROUND(E64*J64,2) -> 0 | L64: 21 | M64: =G64*(1+L64/100) -> 0 | N64: 1 | O64: =ROUND(E64*N64,2) -> 107.3 | P64: 0 | Q64: =ROUND(E64*P64,2) -> 0 | R64: SPCM | S64: RTS 26/II | T64: RTS 26/I | U64: 0 | V64: =ROUND(E64*U64,2) -> 0 | AE64: POL3_0 | AF64: B635D48A-2DA9-4BB7-8AC4-3A430E1D8551
B65: Podkladní vrstvy : | AE65: VV | AF65: 0 | AI65: Podkladní vrstvy :
B66: - zpevněná plocha (ŠD 0-63 mm, tl. 150 mm) : 311,0184*0,15*2,30 | E66: 107.30135 | AE66: VV | AF66: 0 | AI66: - zpevněná plocha (ŠD 0-63 mm, tl. 150 mm) : 311,0184*0,15*2,30
A67: 21 | B67: 67352030R | C67: Geotextilie silniční 356 g/m2 | D67: m2 | E67: 325.1556 | G67: =ROUND(E67*F67,2) -> 0 | I67: =ROUND(E67*H67,2) -> 0 | K67: =ROUND(E67*J67,2) -> 0 | L67: 21 | M67: =G67*(1+L67/100) -> 0 | N67: 0.00036 | O67: =ROUND(E67*N67,2) -> 0.12 | P67: 0 | Q67: =ROUND(E67*P67,2) -> 0 | R67: SPCM | S67: RTS 26/II | T67: RTS 26/I | U67: 0 | V67: =ROUND(E67*U67,2) -> 0 | AE67: POL3_0 | AF67: 80844833-9364-4DBE-9260-3E4E53CD9E70
B68: Podkladní vrstvy : | AE68: VV | AF68: 0 | AI68: Podkladní vrstvy :
B69: - zpevněná plocha (separace 1x geotextílie min. 300 g/m2) : 282,744*1,15 | E69: 325.1556 | AE69: VV | AF69: 0 | AI69: - zpevněná plocha (separace 1x geotextílie min. 300 g/m2) : 282,744*1,15
A71: Díl | B71: 59 | C71: Komunikace dlážděné | G71: =SUMIF(AE72:AE91,"<>NOR",G72:G91) -> 0 | I71: =SUM(I72:I91) -> 0 | K71: =SUM(K72:K91) -> 0 | M71: =SUM(M72:M91) -> 0 | O71: =SUM(O72:O91) -> 62.35 | Q71: =SUM(Q72:Q91) -> 0 | V71: =SUM(V72:V91) -> 163.02 | AE71: DIL
A72: 22 | B72: 596215021R00 | C72: Kladení zámkové dlažby tl. 60 mm, lože z kameniva drceného tl. 40 mm | D72: m2 | E72: 71.04 | G72: =ROUND(E72*F72,2) -> 0 | I72: =ROUND(E72*H72,2) -> 0 | K72: =ROUND(E72*J72,2) -> 0 | L72: 21 | M72: =G72*(1+L72/100) -> 0 | N72: 0.0739 | O72: =ROUND(E72*N72,2) -> 5.25 | P72: 0 | Q72: =ROUND(E72*P72,2) -> 0 | R72: 822-1 | S72: RTS 26/II | T72: RTS 26/I | U72: 0.452 | V72: =ROUND(E72*U72,2) -> 32.11 | AE72: POL1_ | AF72: BF16CFFB-9C84-449E-A7C7-2611C60ADEC3
B73: Podklad : | AE73: VV | AF73: 0 | AI73: Podklad :
B74: - zpevněná plocha : 1,2*22,0+1,2*1,2+1,2*36,0 | E74: 71.04 | AE74: VV | AF74: 0 | AI74: - zpevněná plocha : 1,2*22,0+1,2*1,2+1,2*36,0
A75: 23 | B75: 596215040R00 | C75: Kladení zámkové dlažby tl. 80 mm, lože z kameniva drceného tl. 40 mm | D75: m2 | E75: 186 | G75: =ROUND(E75*F75,2) -> 0 | I75: =ROUND(E75*H75,2) -> 0 | K75: =ROUND(E75*J75,2) -> 0 | L75: 21 | M75: =G75*(1+L75/100) -> 0 | N75: 0.0739 | O75: =ROUND(E75*N75,2) -> 13.75 | P75: 0 | Q75: =ROUND(E75*P75,2) -> 0 | R75: 822-1 | S75: RTS 26/II | T75: RTS 26/I | U75: 0.478 | V75: =ROUND(E75*U75,2) -> 88.91 | AE75: POL1_ | AF75: 9C57F57F-DB6D-4B25-9794-869A15491F4A
B76: Podklad : | AE76: VV | AF76: 0 | AI76: Podklad :
B77: - zpevněná plocha : 37,2*5,0 | E77: 186 | AE77: VV | AF77: 0 | AI77: - zpevněná plocha : 37,2*5,0
A78: 24 | B78: 596291111R00 | C78: Řezání betonové dlažby tl. 60 mm | D78: m | E78: 50 | G78: =ROUND(E78*F78,2) -> 0 | I78: =ROUND(E78*H78,2) -> 0 | K78: =ROUND(E78*J78,2) -> 0 | L78: 21 | M78: =G78*(1+L78/100) -> 0 | N78: 0.00033 | O78: =ROUND(E78*N78,2) -> 0.02 | P78: 0 | Q78: =ROUND(E78*P78,2) -> 0 | R78: 822-1 | S78: RTS 26/II | T78: RTS 26/I | U78: 0.41 | V78: =ROUND(E78*U78,2) -> 20.5 | AE78: POL1_ | AF78: 1A0C61AD-FEF9-4330-A08D-5D247A7519BD
A79: 25 | B79: 596291113R00 | C79: Řezání zámkové dlažby tl. 80 mm | D79: m | E79: 50 | G79: =ROUND(E79*F79,2) -> 0 | I79: =ROUND(E79*H79,2) -> 0 | K79: =ROUND(E79*J79,2) -> 0 | L79: 21 | M79: =G79*(1+L79/100) -> 0 | N79: 0.00036 | O79: =ROUND(E79*N79,2) -> 0.02 | P79: 0 | Q79: =ROUND(E79*P79,2) -> 0 | R79: 822-1 | S79: RTS 26/II | T79: RTS 26/I | U79: 0.43 | V79: =ROUND(E79*U79,2) -> 21.5 | AE79: POL1_ | AF79: AA012C5A-0E91-4563-A2D2-5378759E0D94
A80: 26 | B80: 59245110R | C80: Dlažba betonová skladebná 200 x 100 x 60 mm, přírodní | D80: m2 | E80: 75 | G80: =ROUND(E80*F80,2) -> 0 | I80: =ROUND(E80*H80,2) -> 0 | K80: =ROUND(E80*J80,2) -> 0 | L80: 21 | M80: =G80*(1+L80/100) -> 0 | N80: 0.129 | O80: =ROUND(E80*N80,2) -> 9.68 | P80: 0 | Q80: =ROUND(E80*P80,2) -> 0 | R80: SPCM | S80: RTS 26/II | T80: RTS 26/I | U80: 0 | V80: =ROUND(E80*U80,2) -> 0 | AE80: POL3_0 | AF80: 9E142F79-A36C-45C5-90CA-C93294E8CC9F
B81: Začátek provozního součtu | AE81: VV
B82: Podklad : | AE82: VV | AF82: 2 | AJ82: Podklad :
B83: - zpevněná plocha : 71,04*1,05 | E83: 74.592 | AE83: VV | AF83: 2 | AJ83: - zpevněná plocha : 71,04*1,05
B84: Konec provozního součtu | AE84: VV
B85: Zaokrouhleno : 75,0 | E85: 75 | AE85: VV | AF85: 0 | AI85: Zaokrouhleno : 75,0
A86: 27 | B86: 592451170R | C86: Dlažba betonová skladebná 200 x 100 x 80 mm, přírodní | D86: m2 | E86: 195 | G86: =ROUND(E86*F86,2) -> 0 | I86: =ROUND(E86*H86,2) -> 0 | K86: =ROUND(E86*J86,2) -> 0 | L86: 21 | M86: =G86*(1+L86/100) -> 0 | N86: 0.17245 | O86: =ROUND(E86*N86,2) -> 33.63 | P86: 0 | Q86: =ROUND(E86*P86,2) -> 0 | R86: SPCM | S86: RTS 26/II | T86: RTS 26/I | U86: 0 | V86: =ROUND(E86*U86,2) -> 0 | AE86: POL3_0 | AF86: DB8B0404-1C28-4CA3-BAA7-3CE589C2D398
B87: Začátek provozního součtu | AE87: VV
B88: Podklad : | AE88: VV | AF88: 2 | AJ88: Podklad :
B89: - zpevněná plocha : 186,0*1,05 | E89: 195.3 | AE89: VV | AF89: 2 | AJ89: - zpevněná plocha : 186,0*1,05
B90: Konec provozního součtu | AE90: VV
B91: Zaokrouhleno : 195,0 | E91: 195 | AE91: VV | AF91: 0 | AI91: Zaokrouhleno : 195,0
A93: Díl | B93: 598 | C93: Obrubníky, přídlažby, palisády | G93: =SUMIF(AE94:AE100,"<>NOR",G94:G100) -> 0 | I93: =SUM(I94:I100) -> 0 | K93: =SUM(K94:K100) -> 0 | M93: =SUM(M94:M100) -> 0 | O93: =SUM(O94:O100) -> 47.74 | Q93: =SUM(Q94:Q100) -> 0 | V93: =SUM(V94:V100) -> 55.71 | AE93: DIL
A94: 28 | B94: 917862114R00 | C94: Osazení stojatého obrubníku betonového, s boční opěrou, do lože z betonu C 25/30 | D94: m | E94: 204.8 | G94: =ROUND(E94*F94,2) -> 0 | I94: =ROUND(E94*H94,2) -> 0 | K94: =ROUND(E94*J94,2) -> 0 | L94: 21 | M94: =G94*(1+L94/100) -> 0 | N94: 0.188 | O94: =ROUND(E94*N94,2) -> 38.5 | P94: 0 | Q94: =ROUND(E94*P94,2) -> 0 | R94: 822-1 | S94: RTS 26/II | T94: RTS 26/I | U94: 0.272 | V94: =ROUND(E94*U94,2) -> 55.71 | AE94: POL1_ | AF94: AE807C51-9570-4250-B037-672A8F380985
B95: Lemování zpevněné plochy : (36,5+36,5+22,0)+(1,2+22,0+1,2+1,2+36,5+5,0+1,2+36,5+5,0) | E95: 204.8 | AE95: VV | AF95: 0 | AI95: Lemování zpevněné plochy : (36,5+36,5+22,0)+(1,2+22,0+1,2+1,2+36,5+5,0+1,2+36,5+5,0)
A96: 29 | B96: 592174830R | C96: Obrubník chodníkový betonový rozměr 100 x 200 mm, přírodní | D96: m | E96: 210 | G96: =ROUND(E96*F96,2) -> 0 | I96: =ROUND(E96*H96,2) -> 0 | K96: =ROUND(E96*J96,2) -> 0 | L96: 21 | M96: =G96*(1+L96/100) -> 0 | N96: 0.044 | O96: =ROUND(E96*N96,2) -> 9.24 | P96: 0 | Q96: =ROUND(E96*P96,2) -> 0 | R96: SPCM | S96: RTS 26/II | T96: RTS 26/I | U96: 0 | V96: =ROUND(E96*U96,2) -> 0 | AE96: POL3_0 | AF96: D3A11DC9-E677-4C1E-B095-E9DB42B1C36A
B97: Začátek provozního součtu | AE97: VV
B98: Lemování zpevněné plochy : 204,8*1,03 | E98: 210.944 | AE98: VV | AF98: 2 | AJ98: Lemování zpevněné plochy : 204,8*1,03
B99: Konec provozního součtu | AE99: VV
B100: Zaokrouhleno : 210 | E100: 210 | AE100: VV | AF100: 0 | AI100: Zaokrouhleno : 210
A102: Díl | B102: 901 | C102: Oplocení | G102: =SUMIF(AE103:AE109,"<>NOR",G103:G109) -> 0 | I102: =SUM(I103:I109) -> 0 | K102: =SUM(K103:K109) -> 0 | M102: =SUM(M103:M109) -> 0 | O102: =SUM(O103:O109) -> 772.83 | Q102: =SUM(Q103:Q109) -> 0 | V102: =SUM(V103:V109) -> 9653.19 | AE102: DIL
A103: 30 | B103: 900100002RA1 | C103: Oplocení z poplastovaného pletiva, výška 1,5 - 2,2 m, ocelové sloupky na opěrné stěně | D103: m | E103: 38 | G103: =ROUND(E103*F103,2) -> 0 | I103: =ROUND(E103*H103,2) -> 0 | K103: =ROUND(E103*J103,2) -> 0 | L103: 21 | M103: =G103*(1+L103/100) -> 0 | N103: 4.62774 | O103: =ROUND(E103*N103,2) -> 175.85 | P103: 0 | Q103: =ROUND(E103*P103,2) -> 0 | S103: Firemní | T103: Indiv | U103: 58.13148 | V103: =ROUND(E103*U103,2) -> 2209 | AE103: POL2_ | AF103: DF389937-CF62-47EB-905E-93139CA5893D
B104: Oplocení osazené na opěrné stěně : 36,5+1,5 | E104: 38 | AE104: VV | AF104: 0 | AI104: Oplocení osazené na opěrné stěně : 36,5+1,5
A105: 31 | B105: 900100002RA2 | C105: Oplocení z poplastovaného pletiva, výška 3,0 m, ocelové sloupky do bet.patek | D105: m | E105: 128 | G105: =ROUND(E105*F105,2) -> 0 | I105: =ROUND(E105*H105,2) -> 0 | K105: =ROUND(E105*J105,2) -> 0 | L105: 21 | M105: =G105*(1+L105/100) -> 0 | N105: 4.62774 | O105: =ROUND(E105*N105,2) -> 592.35 | P105: 0 | Q105: =ROUND(E105*P105,2) -> 0 | S105: Firemní | T105: Indiv | U105: 58.13148 | V105: =ROUND(E105*U105,2) -> 7440.83 | AE105: POL2_ | AF105: 0F0B62AE-36D0-4F9A-AAB5-540829D2F1D2
B106: Oplocení osazené do betonových patek : | AE106: VV | AF106: 0 | AI106: Oplocení osazené do betonových patek :
B107: - kurt : 3*36,5-1,5 | E107: 108 | AE107: VV | AF107: 0 | AI107: - kurt : 3*36,5-1,5
...

Sheet O1
A1: Položkový rozpočet | AE1: #TypZaznamu#
A2: S: | B2: 12 | C2: Tenisový dvojkurt, Bohuslavice u Kyjova | AE2: STA
A3: O: | AE3: OBJ
A4: R: | B4: 1 | C4: Tenisový dvojkurt, Bohuslavice u Kyjova | AE4: ROZ
A5: C: | B5: 1 | C5: Tenisový dvojkurt, Bohuslavice u Kyjova | AE5: CAS_STR
A6: C: | B6: 02 | C6: Nafukovací hala pro dvojkurt | AE6: CAS_STA
A7: C: | B7: OVN | C7: Ostatní a vedlejší náklady | AE7: CAS_NAK
A9: # | B9: Číslo položky | C9: Název položky | D9: MJ | E9: Množství | F9: Cena / MJ | G9: Celkem | H9: Dodávka | I9: Dodávka celk. | J9: Montáž | K9: Montáž celk. | L9: DPH | M9: cena s DPH | N9: hmotnost / MJ | O9: hmotnost celk.(t) | P9: dem. hmotnost / MJ | Q9: dem. hmotnost celk.(t) | R9: Ceník | S9: Cen. soustava / platnost | T9: Cenová úroveň | U9: Nhod / MJ | V9: Nhod celk. | W9: Dodavatel | X9: Identifikace | AD9: CenaCelkem pro UzivDil | AE9: Typ | AF9: ParovaciUID
A11: Díl | B11: VN | C11: Vedlejší náklady | G11: =SUMIF(AE12:AE15,"<>NOR",G12:G15) -> 0 | I11: =SUM(I12:I15) -> 0 | K11: =SUM(K12:K15) -> 0 | M11: =SUM(M12:M15) -> 0 | O11: =SUM(O12:O15) -> 0 | Q11: =SUM(Q12:Q15) -> 0 | V11: =SUM(V12:V15) -> 0 | AE11: DIL
A12: 1 | B12: 005111021R | C12: Vytyčení inženýrských sítí | D12: Soubor | E12: 1 | G12: =ROUND(E12*F12,2) -> 0 | I12: =ROUND(E12*H12,2) -> 0 | K12: =ROUND(E12*J12,2) -> 0 | L12: 21 | M12: =G12*(1+L12/100) -> 0 | N12: 0 | O12: =ROUND(E12*N12,2) -> 0 | P12: 0 | Q12: =ROUND(E12*P12,2) -> 0 | S12: Firemní | T12: Indiv | U12: 0 | V12: =ROUND(E12*U12,2) -> 0 | AE12: POL99_8 | AF12: 41D2BB16-77AB-4878-B6AE-A5ACEDA7EF05
A13: 2 | B13: 005121010R | C13: Vybudování zařízení staveniště | D13: Soubor | E13: 1 | G13: =ROUND(E13*F13,2) -> 0 | I13: =ROUND(E13*H13,2) -> 0 | K13: =ROUND(E13*J13,2) -> 0 | L13: 21 | M13: =G13*(1+L13/100) -> 0 | N13: 0 | O13: =ROUND(E13*N13,2) -> 0 | P13: 0 | Q13: =ROUND(E13*P13,2) -> 0 | R13: 800-0 | S13: RTS 26/II | T13: Indiv | U13: 0 | V13: =ROUND(E13*U13,2) -> 0 | AE13: POL99_8 | AF13: EEC20BF3-F1B5-4DB2-8CCC-F2C0BFA2AB6F
A14: 3 | B14: 005121020R | C14: Provoz zařízení staveniště | D14: Soubor | E14: 1 | G14: =ROUND(E14*F14,2) -> 0 | I14: =ROUND(E14*H14,2) -> 0 | K14: =ROUND(E14*J14,2) -> 0 | L14: 21 | M14: =G14*(1+L14/100) -> 0 | N14: 0 | O14: =ROUND(E14*N14,2) -> 0 | P14: 0 | Q14: =ROUND(E14*P14,2) -> 0 | R14: 800-0 | S14: RTS 26/II | T14: Indiv | U14: 0 | V14: =ROUND(E14*U14,2) -> 0 | AE14: POL99_8 | AF14: E9D7CF10-3A66-4558-B3BF-4F8910F072A9
A15: 4 | B15: 005121030R | C15: Odstranění zařízení staveniště | D15: Soubor | E15: 1 | G15: =ROUND(E15*F15,2) -> 0 | I15: =ROUND(E15*H15,2) -> 0 | K15: =ROUND(E15*J15,2) -> 0 | L15: 21 | M15: =G15*(1+L15/100) -> 0 | N15: 0 | O15: =ROUND(E15*N15,2) -> 0 | P15: 0 | Q15: =ROUND(E15*P15,2) -> 0 | R15: 800-0 | S15: RTS 26/II | T15: Indiv | U15: 0 | V15: =ROUND(E15*U15,2) -> 0 | AE15: POL99_8 | AF15: C41A569E-641D-4DDE-A8CA-0378C199FE84
A17: Díl | B17: ON | C17: Ostatní náklady | G17: =SUMIF(AE18:AE21,"<>NOR",G18:G21) -> 0 | I17: =SUM(I18:I21) -> 0 | K17: =SUM(K18:K21) -> 0 | M17: =SUM(M18:M21) -> 0 | O17: =SUM(O18:O21) -> 0 | Q17: =SUM(Q18:Q21) -> 0 | V17: =SUM(V18:V21) -> 0 | AE17: DIL
A18: 5 | B18: 005211030R | C18: Dočasná dopravní opatření | D18: Soubor | E18: 1 | G18: =ROUND(E18*F18,2) -> 0 | I18: =ROUND(E18*H18,2) -> 0 | K18: =ROUND(E18*J18,2) -> 0 | L18: 21 | M18: =G18*(1+L18/100) -> 0 | N18: 0 | O18: =ROUND(E18*N18,2) -> 0 | P18: 0 | Q18: =ROUND(E18*P18,2) -> 0 | R18: 800-0 | S18: RTS 26/II | T18: Indiv | U18: 0 | V18: =ROUND(E18*U18,2) -> 0 | AE18: POL99_8 | AF18: 5A2DCC38-3368-435C-A78E-7D5ADFEA1916
A19: 6 | B19: 005211084R | C19: Uvedení uzemí staveniště do původního stavu | D19: Soubor | E19: 1 | G19: =ROUND(E19*F19,2) -> 0 | I19: =ROUND(E19*H19,2) -> 0 | K19: =ROUND(E19*J19,2) -> 0 | L19: 21 | M19: =G19*(1+L19/100) -> 0 | N19: 0 | O19: =ROUND(E19*N19,2) -> 0 | P19: 0 | Q19: =ROUND(E19*P19,2) -> 0 | S19: Firemní | T19: Indiv | U19: 0 | V19: =ROUND(E19*U19,2) -> 0 | AE19: POL99_8 | AF19: 6281385B-9457-4BDC-A1AD-589B12858668
A20: 7 | B20: 005241010R | C20: Dokumentace skutečného provedení | D20: Soubor | E20: 1 | G20: =ROUND(E20*F20,2) -> 0 | I20: =ROUND(E20*H20,2) -> 0 | K20: =ROUND(E20*J20,2) -> 0 | L20: 21 | M20: =G20*(1+L20/100) -> 0 | N20: 0 | O20: =ROUND(E20*N20,2) -> 0 | P20: 0 | Q20: =ROUND(E20*P20,2) -> 0 | R20: 800-0 | S20: RTS 26/II | T20: Indiv | U20: 0 | V20: =ROUND(E20*U20,2) -> 0 | AE20: POL99_8 | AF20: D46ACA87-AE86-4EF1-A955-A1CF66AAC170
A21: 8 | B21: 005241020R | C21: Geodetické zaměření skutečného provedení | D21: Soubor | E21: 1 | G21: =ROUND(E21*F21,2) -> 0 | I21: =ROUND(E21*H21,2) -> 0 | K21: =ROUND(E21*J21,2) -> 0 | L21: 21 | M21: =G21*(1+L21/100) -> 0 | N21: 0 | O21: =ROUND(E21*N21,2) -> 0 | P21: 0 | Q21: =ROUND(E21*P21,2) -> 0 | R21: 800-0 | S21: RTS 26/II | T21: Indiv | U21: 0 | V21: =ROUND(E21*U21,2) -> 0 | AE21: POL99_8 | AF21: 34EE9355-25ED-44AD-B3A5-4509C36CFC77
AC22: 12 | AD22: 21
B23: Celkem | G23: =G11+G17 -> 0 | AC23: =SUMIF(L7:L21,AC22,G7:G21) -> 0 | AD23: =SUMIF(L7:L21,AD22,G7:G21) -> 0 | AE23: SUM
A26: Poznámky uchazeče k zadání
AE27: POPUZIV
AE33: END

Sheet 02.1
A1: Položkový rozpočet | AE1: #TypZaznamu#
A2: S: | B2: 12 | C2: Tenisový dvojkurt, Bohuslavice u Kyjova | AE2: STA
A3: O: | AE3: OBJ
A4: R: | B4: 1 | C4: Tenisový dvojkurt, Bohuslavice u Kyjova | AE4: ROZ
A5: C: | B5: 1 | C5: Tenisový dvojkurt, Bohuslavice u Kyjova | AE5: CAS_STR
A6: C: | B6: 02 | C6: Nafukovací hala pro dvojkurt | AE6: CAS_STA
A7: C: | B7: 02.1 | C7: Nafukovací hala a technologie | AE7: CAS_STA
A9: # | B9: Číslo položky | C9: Název položky | D9: MJ | E9: Množství | F9: Cena / MJ | G9: Celkem | H9: Dodávka | I9: Dodávka celk. | J9: Montáž | K9: Montáž celk. | L9: DPH | M9: cena s DPH | N9: hmotnost / MJ | O9: hmotnost celk.(t) | P9: dem. hmotnost / MJ | Q9: dem. hmotnost celk.(t) | R9: Ceník | S9: Cen. soustava / platnost | T9: Cenová úroveň | U9: Nhod / MJ | V9: Nhod celk. | W9: Dodavatel | X9: Identifikace | AD9: CenaCelkem pro UzivDil | AE9: Typ | AF9: ParovaciUID
A11: Díl | B11: NH.1 | C11: Nafukovacia hala + príslušenstvo | G11: =SUMIF(AE12:AE35,"<>NOR",G12:G35) -> 0 | I11: =SUM(I12:I35) -> 0 | K11: =SUM(K12:K35) -> 0 | M11: =SUM(M12:M35) -> 0 | O11: =SUM(O12:O35) -> 0 | Q11: =SUM(Q12:Q35) -> 0 | V11: =SUM(V12:V35) -> 0 | AE11: DIL
A12: 1 | B12: 1.01 | C12: Dvouplášťová nafukovací hala | D12: soubr | E12: 1 | G12: =ROUND(E12*F12,2) -> 0 | I12: =ROUND(E12*H12,2) -> 0 | K12: =ROUND(E12*J12,2) -> 0 | L12: 21 | M12: =G12*(1+L12/100) -> 0 | N12: 0 | O12: =ROUND(E12*N12,2) -> 0 | P12: 0 | Q12: =ROUND(E12*P12,2) -> 0 | S12: Firemní | T12: Indiv | U12: 0 | V12: =ROUND(E12*U12,2) -> 0 | AE12: POL1_ | AF12: 34
B13: Hala : 1 | E13: 1 | AE13: VV | AF13: 0 | AI13: Hala : 1
AE14: VV | AF14: 0
B15: Specifikace: : | AE15: VV | AF15: 0 | AI15: Specifikace: :
AE16: VV | AF16: 0
B17: Vnitřní membrána: minimálně 650 g/m2 bílá se speciálním nátěrem pro zvýšení životnosti a lepší izolační vlastnosti : | AE17: VV | AF17: 0 | AI17: Vnitřní membrána: minimálně 650 g/m2 bílá se speciálním nátěrem pro zvýšení životnosti a lepší izolační vlastnosti :
B18: - 13501-1 min. B.s2, d0 : | AE18: VV | AF18: 0 | AI18: - 13501-1 min. B.s2, d0 :
B19: - síla v tahu: DIN EN ISO 1421-1 min > 2800/3000 N/5 cm : | AE19: VV | AF19: 0 | AI19: - síla v tahu: DIN EN ISO 1421-1 min > 2800/3000 N/5 cm :
B20: - odolnost proti roztržení: DIN 53363 min > 280/280 N : | AE20: VV | AF20: 0 | AI20: - odolnost proti roztržení: DIN 53363 min > 280/280 N :
AE21: VV | AF21: 0
B22: Vnější membrána: minimálně 900 g/m2 bílá se speciálním nátěrem : | AE22: VV | AF22: 0 | AI22: Vnější membrána: minimálně 900 g/m2 bílá se speciálním nátěrem :
B23: - hořlavost: EN 13501-1 min. B-s2, d0 : | AE23: VV | AF23: 0 | AI23: - hořlavost: EN 13501-1 min. B-s2, d0 :
B24: - síla v tahu: DIN EN ISO 1421-1min > 3300/3150 N/5 cm : | AE24: VV | AF24: 0 | AI24: - síla v tahu: DIN EN ISO 1421-1min > 3300/3150 N/5 cm :
B25: - odolnost proti roztržení: DIN 53363 min > 660/625 N : | AE25: VV | AF25: 0 | AI25: - odolnost proti roztržení: DIN 53363 min > 660/625 N :
B26: - translucence/ světelná prostupnost max 11% : | AE26: VV | AF26: 0 | AI26: - translucence/ světelná prostupnost max 11% :
AE27: VV | AF27: 0
B28: Kotevní membrána: minimálně 1200 g/m2 bílá určená pro největší zatížení, zajišťuje únosnost haly a kotevního systému : | AE28: VV | AF28: 0 | AI28: Kotevní membrána: minimálně 1200 g/m2 bílá určená pro největší zatížení, zajišťuje únosnost haly a kotevního systému :
B29: - hořlavost: DIN 4102 B1 : | AE29: VV | AF29: 0 | AI29: - hořlavost: DIN 4102 B1 :
B30: - síla v tahu: DIN EN ISO 1421-1 min > 5800/5400 N/5 cm : | AE30: VV | AF30: 0 | AI30: - síla v tahu: DIN EN ISO 1421-1 min > 5800/5400 N/5 cm :
B31: - odolnost proti roztržení: DIN 53363 min > 900/800 N : | AE31: VV | AF31: 0 | AI31: - odolnost proti roztržení: DIN 53363 min > 900/800 N :
B32: - translucence/ Světelná prostupnost max 10% : | AE32: VV | AF32: 0 | AI32: - translucence/ Světelná prostupnost max 10% :
A33: 2 | B33: 1.02 | C33: Dělicí síť | D33: soubr | E33: 1 | G33: =ROUND(E33*F33,2) -> 0 | I33: =ROUND(E33*H33,2) -> 0 | K33: =ROUND(E33*J33,2) -> 0 | L33: 21 | M33: =G33*(1+L33/100) -> 0 | N33: 0 | O33: =ROUND(E33*N33,2) -> 0 | P33: 0 | Q33: =ROUND(E33*P33,2) -> 0 | S33: Firemní | T33: Indiv | U33: 0 | V33: =ROUND(E33*U33,2) -> 0 | AE33: POL1_ | AF33: 35
A34: 3 | B34: 1.03 | C34: Podpěry pro síť | D34: ks | E34: 6 | G34: =ROUND(E34*F34,2) -> 0 | I34: =ROUND(E34*H34,2) -> 0 | K34: =ROUND(E34*J34,2) -> 0 | L34: 21 | M34: =G34*(1+L34/100) -> 0 | N34: 0 | O34: =ROUND(E34*N34,2) -> 0 | P34: 0 | Q34: =ROUND(E34*P34,2) -> 0 | S34: Firemní | T34: Indiv | U34: 0 | V34: =ROUND(E34*U34,2) -> 0 | AE34: POL1_ | AF34: 36
A35: 4 | B35: 1.04 | C35: Osvětlení včetně kabeláže (vanová svítidla s LED čipy) | D35: ks | E35: 60 | G35: =ROUND(E35*F35,2) -> 0 | I35: =ROUND(E35*H35,2) -> 0 | K35: =ROUND(E35*J35,2) -> 0 | L35: 21 | M35: =G35*(1+L35/100) -> 0 | N35: 0 | O35: =ROUND(E35*N35,2) -> 0 | P35: 0 | Q35: =ROUND(E35*P35,2) -> 0 | S35: Firemní | T35: Indiv | U35: 0 | V35: =ROUND(E35*U35,2) -> 0 | AE35: POL1_ | AF35: 37
A37: Díl | B37: NH.2 | C37: Technologie a dveře | G37: =SUMIF(AE38:AE51,"<>NOR",G38:G51) -> 0 | I37: =SUM(I38:I51) -> 0 | K37: =SUM(K38:K51) -> 0 | M37: =SUM(M38:M51) -> 0 | O37: =SUM(O38:O51) -> 0 | Q37: =SUM(Q38:Q51) -> 0 | V37: =SUM(V38:V51) -> 0 | AE37: DIL
A38: 5 | B38: 2.01 | C38: hlavní zařízení - dmychadlo s elektromotrem, vzduchový výkon při 300 Pa: 23.000 m3/h, výkon motorů: 2x4 kW | D38: ks | E38: 1 | G38: =ROUND(E38*F38,2) -> 0 | I38: =ROUND(E38*H38,2) -> 0 | K38: =ROUND(E38*J38,2) -> 0 | L38: 21 | M38: =G38*(1+L38/100) -> 0 | N38: 0 | O38: =ROUND(E38*N38,2) -> 0 | P38: 0 | Q38: =ROUND(E38*P38,2) -> 0 | S38: Firemní | T38: Indiv | U38: 0 | V38: =ROUND(E38*U38,2) -> 0 | AE38: POL1_ | AF38: 8
A39: 6 | B39: 2.02 | C39: systémový blok s výměníkem tepla, nerezový výměník, topný výkon: 250 kW | D39: ks | E39: 1 | G39: =ROUND(E39*F39,2) -> 0 | I39: =ROUND(E39*H39,2) -> 0 | K39: =ROUND(E39*J39,2) -> 0 | L39: 21 | M39: =G39*(1+L39/100) -> 0 | N39: 0 | O39: =ROUND(E39*N39,2) -> 0 | P39: 0 | Q39: =ROUND(E39*P39,2) -> 0 | S39: Firemní | T39: Indiv | U39: 0 | V39: =ROUND(E39*U39,2) -> 0 | AE39: POL1_ | AF39: 9
A40: 7 | B40: 2.03 | C40: plynový hořák s plynulou regulací, modulovaný | D40: ks | E40: 1 | G40: =ROUND(E40*F40,2) -> 0 | I40: =ROUND(E40*H40,2) -> 0 | K40: =ROUND(E40*J40,2) -> 0 | L40: 21 | M40: =G40*(1+L40/100) -> 0 | N40: 0 | O40: =ROUND(E40*N40,2) -> 0 | P40: 0 | Q40: =ROUND(E40*P40,2) -> 0 | S40: Firemní | T40: Indiv | U40: 0 | V40: =ROUND(E40*U40,2) -> 0 | AE40: POL1_ | AF40: 10
A41: 8 | B41: 2.04 | C41: dvouplášťový komín z nerezové oceli | D41: komplet | E41: 1 | G41: =ROUND(E41*F41,2) -> 0 | I41: =ROUND(E41*H41,2) -> 0 | K41: =ROUND(E41*J41,2) -> 0 | L41: 21 | M41: =G41*(1+L41/100) -> 0 | N41: 0 | O41: =ROUND(E41*N41,2) -> 0 | P41: 0 | Q41: =ROUND(E41*P41,2) -> 0 | S41: Firemní | T41: Indiv | U41: 0 | V41: =ROUND(E41*U41,2) -> 0 | AE41: POL1_ | AF41: 11
A42: 9 | B42: 2.05 | C42: vzduchové kanály - provedení v pozinkovaném plechu včetně tlumiče hluku a izolace kanálu foukaného vzduchu | D42: komplet | E42: 1 | G42: =ROUND(E42*F42,2) -> 0 | I42: =ROUND(E42*H42,2) -> 0 | K42: =ROUND(E42*J42,2) -> 0 | L42: 21 | M42: =G42*(1+L42/100) -> 0 | N42: 0 | O42: =ROUND(E42*N42,2) -> 0 | P42: 0 | Q42: =ROUND(E42*P42,2) -> 0 | S42: Firemní | T42: Indiv | U42: 0 | V42: =ROUND(E42*U42,2) -> 0 | AE42: POL1_ | AF42: 12
A43: 10 | B43: 2.06 | C43: nouzový agregát - agregát zajišťující chod motorů při výpadku elektrické energie, požadavek na diesel motor s automatickým vyhříváním při nízké teplotě | D43: ks | E43: 1 | G43: =ROUND(E43*F43,2) -> 0 | I43: =ROUND(E43*H43,2) -> 0 | K43: =ROUND(E43*J43,2) -> 0 | L43: 21 | M43: =G43*(1+L43/100) -> 0 | N43: 0 | O43: =ROUND(E43*N43,2) -> 0 | P43: 0 | Q43: =ROUND(E43*P43,2) -> 0 | S43: Firemní | T43: Indiv | U43: 0 | V43: =ROUND(E43*U43,2) -> 0 | AE43: POL1_ | AF43: 13
A44: 11 | B44: 2.07 | C44: rozvodná skříň- není integrována přímo do VZT jednotky umožňující vyšší komfort správy a řízení chodu haly, centrální řízení provozu haly samostatně stojící rozvaděč s regulátorem PLC | D44: ks | E44: 1 | G44: =ROUND(E44*F44,2) -> 0 | I44: =ROUND(E44*H44,2) -> 0 | K44: =ROUND(E44*J44,2) -> 0 | L44: 21 | M44: =G44*(1+L44/100) -> 0 | N44: 0 | O44: =ROUND(E44*N44,2) -> 0 | P44: 0 | Q44: =ROUND(E44*P44,2) -> 0 | S44: Firemní | T44: Indiv | U44: 0 | V44: =ROUND(E44*U44,2) -> 0 | AE44: POL1_ | AF44: 14
A45: 12 | B45: 2.08 | C45: větrná automatika - bezpečný provoz haly při vyšších poryvech větru včetně informace a hlášení problému, notifikace s možností nastavení hodnot | D45: ks | E45: 1 | G45: =ROUND(E45*F45,2) -> 0 | I45: =ROUND(E45*H45,2) -> 0 | K45: =ROUND(E45*J45,2) -> 0 | L45: 21 | M45: =G45*(1+L45/100) -> 0 | N45: 0 | O45: =ROUND(E45*N45,2) -> 0 | P45: 0 | Q45: =ROUND(E45*P45,2) -> 0 | S45: Firemní | T45: Indiv | U45: 0 | V45: =ROUND(E45*U45,2) -> 0 | AE45: POL1_ | AF45: 15
A46: 13 | B46: 2.09 | C46: vstupní dveře typu karusel | D46: ks | E46: 1 | G46: =ROUND(E46*F46,2) -> 0 | I46: =ROUND(E46*H46,2) -> 0 | K46: =ROUND(E46*J46,2) -> 0 | L46: 21 | M46: =G46*(1+L46/100) -> 0 | N46: 0 | O46: =ROUND(E46*N46,2) -> 0 | P46: 0 | Q46: =ROUND(E46*P46,2) -> 0 | S46: Firemní | T46: Indiv | U46: 0 | V46: =ROUND(E46*U46,2) -> 0 | AE46: POL1_ | AF46: 16
A47: 14 | B47: 2.10 | C47: strojovna v provedení 20" kontejneru se zabudovanou technologií | D47: ks | E47: 1 | G47: =ROUND(E47*F47,2) -> 0 | I47: =ROUND(E47*H47,2) -> 0 | K47: =ROUND(E47*J47,2) -> 0 | L47: 21 | M47: =G47*(1+L47/100) -> 0 | N47: 0 | O47: =ROUND(E47*N47,2) -> 0 | P47: 0 | Q47: =ROUND(E47*P47,2) -> 0 | S47: Firemní | T47: Indiv | U47: 0 | V47: =ROUND(E47*U47,2) -> 0 | AE47: POL1_ | AF47: 17
A48: 15 | B48: 2.11 | C48: kanálová stěna | D48: ks | E48: 1 | G48: =ROUND(E48*F48,2) -> 0 | I48: =ROUND(E48*H48,2) -> 0 | K48: =ROUND(E48*J48,2) -> 0 | L48: 21 | M48: =G48*(1+L48/100) -> 0 | N48: 0 | O48: =ROUND(E48*N48,2) -> 0 | P48: 0 | Q48: =ROUND(E48*P48,2) -> 0 | S48: Firemní | T48: Indiv | U48: 0 | V48: =ROUND(E48*U48,2) -> 0 | AE48: POL1_ | AF48: 18
A49: 16 | B49: 2.12 | C49: únikové dveře | D49: ks | E49: 1 | G49: =ROUND(E49*F49,2) -> 0 | I49: =ROUND(E49*H49,2) -> 0 | K49: =ROUND(E49*J49,2) -> 0 | L49: 21 | M49: =G49*(1+L49/100) -> 0 | N49: 0 | O49: =ROUND(E49*N49,2) -> 0 | P49: 0 | Q49: =ROUND(E49*P49,2) -> 0 | S49: Firemní | T49: Indiv | U49: 0 | V49: =ROUND(E49*U49,2) -> 0 | AE49: POL1_ | AF49: 19
... A51: 18 | B51: 2.14 | C51: sofistikovaný systém vzdálené správy nafukovací haly a řízení chodu nafukovací haly (tedy zejména možnost dálkového nastavení topení, osvětlení a tlaku, i možnost dálkového nastavení týdenního programu, výpočet konstant pro řízení vytápění pomocí umělé | D51: komplet | E51: 1 | G51: =ROUND(E51*F51,2) -> 0 | I51: =ROUND(E51*H51,2) -> 0 | K51: =ROUND(E51*J51,2) -> 0 | L51: 21 | M51: =G51*(1+L51/100) -> 0 | N51: 0 | O51: =ROUND(E51*N51,2) -> 0 | P51: 0 | Q51: =ROUND(E51*P51,2) -> 0 | S51: Firemní | T51: Indiv | U51: 0 | V51: =ROUND(E51*U51,2) -> 0 | AE51: POL1_ | AF51: 21
A53: Díl | B53: NH.3 | C53: Kotvení | G53: =SUMIF(AE54:AE56,"<>NOR",G54:G56) -> 0 | I53: =SUM(I54:I56) -> 0 | K53: =SUM(K54:K56) -> 0 | M53: =SUM(M54:M56) -> 0 | O53: =SUM(O54:O56) -> 0 | Q53: =SUM(Q54:Q56) -> 0 | V53: =SUM(V54:V56) -> 0 | AE53: DIL
A54: 19 | B54: 3.01 | C54: Kotvící prvky UNP 80 pozinkované | D54: ks | E54: 72 | G54: =ROUND(E54*F54,2) -> 0 | I54: =ROUND(E54*H54,2) -> 0 | K54: =ROUND(E54*J54,2) -> 0 | L54: 21 | M54: =G54*(1+L54/100) -> 0 | N54: 0 | O54: =ROUND(E54*N54,2) -> 0 | P54: 0 | Q54: =ROUND(E54*P54,2) -> 0 | S54: Firemní | T54: Indiv | U54: 0 | V54: =ROUND(E54*U54,2) -> 0 | AE54: POL1_ | AF54: 28
A55: 20 | B55: 3.02 | C55: Chemická kotva + šrouby | D55: ks | E55: 216 | G55: =ROUND(E55*F55,2) -> 0 | I55: =ROUND(E55*H55,2) -> 0 | K55: =ROUND(E55*J55,2) -> 0 | L55: 21 | M55: =G55*(1+L55/100) -> 0 | N55: 0 | O55: =ROUND(E55*N55,2) -> 0 | P55: 0 | Q55: =ROUND(E55*P55,2) -> 0 | S55: Firemní | T55: Indiv | U55: 0 | V55: =ROUND(E55*U55,2) -> 0 | AE55: POL1_ | AF55: 29
A56: 21 | B56: 3.03 | C56: Montáž kotvení | D56: soubr | E56: 1 | G56: =ROUND(E56*F56,2) -> 0 | I56: =ROUND(E56*H56,2) -> 0 | K56: =ROUND(E56*J56,2) -> 0 | L56: 21 | M56: =G56*(1+L56/100) -> 0 | N56: 0 | O56: =ROUND(E56*N56,2) -> 0 | P56: 0 | Q56: =ROUND(E56*P56,2) -> 0 | S56: Firemní | T56: Indiv | U56: 0 | V56: =ROUND(E56*U56,2) -> 0 | AE56: POL1_ | AF56: 30
A58: Díl | B58: NH.4 | C58: Instalace a montáž nafukovací haly | G58: =SUMIF(AE59:AE61,"<>NOR",G59:G61) -> 0 | I58: =SUM(I59:I61) -> 0 | K58: =SUM(K59:K61) -> 0 | M58: =SUM(M59:M61) -> 0 | O58: =SUM(O59:O61) -> 0 | Q58: =SUM(Q59:Q61) -> 0 | V58: =SUM(V59:V61) -> 0 | AE58: DIL
A59: 22 | B59: 4.01 | C59: transport - dodávka spediční firmou včetně nákladů na vyložení | D59: komplet | E59: 1 | G59: =ROUND(E59*F59,2) -> 0 | I59: =ROUND(E59*H59,2) -> 0 | K59: =ROUND(E59*J59,2) -> 0 | L59: 21 | M59: =G59*(1+L59/100) -> 0 | N59: 0 | O59: =ROUND(E59*N59,2) -> 0 | P59: 0 | Q59: =ROUND(E59*P59,2) -> 0 | S59: Firemní | T59: Indiv | U59: 0 | V59: =ROUND(E59*U59,2) -> 0 | AE59: POL1_ | AF59: 24
A60: 23 | B60: 4.02 | C60: Montáž nafukovací haly | D60: soubr | E60: 1 | G60: =ROUND(E60*F60,2) -> 0 | I60: =ROUND(E60*H60,2) -> 0 | K60: =ROUND(E60*J60,2) -> 0 | L60: 21 | M60: =G60*(1+L60/100) -> 0 | N60: 0 | O60: =ROUND(E60*N60,2) -> 0 | P60: 0 | Q60: =ROUND(E60*P60,2) -> 0 | S60: Firemní | T60: Indiv | U60: 0 | V60: =ROUND(E60*U60,2) -> 0 | AE60: POL1_ | AF60: 25
A61: 24 | B61: 4.03 | C61: Osazení, zprovoznění technologie haly | D61: komplet | E61: 1 | G61: =ROUND(E61*F61,2) -> 0 | I61: =ROUND(E61*H61,2) -> 0 | K61: =ROUND(E61*J61,2) -> 0 | L61: 21 | M61: =G61*(1+L61/100) -> 0 | N61: 0 | O61: =ROUND(E61*N61,2) -> 0 | P61: 0 | Q61: =ROUND(E61*P61,2) -> 0 | S61: Firemní | T61: Indiv | U61: 0 | V61: =ROUND(E61*U61,2) -> 0 | AE61: POL1_ | AF61: 26
AC62: 12 | AD62: 21
B63: Celkem | G63: =G11+G37+G53+G58 -> 0 | AC63: =SUMIF(L7:L61,AC62,G7:G61) -> 0 | AD63: =SUMIF(L7:L61,AD62,G7:G61) -> 0 | AE63: SUM
A66: Poznámky uchazeče k zadání
AE67: POPUZIV
AE73: END

Sheet 02.2
A1: Položkový rozpočet | AE1: #TypZaznamu#
A2: S: | B2: 12 | C2: Tenisový dvojkurt, Bohuslavice u Kyjova | AE2: STA
A3: O: | AE3: OBJ
A4: R: | B4: 1 | C4: Tenisový dvojkurt, Bohuslavice u Kyjova | AE4: ROZ
A5: C: | B5: 1 | C5: Tenisový dvojkurt, Bohuslavice u Kyjova | AE5: CAS_STR
A6: C: | B6: 02 | C6: Nafukovací hala pro dvojkurt | AE6: CAS_STA
A7: C: | B7: 02.2 | C7: Přípojka NN | AE7: CAS_STA
A9: # | B9: Číslo položky | C9: Název položky | D9: MJ | E9: Množství | F9: Cena / MJ | G9: Celkem | H9: Dodávka | I9: Dodávka celk. | J9: Montáž | K9: Montáž celk. | L9: DPH | M9: cena s DPH | N9: hmotnost / MJ | O9: hmotnost celk.(t) | P9: dem. hmotnost / MJ | Q9: dem. hmotnost celk.(t) | R9: Ceník | S9: Cen. soustava / platnost | T9: Cenová úroveň | U9: Nhod / MJ | V9: Nhod celk. | W9: Dodavatel | X9: Identifikace | AD9: CenaCelkem pro UzivDil | AE9: Typ | AF9: ParovaciUID
A11: Díl | B11: M21 | C11: Elektromontáže | G11: =SUMIF(AE12:AE12,"<>NOR",G12:G12) -> 0 | I11: =SUM(I12:I12) -> 0 | K11: =SUM(K12:K12) -> 0 | M11: =SUM(M12:M12) -> 0 | O11: =SUM(O12:O12) -> 2.74 | Q11: =SUM(Q12:Q12) -> 0 | V11: =SUM(V12:V12) -> 6.04 | AE11: DIL
A12: 1 | B12: 210100011RAA | C12: Přípojka elektro v zemi pro technologii a osvětlení nafukovací haly, ve volném terénu (vč. zemních prací), kabel CYKY 5 x 16 mm2 | D12: m | E12: 10 | G12: =ROUND(E12*F12,2) -> 0 | I12: =ROUND(E12*H12,2) -> 0 | K12: =ROUND(E12*J12,2) -> 0 | L12: 21 | M12: =G12*(1+L12/100) -> 0 | N12: 0.27399 | O12: =ROUND(E12*N12,2) -> 2.74 | P12: 0 | Q12: =ROUND(E12*P12,2) -> 0 | S12: Firemní | T12: RTS 26/I | U12: 0.60426 | V12: =ROUND(E12*U12,2) -> 6.04 | AE12: POL2_ | AF12: 6C0625AD-1198-44ED-96C6-89AA0220D2AC
AC13: 12 | AD13: 21
B14: Celkem | G14: =G11 -> 0 | AC14: =SUMIF(L7:L12,AC13,G7:G12) -> 0 | AD14: =SUMIF(L7:L12,AD13,G7:G12) -> 0 | AE14: SUM
A17: Poznámky uchazeče k zadání
AE18: POPUZIV
AE24: END

Sheet 02.3
A1: Položkový rozpočet | AE1: #TypZaznamu#
A2: S: | B2: 12 | C2: Tenisový dvojkurt, Bohuslavice u Kyjova | AE2: STA
A3: O: | AE3: OBJ
A4: R: | B4: 1 | C4: Tenisový dvojkurt, Bohuslavice u Kyjova | AE4: ROZ
A5: C: | B5: 1 | C5: Tenisový dvojkurt, Bohuslavice u Kyjova | AE5: CAS_STR
A6: C: | B6: 02 | C6: Nafukovací hala pro dvojkurt | AE6: CAS_STA
A7: C: | B7: 02.3 | C7: Přípojka plynu | AE7: CAS_STA
A9: # | B9: Číslo položky | C9: Název položky | D9: MJ | E9: Množství | F9: Cena / MJ | G9: Celkem | H9: Dodávka | I9: Dodávka celk. | J9: Montáž | K9: Montáž celk. | L9: DPH | M9: cena s DPH | N9: hmotnost / MJ | O9: hmotnost celk.(t) | P9: dem. hmotnost / MJ | Q9: dem. hmotnost celk.(t) | R9: Ceník | S9: Cen. soustava / platnost | T9: Cenová úroveň | U9: Nhod / MJ | V9: Nhod celk. | W9: Dodavatel | X9: Identifikace | AD9: CenaCelkem pro UzivDil | AE9: Typ | AF9: ParovaciUID
A11: Díl | B11: 8 | C11: Trubní vedení | G11: =SUMIF(AE12:AE12,"<>NOR",G12:G12) -> 0 | I11: =SUM(I12:I12) -> 0 | K11: =SUM(K12:K12) -> 0 | M11: =SUM(M12:M12) -> 0 | O11: =SUM(O12:O12) -> 4.77 | Q11: =SUM(Q12:Q12) -> 0 | V11: =SUM(V12:V12) -> 23.31 | AE11: DIL
A12: 1 | B12: 841220037RAA | C12: Plynovodní přípojka z trub PE100 RC 75x6,9, dl. 23 m, vč. zemních prací | D12: kus | E12: 1 | G12: =ROUND(E12*F12,2) -> 0 | I12: =ROUND(E12*H12,2) -> 0 | K12: =ROUND(E12*J12,2) -> 0 | L12: 21 | M12: =G12*(1+L12/100) -> 0 | N12: 4.76918 | O12: =ROUND(E12*N12,2) -> 4.77 | P12: 0 | Q12: =ROUND(E12*P12,2) -> 0 | S12: Firemní | T12: Indiv | U12: 23.30988 | V12: =ROUND(E12*U12,2) -> 23.31 | AE12: POL2_ | AF12: 75244480-BDE1-4B54-B7E5-834ED62E2A9C
AC13: 12 | AD13: 21
B14: Celkem | G14: =G11 -> 0 | AC14: =SUMIF(L7:L12,AC13,G7:G12) -> 0 | AD14: =SUMIF(L7:L12,AD13,G7:G12) -> 0 | AE14: SUM
A17: Poznámky uchazeče k zadání
AE18: POPUZIV
AE24: END
