Workbook
Name CelkemDPHVypocet: Stavba!$H$42:$H$42
Name CenaCelkem: Stavba!$G$29
Name CenaCelkemBezDPH: Stavba!$G$28
Name CenaCelkemVypocet: Stavba!$I$42:$I$42
Name cisloobjektu: Stavba!$D$3
Name CisloRozpoctu: '[1]Krycí list'!$C$2
Name CisloStavby: Stavba!$D$2
Name cislostavby: '[1]Krycí list'!$A$7
Name CisloStavebnihoRozpoctu: Stavba!$D$4
Name dadresa: Stavba!$D$12:$G$12
Name DIČ: Stavba!$I$12
Name dmisto: Stavba!$E$13:$G$13
Name DPHSni: Stavba!$G$24
Name DPHZakl: Stavba!$G$26
Name dpsc: Stavba!$D$13
Name IČO: Stavba!$I$11
Name Mena: Stavba!$J$29
Name MistoStavby: Stavba!$D$4
Name nazevobjektu: Stavba!$E$3
Name NazevRozpoctu: '[1]Krycí list'!$D$2
Name NazevStavby: Stavba!$E$2
Name nazevstavby: '[1]Krycí list'!$C$7
Name NazevStavebnihoRozpoctu: Stavba!$E$4
Name oadresa: Stavba!$D$6
Name Objednatel: Stavba!$D$5
Name Objekt: Stavba!$B$38
Name odic: Stavba!$I$6
Name oico: Stavba!$I$5
Name omisto: Stavba!$E$7
Name onazev: Stavba!$D$6
Name opsc: Stavba!$D$7
Name padresa: Stavba!$D$9
Name pdic: Stavba!$I$9
Name pico: Stavba!$I$8
Name pmisto: Stavba!$E$10
Name PocetMJ: #REF!
Name PoptavkaID: Stavba!$A$1
Name pPSC: Stavba!$D$10
Name Projektant: Stavba!$D$8
Name SazbaDPH1: Stavba!$E$23
Name SazbaDPH1: '[1]Krycí list'!$C$30
Name SazbaDPH2: Stavba!$E$25
Name SazbaDPH2: '[1]Krycí list'!$C$32
Name SloupecCC: #REF!
Name SloupecCisloPol: #REF!
Name SloupecJC: #REF!
Name SloupecMJ: #REF!
Name SloupecMnozstvi: #REF!
Name SloupecNazPol: #REF!
Name SloupecPC: #REF!
Name Vypracoval: Stavba!$D$14
Name ZakladDPHSni: Stavba!$G$23
Name ZakladDPHSniVypocet: Stavba!$F$42:$F$42
Name ZakladDPHZakl: Stavba!$G$25
Name ZakladDPHZaklVypocet: Stavba!$G$42:$G$42
Name ZaObjednatele: Stavba!$G$34
Name Zaokrouhleni: Stavba!$G$27
Name ZaZhotovitele: Stavba!$D$34
Name Zhotovitel: Stavba!$D$11:$G$11

Sheet Pokyny pro vyplnění
A1: Pokyny pro vyplnění
A2: Ve všech listech tohoto souboru můžete měnit pouze buňky s modrým pozadím. Jedná se o tyto údaje : - údaje o firmě - jednotkové ceny položek zadané na maximálně dvě desetinná místa

Sheet Stavba
A1: #RTSROZP# | B1: Položkový rozpočet stavby
B2: Stavba: | D2: 2026_066 | E2: Teplovod ZŠ Komenského
B3: Objekt: | D3: D.8.5 | E3: Horkovod
A4: 5437 | B4: Rozpočet: | D4: D.8.5 | E4: Horkovod
B5: Objednatel: | H5: IČO:
H6: DIČ:
B8: Projektant: | H8: IČO:
H9: DIČ:
B11: Zhotovitel: | H11: IČO:
H12: DIČ:
B14: Vypracoval: | D14: TZpro,s.r.o.
B15: Rozpis ceny | I15: Celkem
A16: HSV | B16: HSV | I16: =SUMIF(F49:F52,A16,I49:I52)+SUMIF(F49:F52,"PSU",I49:I52) -> 0
A17: PSV | B17: PSV | I17: =SUMIF(F49:F52,A17,I49:I52) -> 0
A18: MON | B18: MON | I18: =SUMIF(F49:F52,A18,I49:I52) -> 0
A19: VN | B19: Vedlejší náklady | I19: =SUMIF(F49:F52,A19,I49:I52) -> 0
A20: ON | B20: Ostatní náklady | I20: =SUMIF(F49:F52,A20,I49:I52) -> 0
B21: Celkem | I21: =SUM(I16:J20) -> 0
B22: Rekapitulace daní
A23: =ZakladDPHSni*SazbaDPH1/100 -> 0 | B23: Základ pro sníženou DPH | E23: 12 | F23: % | G23: 0 | J23: =Mena -> CZK
A24: =(A23-INT(A23))*100 -> 0 | B24: Snížená DPH | E24: =SazbaDPH1 -> 12 | F24: % | G24: =A23 -> 0 | J24: =Mena -> CZK
A25: =ZakladDPHZakl*SazbaDPH2/100 -> 0 | B25: Základ pro základní DPH | E25: 21 | F25: % | G25: ='D.8.5 D.8.5 Pol'!G63 -> 0 | J25: =Mena -> CZK
A26: =(A25-INT(A25))*100 -> 0 | B26: Základní DPH | E26: =SazbaDPH2 -> 21 | F26: % | G26: =A25 -> 0 | J26: =Mena -> CZK
A27: =ZakladDPHSni+DPHSni+ZakladDPHZakl+DPHZakl -> 0 | B27: Zaokrouhlení | G27: =CenaCelkem-(ZakladDPHSni+DPHSni+ZakladDPHZakl+DPHZakl) -> 0 | J27: =Mena -> CZK
B28: Cena celkem bez DPH | G28: =ZakladDPHSniVypocet+ZakladDPHZaklVypocet -> #REF! | J28: =Mena -> CZK
A29: =(A27-INT(A27))*100 -> 0 | B29: Cena celkem s DPH | G29: =A27 -> 0 | J29: CZK
C32: v | F32: dne
D35: Za zhotovitele | H35: Za objednatele
B37: Rekapitulace dílčích částí
A38: #CASTI>> | B38: Číslo | C38: Název | F38: =B23 -> Základ pro sníženou DPH | G38: =B25 -> Základ pro základní DPH | H38: DPH celkem | I38: Cena celkem | J38: %
A39: 1 | B39: Stavba | F39: ='D.8.5 D.8.5 Pol'!#REF! -> #REF! | G39: ='D.8.5 D.8.5 Pol'!#REF! -> #REF! | H39: =(F39*SazbaDPH1/100)+(G39*SazbaDPH2/100) -> #REF! | I39: =F39+G39+H39 -> #REF! | J39: =IF(CenaCelkemVypocet=0,"",I39/CenaCelkemVypocet*100) -> #REF!
A40: 2 | B40: D.8.5 | C40: Horkovod | F40: ='D.8.5 D.8.5 Pol'!#REF! -> #REF! | G40: ='D.8.5 D.8.5 Pol'!#REF! -> #REF! | H40: =(F40*SazbaDPH1/100)+(G40*SazbaDPH2/100) -> #REF! | I40: =F40+G40+H40 -> #REF! | J40: =IF(CenaCelkemVypocet=0,"",I40/CenaCelkemVypocet*100) -> #REF!
A41: 3 | B41: D.8.5 | C41: Horkovod | F41: ='D.8.5 D.8.5 Pol'!#REF! -> #REF! | G41: ='D.8.5 D.8.5 Pol'!#REF! -> #REF! | H41: =(F41*SazbaDPH1/100)+(G41*SazbaDPH2/100) -> #REF! | I41: =F41+G41+H41 -> #REF! | J41: =IF(CenaCelkemVypocet=0,"",I41/CenaCelkemVypocet*100) -> #REF!
B42: Celkem za stavbu | F42: =SUMIF(A39:A41,"=1",F39:F41) -> #REF! | G42: =SUMIF(A39:A41,"=1",G39:G41) -> #REF! | H42: =SUMIF(A39:A41,"=1",H39:H41) -> #REF! | I42: =SUMIF(A39:A41,"=1",I39:I41) -> #REF! | J42: =SUMIF(A39:A41,"=1",J39:J41) -> #REF!
B46: Rekapitulace dílů
B48: Číslo | C48: Název | F48: Typ dílu | I48: Celkem | J48: %
B49: 1 | C49: Zemní práce | F49: HSV | I49: ='D.8.5 D.8.5 Pol'!G8 -> 0 | J49: =IF(I53=0,"",I49/I53*100)
B50: 002 | C50: Montáž předizolovaného potrubí teplovodu | F50: PSV | I50: ='D.8.5 D.8.5 Pol'!G20 -> 0 | J50: =IF(I53=0,"",I50/I53*100)
B51: 006 | C51: Rozvod potrubí | F51: PSV | I51: ='D.8.5 D.8.5 Pol'!G30 -> 0 | J51: =IF(I53=0,"",I51/I53*100)
B52: VN | C52: Vedlejší náklady+vnitřní vodovod | F52: VN | I52: ='D.8.5 D.8.5 Pol'!G35 -> 0 | J52: =IF(I53=0,"",I52/I53*100)
...

Sheet VzorPolozky
A1: Položkový rozpočet
A2: S:
A3: O:
A4: R:

Sheet D.8.5 D.8.5 Pol
A1: Položkový rozpočet | AG1: #TypZaznamu#
A2: S: | B2: 2026_066 | C2: Teplovod ZŠ Komenského | AG2: STA
A3: O: | B3: D.8.5 | C3: Horkovod | AC3: STA | AG3: OBJ
A4: R: | B4: D.8.5 | C4: Horkovod | AG4: ROZ
A6: P.č. | B6: Číslo položky | C6: Název položky | D6: MJ | E6: Množství | F6: Cena / MJ | G6: Celkem | H6: Dodávka | I6: Dodávka celk. | J6: Montáž | K6: Montáž celk. | L6: DPH | M6: Cena s DPH | N6: Hmotnost / MJ | O6: Hmotnost celk.(t) | P6: Dem. hmotnost / MJ | Q6: Dem. hmotnost celk.(t) | R6: Ceník | S6: Cen. soustava / platnost | T6: Cenová úroveň | U6: Nhod / MJ | V6: Nhod celk. | W6: Dodavatel | X6: Typ položky | Y6: Stav položky
A8: Díl: | B8: 1 | C8: Zemní práce | G8: =SUMIF(AG9:AG19,"<>NOR",G9:G19) -> 0 | I8: =SUM(I9:I19) -> 0 | K8: =SUM(K9:K19) -> 0 | M8: =SUM(M9:M19) -> 0 | O8: =SUM(O9:O19) -> 13.75 | Q8: =SUM(Q9:Q19) -> 0 | V8: =SUM(V9:V19) -> 0 | AG8: DIL
A9: 1 | B9: 001 | C9: Jádrový vrt průměr 150mm | D9: ks | E9: 6 | G9: =ROUND(E9*F9,2) -> 0 | I9: =ROUND(E9*H9,2) -> 0 | K9: =ROUND(E9*J9,2) -> 0 | L9: 21 | M9: =G9*(1+L9/100) -> 0 | N9: 0 | O9: =ROUND(E9*N9,2) -> 0 | P9: 0 | Q9: =ROUND(E9*P9,2) -> 0 | S9: Vlastní | T9: Indiv | U9: 0 | V9: =ROUND(E9*U9,2) -> 0 | X9: Práce | Y9: Běžná | AG9: POL1_
A10: 2 | B10: 003 | C10: Hloubení jam sk.3 přes 20 do 50m3 | D10: m3 | E10: 21 | G10: =ROUND(E10*F10,2) -> 0 | I10: =ROUND(E10*H10,2) -> 0 | K10: =ROUND(E10*J10,2) -> 0 | L10: 21 | M10: =G10*(1+L10/100) -> 0 | N10: 0 | O10: =ROUND(E10*N10,2) -> 0 | P10: 0 | Q10: =ROUND(E10*P10,2) -> 0 | S10: Vlastní | T10: Indiv | U10: 0 | V10: =ROUND(E10*U10,2) -> 0 | X10: Práce | Y10: Běžná | AG10: POL1_
A11: 3 | B11: 119003131 | C11: Výstražná páska pro zabezpečení výkopu zřízení | D11: m | E11: 250 | G11: =ROUND(E11*F11,2) -> 0 | I11: =ROUND(E11*H11,2) -> 0 | K11: =ROUND(E11*J11,2) -> 0 | L11: 21 | M11: =G11*(1+L11/100) -> 0 | N11: 0.00056 | O11: =ROUND(E11*N11,2) -> 0.14 | P11: 0 | Q11: =ROUND(E11*P11,2) -> 0 | S11: URS | T11: ÚRS 25 01 | U11: 0 | V11: =ROUND(E11*U11,2) -> 0 | X11: Práce | Y11: Běžná | AG11: POL1_1
A12: 4 | B12: 119003132 | C12: Výstražná páska pro zabezpečení výkopu odstranění | D12: m | E12: 250 | G12: =ROUND(E12*F12,2) -> 0 | I12: =ROUND(E12*H12,2) -> 0 | K12: =ROUND(E12*J12,2) -> 0 | L12: 21 | M12: =G12*(1+L12/100) -> 0 | N12: 0 | O12: =ROUND(E12*N12,2) -> 0 | P12: 0 | Q12: =ROUND(E12*P12,2) -> 0 | S12: URS | T12: ÚRS 25 01 | U12: 0 | V12: =ROUND(E12*U12,2) -> 0 | X12: Práce | Y12: Běžná | AG12: POL1_1
A13: 5 | B13: 119004111 | C13: Bezpečný vstup nebo výstup z výkopu pomocí žebříku zřízení | D13: m | E13: 4 | G13: =ROUND(E13*F13,2) -> 0 | I13: =ROUND(E13*H13,2) -> 0 | K13: =ROUND(E13*J13,2) -> 0 | L13: 21 | M13: =G13*(1+L13/100) -> 0 | N13: 0.00047 | O13: =ROUND(E13*N13,2) -> 0 | P13: 0 | Q13: =ROUND(E13*P13,2) -> 0 | S13: URS | T13: ÚRS 25 01 | U13: 0 | V13: =ROUND(E13*U13,2) -> 0 | X13: Práce | Y13: Běžná | AG13: POL1_1
A14: 6 | B14: 119004112 | C14: Bezpečný vstup nebo výstup z výkopu pomocí žebříku odstranění | D14: m | E14: 4 | G14: =ROUND(E14*F14,2) -> 0 | I14: =ROUND(E14*H14,2) -> 0 | K14: =ROUND(E14*J14,2) -> 0 | L14: 21 | M14: =G14*(1+L14/100) -> 0 | N14: 0 | O14: =ROUND(E14*N14,2) -> 0 | P14: 0 | Q14: =ROUND(E14*P14,2) -> 0 | S14: URS | T14: ÚRS 25 01 | U14: 0 | V14: =ROUND(E14*U14,2) -> 0 | X14: Práce | Y14: Běžná | AG14: POL1_1
A15: 7 | B15: 121151103 | C15: Sejmutí ornice plochy do 100 m2 tl vrstvy do 200 mm strojně | D15: m2 | E15: 72 | G15: =ROUND(E15*F15,2) -> 0 | I15: =ROUND(E15*H15,2) -> 0 | K15: =ROUND(E15*J15,2) -> 0 | L15: 21 | M15: =G15*(1+L15/100) -> 0 | N15: 0 | O15: =ROUND(E15*N15,2) -> 0 | P15: 0 | Q15: =ROUND(E15*P15,2) -> 0 | S15: URS | T15: ÚRS 25 02 | U15: 0 | V15: =ROUND(E15*U15,2) -> 0 | X15: Práce | Y15: Běžná | AG15: POL1_1
A16: 8 | B16: 132251253 | C16: Hloubení rýh nezapažených š do 2000 mm v hornině třídy těžitelnosti I skupiny 3 objem do 100 m3 strojně | D16: m3 | E16: 86 | G16: =ROUND(E16*F16,2) -> 0 | I16: =ROUND(E16*H16,2) -> 0 | K16: =ROUND(E16*J16,2) -> 0 | L16: 21 | M16: =G16*(1+L16/100) -> 0 | N16: 0 | O16: =ROUND(E16*N16,2) -> 0 | P16: 0 | Q16: =ROUND(E16*P16,2) -> 0 | S16: URS | T16: ÚRS 25 01 | U16: 0 | V16: =ROUND(E16*U16,2) -> 0 | X16: Práce | Y16: Běžná | AG16: POL1_1
A17: 9 | B17: 175151101 | C17: Obsypání potrubí strojně sypaninou bez prohození, uloženou do 3 m | D17: m3 | E17: 55 | G17: =ROUND(E17*F17,2) -> 0 | I17: =ROUND(E17*H17,2) -> 0 | K17: =ROUND(E17*J17,2) -> 0 | L17: 21 | M17: =G17*(1+L17/100) -> 0 | N17: 0 | O17: =ROUND(E17*N17,2) -> 0 | P17: 0 | Q17: =ROUND(E17*P17,2) -> 0 | S17: URS | T17: ÚRS 25 01 | U17: 0 | V17: =ROUND(E17*U17,2) -> 0 | X17: Práce | Y17: Běžná | AG17: POL1_1
A18: 10 | B18: 451572111 | C18: Lože pod potrubí otevřený výkop z kameniva drobného těženého | D18: m3 | E18: 7.2 | G18: =ROUND(E18*F18,2) -> 0 | I18: =ROUND(E18*H18,2) -> 0 | K18: =ROUND(E18*J18,2) -> 0 | L18: 21 | M18: =G18*(1+L18/100) -> 0 | N18: 1.89077 | O18: =ROUND(E18*N18,2) -> 13.61 | P18: 0 | Q18: =ROUND(E18*P18,2) -> 0 | S18: URS | T18: ÚRS 25 01 | U18: 0 | V18: =ROUND(E18*U18,2) -> 0 | X18: Práce | Y18: Běžná | AG18: POL1_1
A19: 11 | B19: 00572410 | C19: osivo směs travní parková | D19: kg | E19: 0.5 | G19: =ROUND(E19*F19,2) -> 0 | I19: =ROUND(E19*H19,2) -> 0 | K19: =ROUND(E19*J19,2) -> 0 | L19: 21 | M19: =G19*(1+L19/100) -> 0 | N19: 0.001 | O19: =ROUND(E19*N19,2) -> 0 | P19: 0 | Q19: =ROUND(E19*P19,2) -> 0 | S19: URS | T19: ÚRS 25 01 | U19: 0 | V19: =ROUND(E19*U19,2) -> 0 | X19: Specifikace | Y19: Běžná | AG19: POL3_0
A20: Díl: | B20: 002 | C20: Montáž předizolovaného potrubí teplovodu | G20: =SUMIF(AG21:AG29,"<>NOR",G21:G29) -> 0 | I20: =SUM(I21:I29) -> 0 | K20: =SUM(K21:K29) -> 0 | M20: =SUM(M21:M29) -> 0 | O20: =SUM(O21:O29) -> 0.01 | Q20: =SUM(Q21:Q29) -> 0 | V20: =SUM(V21:V29) -> 11.48 | AG20: DIL
A21: 12 | B21: 201 | C21: Tlakové zkoušky těsnosti potrubí | D21: m | E21: 290 | G21: =ROUND(E21*F21,2) -> 0 | I21: =ROUND(E21*H21,2) -> 0 | K21: =ROUND(E21*J21,2) -> 0 | L21: 21 | M21: =G21*(1+L21/100) -> 0 | N21: 0 | O21: =ROUND(E21*N21,2) -> 0 | P21: 0 | Q21: =ROUND(E21*P21,2) -> 0 | S21: Vlastní | T21: Indiv | U21: 0 | V21: =ROUND(E21*U21,2) -> 0 | X21: Práce | Y21: Běžná | AG21: POL1_
A22: 13 | B22: 202 | C22: Čištění profukováním nebo proplachováním potrubí | D22: m | E22: 290 | G22: =ROUND(E22*F22,2) -> 0 | I22: =ROUND(E22*H22,2) -> 0 | K22: =ROUND(E22*J22,2) -> 0 | L22: 21 | M22: =G22*(1+L22/100) -> 0 | N22: 0 | O22: =ROUND(E22*N22,2) -> 0 | P22: 0 | Q22: =ROUND(E22*P22,2) -> 0 | S22: Vlastní | T22: Indiv | U22: 0 | V22: =ROUND(E22*U22,2) -> 0 | X22: Práce | Y22: Běžná | AG22: POL1_
A23: 14 | B23: 203 | C23: Montáž koncové manžety DN50 | D23: ks | E23: 6 | G23: =ROUND(E23*F23,2) -> 0 | I23: =ROUND(E23*H23,2) -> 0 | K23: =ROUND(E23*J23,2) -> 0 | L23: 21 | M23: =G23*(1+L23/100) -> 0 | N23: 0 | O23: =ROUND(E23*N23,2) -> 0 | P23: 0 | Q23: =ROUND(E23*P23,2) -> 0 | S23: Vlastní | T23: Indiv | U23: 0 | V23: =ROUND(E23*U23,2) -> 0 | X23: Práce | Y23: Běžná | AG23: POL1_
A24: 15 | B24: 208 | C24: Vizuální kontrola spoje | D24: ks | E24: 6 | G24: =ROUND(E24*F24,2) -> 0 | I24: =ROUND(E24*H24,2) -> 0 | K24: =ROUND(E24*J24,2) -> 0 | L24: 21 | M24: =G24*(1+L24/100) -> 0 | N24: 0 | O24: =ROUND(E24*N24,2) -> 0 | P24: 0 | Q24: =ROUND(E24*P24,2) -> 0 | S24: Vlastní | T24: Indiv | U24: 0 | V24: =ROUND(E24*U24,2) -> 0 | X24: Práce | Y24: Běžná | AG24: POL1_
A25: 16 | B25: 209 | C25: Montáž spojek PIP | D25: ks | E25: 6 | G25: =ROUND(E25*F25,2) -> 0 | I25: =ROUND(E25*H25,2) -> 0 | K25: =ROUND(E25*J25,2) -> 0 | L25: 21 | M25: =G25*(1+L25/100) -> 0 | N25: 0.00197 | O25: =ROUND(E25*N25,2) -> 0.01 | P25: 0 | Q25: =ROUND(E25*P25,2) -> 0 | S25: Vlastní | T25: Indiv | U25: 0.82 | V25: =ROUND(E25*U25,2) -> 4.92 | X25: Práce | Y25: Běžná | AG25: POL1_1
A26: 17 | B26: 214 | C26: Montáž potrubí PIP d63/126 | D26: m | E26: 200 | G26: =ROUND(E26*F26,2) -> 0 | I26: =ROUND(E26*H26,2) -> 0 | K26: =ROUND(E26*J26,2) -> 0 | L26: 21 | M26: =G26*(1+L26/100) -> 0 | N26: 0 | O26: =ROUND(E26*N26,2) -> 0 | P26: 0 | Q26: =ROUND(E26*P26,2) -> 0 | S26: Vlastní | T26: Indiv | U26: 0 | V26: =ROUND(E26*U26,2) -> 0 | X26: Práce | Y26: Běžná | AG26: POL1_
A27: 18 | B27: 216 | C27: Montáž lisovacího přechodu navařovacího | D27: ks | E27: 6 | G27: =ROUND(E27*F27,2) -> 0 | I27: =ROUND(E27*H27,2) -> 0 | K27: =ROUND(E27*J27,2) -> 0 | L27: 21 | M27: =G27*(1+L27/100) -> 0 | N27: 0 | O27: =ROUND(E27*N27,2) -> 0 | P27: 0 | Q27: =ROUND(E27*P27,2) -> 0 | S27: Vlastní | T27: Indiv | U27: 0.82 | V27: =ROUND(E27*U27,2) -> 4.92 | X27: Práce | Y27: Běžná | AG27: POL1_
A28: 19 | B28: 217 | C28: Montáž T-kusu d63/d63/d63 | D28: ks | E28: 2 | G28: =ROUND(E28*F28,2) -> 0 | I28: =ROUND(E28*H28,2) -> 0 | K28: =ROUND(E28*J28,2) -> 0 | L28: 21 | M28: =G28*(1+L28/100) -> 0 | N28: 0.00197 | O28: =ROUND(E28*N28,2) -> 0 | P28: 0 | Q28: =ROUND(E28*P28,2) -> 0 | S28: Vlastní | T28: Indiv | U28: 0.82 | V28: =ROUND(E28*U28,2) -> 1.64 | X28: Práce | Y28: Běžná | AG28: POL1_1
A29: 20 | B29: 212 | C29: Doprava PIP | D29: ks | E29: 1 | G29: =ROUND(E29*F29,2) -> 0 | I29: =ROUND(E29*H29,2) -> 0 | K29: =ROUND(E29*J29,2) -> 0 | L29: 21 | M29: =G29*(1+L29/100) -> 0 | N29: 0 | O29: =ROUND(E29*N29,2) -> 0 | P29: 0 | Q29: =ROUND(E29*P29,2) -> 0 | S29: Vlastní | T29: Indiv | U29: 0 | V29: =ROUND(E29*U29,2) -> 0 | X29: Specifikace | Y29: Běžná | AG29: POL3_0
A30: Díl: | B30: 006 | C30: Rozvod potrubí | G30: =SUMIF(AG31:AG34,"<>NOR",G31:G34) -> 0 | I30: =SUM(I31:I34) -> 0 | K30: =SUM(K31:K34) -> 0 | M30: =SUM(M31:M34) -> 0 | O30: =SUM(O31:O34) -> 4.52 | Q30: =SUM(Q31:Q34) -> 0 | V30: =SUM(V31:V34) -> 0 | AG30: DIL
A31: 21 | B31: 4223170102R | C31: Kohout kulový ocelový BALLOMAX, DN 15, včetně montáže | D31: kus | E31: 4 | G31: =ROUND(E31*F31,2) -> 0 | I31: =ROUND(E31*H31,2) -> 0 | K31: =ROUND(E31*J31,2) -> 0 | L31: 21 | M31: =G31*(1+L31/100) -> 0 | N31: 0.0008 | O31: =ROUND(E31*N31,2) -> 0 | P31: 0 | Q31: =ROUND(E31*P31,2) -> 0 | R31: SPCM | S31: RTS 26/ I | T31: RTS 25/ II | U31: 0 | V31: =ROUND(E31*U31,2) -> 0 | X31: Specifikace | Y31: Běžná | AG31: POL3_
A32: 22 | B32: 4223170107R | C32: Kohout kulový ocelový BALLOMAX, DN 50, včetně montáže | D32: kus | E32: 4 | G32: =ROUND(E32*F32,2) -> 0 | I32: =ROUND(E32*H32,2) -> 0 | K32: =ROUND(E32*J32,2) -> 0 | L32: 21 | M32: =G32*(1+L32/100) -> 0 | N32: 0.0027 | O32: =ROUND(E32*N32,2) -> 0.01 | P32: 0 | Q32: =ROUND(E32*P32,2) -> 0 | R32: SPCM | S32: RTS 26/ I | T32: RTS 25/ II | U32: 0 | V32: =ROUND(E32*U32,2) -> 0 | X32: Specifikace | Y32: Běžná | AG32: POL3_
A33: 23 | B33: 600 | C33: Trubka předizolovaná plastová PE-Xa, SDR11, max teplota 95°C, PN6, d63/126 | D33: m | E33: 200 | G33: =ROUND(E33*F33,2) -> 0 | I33: =ROUND(E33*H33,2) -> 0 | K33: =ROUND(E33*J33,2) -> 0 | L33: 21 | M33: =G33*(1+L33/100) -> 0 | N33: 0.02257 | O33: =ROUND(E33*N33,2) -> 4.51 | P33: 0 | Q33: =ROUND(E33*P33,2) -> 0 | S33: Vlastní | T33: Indiv | U33: 0 | V33: =ROUND(E33*U33,2) -> 0 | X33: Specifikace | Y33: Běžná | AG33: POL3_
A34: 24 | B34: 601 | C34: T-kus přeizolovaný ocelový d63/d63/d63 | D34: kus | E34: 2 | G34: =ROUND(E34*F34,2) -> 0 | I34: =ROUND(E34*H34,2) -> 0 | K34: =ROUND(E34*J34,2) -> 0 | L34: 21 | M34: =G34*(1+L34/100) -> 0 | N34: 0 | O34: =ROUND(E34*N34,2) -> 0 | P34: 0 | Q34: =ROUND(E34*P34,2) -> 0 | S34: Vlastní | T34: Indiv | U34: 0 | V34: =ROUND(E34*U34,2) -> 0 | X34: Specifikace | Y34: Běžná | AG34: POL3_
A35: Díl: | B35: VN | C35: Vedlejší náklady | G35: =SUMIF(AG36:AG57,"<>NOR",G36:G57) -> 0 | I35: =SUM(I36:I57) -> 0 | K35: =SUM(K36:K57) -> 0 | M35: =SUM(M36:M57) -> 0 | O35: =SUM(O36:O57) -> 0 | Q35: =SUM(Q36:Q57) -> 0 | V35: =SUM(V36:V57) -> 0 | AG35: DIL
A36: 25 | B36: ON-001 | C36: Drobný spojovací materiál, vsuvky, redukce, tvarovky, ... včetně montáže pro rozvody potrubí | D36: kpl | E36: 1 | G36: =ROUND(E36*F36,2) -> 0 | I36: =ROUND(E36*H36,2) -> 0 | K36: =ROUND(E36*J36,2) -> 0 | L36: 21 | M36: =G36*(1+L36/100) -> 0 | N36: 0 | O36: =ROUND(E36*N36,2) -> 0 | P36: 0 | Q36: =ROUND(E36*P36,2) -> 0 | S36: Vlastní | T36: Indiv | U36: 0 | V36: =ROUND(E36*U36,2) -> 0 | X36: Specifikace | Y36: Běžná | AG36: POL3_
A37: 26 | B37: ON-002 | C37: Drobný spojovací materiál, vsuvky, redukce, tvarovky, ... včetně montáže pro armatury | D37: kpl | E37: 1 | G37: =ROUND(E37*F37,2) -> 0 | I37: =ROUND(E37*H37,2) -> 0 | K37: =ROUND(E37*J37,2) -> 0 | L37: 21 | M37: =G37*(1+L37/100) -> 0 | N37: 0 | O37: =ROUND(E37*N37,2) -> 0 | P37: 0 | Q37: =ROUND(E37*P37,2) -> 0 | S37: Vlastní | T37: Indiv | U37: 0 | V37: =ROUND(E37*U37,2) -> 0 | X37: Specifikace | Y37: Běžná | AG37: POL3_
A38: 27 | B38: ON-003 | C38: Drobné ocelové tvarovky | D38: ks | E38: 1 | G38: =ROUND(E38*F38,2) -> 0 | I38: =ROUND(E38*H38,2) -> 0 | K38: =ROUND(E38*J38,2) -> 0 | L38: 21 | M38: =G38*(1+L38/100) -> 0 | N38: 0 | O38: =ROUND(E38*N38,2) -> 0 | P38: 0 | Q38: =ROUND(E38*P38,2) -> 0 | S38: Vlastní | T38: Indiv | U38: 0 | V38: =ROUND(E38*U38,2) -> 0 | X38: Specifikace | Y38: Běžná | AG38: POL3_
A39: 28 | B39: ON-004 | C39: Pomocné ocelové konstrukce pro rozvody potrubí | D39: kus | E39: 1 | G39: =ROUND(E39*F39,2) -> 0 | I39: =ROUND(E39*H39,2) -> 0 | K39: =ROUND(E39*J39,2) -> 0 | L39: 21 | M39: =G39*(1+L39/100) -> 0 | N39: 0 | O39: =ROUND(E39*N39,2) -> 0 | P39: 0 | Q39: =ROUND(E39*P39,2) -> 0 | S39: Vlastní | T39: Indiv | U39: 0 | V39: =ROUND(E39*U39,2) -> 0 | X39: Specifikace | Y39: Běžná | AG39: POL3_
A40: 29 | B40: ON-005 | C40: Pomocné ocelové konstrukce pro armatruy | D40: kus | E40: 1 | G40: =ROUND(E40*F40,2) -> 0 | I40: =ROUND(E40*H40,2) -> 0 | K40: =ROUND(E40*J40,2) -> 0 | L40: 21 | M40: =G40*(1+L40/100) -> 0 | N40: 0 | O40: =ROUND(E40*N40,2) -> 0 | P40: 0 | Q40: =ROUND(E40*P40,2) -> 0 | S40: Vlastní | T40: Indiv | U40: 0 | V40: =ROUND(E40*U40,2) -> 0 | X40: Specifikace | Y40: Běžná | AG40: POL3_
A41: 30 | B41: ON-014 | C41: Dokumentace skutečného provedení | D41: soubor | E41: 1 | G41: =ROUND(E41*F41,2) -> 0 | I41: =ROUND(E41*H41,2) -> 0 | K41: =ROUND(E41*J41,2) -> 0 | L41: 21 | M41: =G41*(1+L41/100) -> 0 | N41: 0 | O41: =ROUND(E41*N41,2) -> 0 | P41: 0 | Q41: =ROUND(E41*P41,2) -> 0 | S41: Vlastní | T41: Indiv | U41: 0 | V41: =ROUND(E41*U41,2) -> 0 | X41: Specifikace | Y41: Běžná | AG41: POL3_
A42: 31 | B42: ON-016 | C42: Vypuštění a napuštění systému, včetně odvzušnění | D42: kus | E42: 1 | G42: =ROUND(E42*F42,2) -> 0 | I42: =ROUND(E42*H42,2) -> 0 | K42: =ROUND(E42*J42,2) -> 0 | L42: 21 | M42: =G42*(1+L42/100) -> 0 | N42: 0 | O42: =ROUND(E42*N42,2) -> 0 | P42: 0 | Q42: =ROUND(E42*P42,2) -> 0 | S42: Vlastní | T42: Indiv | U42: 0 | V42: =ROUND(E42*U42,2) -> 0 | X42: Specifikace | Y42: Běžná | AG42: POL3_
...
