Workbook

Sheet List 1. Souhrn
A1: VZ Truhlářské práce - Kalkulace nabídky
F3: 0.21
A4: Datum: | B4: DOPLNÍ ÚČASTNÍK | G4: Účastník vyplňuje pouze žluté buňky!
A5: Poskytovatel: | B5: DOPLNÍ ÚČASTNÍK
B7: Kalkulace modelového rozpočtu
B8: Položka | C8: Cena bez DPH | D8: Počet jednotek | E8: Mezisoučet | F8: DPH 21% | G8: Celkem s DPH
B9: Kuchyně typ 1,8 m | C9: ='List 2. Ceník prací a materiálu'!J3 -> 0 | D9: 5 | E9: =D9*C9 -> 0 | F9: =E9*$F$1 -> 0 | G9: =F9+E9 -> 0
B10: Kuchyně typ 2,6 m | C10: ='List 2. Ceník prací a materiálu'!N3 -> 0 | D10: 4 | E10: =D10*C10 -> 0 | F10: =E10*$F$1 -> 0 | G10: =F10+E10 -> 0
B11: Kuchyně typ 4,2 m | C11: ='List 2. Ceník prací a materiálu'!R3 -> 0 | D11: 3 | E11: =D11*C11 -> 0 | F11: =E11*$F$1 -> 0 | G11: =F11+E11 -> 0
B12: Hodinová sazba | C12: ='List 2. Ceník prací a materiálu'!F26 -> 0 | D12: 20 | E12: =D12*C12 -> 0 | F12: =E12*$F$1 -> 0 | G12: =F12+E12 -> 0
B13: Nabídková cena za předmět plnění/rok vč. 21 % DPH | G13: =SUM(G9:G12) -> 0

Sheet List 2. Ceník prací a materiálu
B1: Cena jednotlivých skříněk obsahuje zaměření, výrobu, dopravu a montáž vč. pomocného materiálu | H1: Kuchyňská linka (mm) | J1: =SUM(H5:H14) -> 1800 | L1: Kuchyňská linka (mm) | N1: =SUM(L5:L14) -> 2600 | P1: Kuchyňská linka (mm) | R1: =SUM(P5:P14) -> 4200
F2: Účastník vyplňuje pouze žluté buňky! | H2: Kuchyňská linka HS (mm) | J2: =SUM(H15:H19) -> 1800 | L2: Kuchyňská linka HS (mm) | N2: =SUM(L15:L19) -> 2600 | P2: Kuchyňská linka HS (mm) | R2: =SUM(P15:P19) -> 4200
A3: Položkový rozpočet | H3: Cena celkem | J3: =SUM(J5:J25) -> 0 | L3: Cena celkem | N3: =SUM(N5:N25) -> 0 | P3: Cena celkem | R3: =SUM(R5:R25) -> 0
A4: ID | B4: Název | C4: ŠP | D4: Ilustrace | E4: Popis (rozměry š,v,h) | F4: cena bez DPH | H4: Délka v mm | I4: Ks | J4: Cena | L4: Délka mm | M4: Ks | N4: Cena | Q4: Ks | R4: Cena
A5: 1. | B5: Skříňka 400 zásuvková | C5: 400 | E5: skříňka spodní zásuvková, korpus DTDL 18 mm výběr z 5-ti dekorů, hrana ABS min. 0,5 mm; rozměr: 400x820x510 mm, 3x čela zásuvek DTDL 18 mm s ABS 2 mm výběr z 5-ti dekorů, kovové výsuvy kuličkové s tlumením dojezdu, kovová úchytka v provedení nerez, organizér (příborník), rektifikační nohy 100 mm, sokl, | H5: =IF(I5>=1,C5*I5,"") -> 400 | I5: 1 | J5: =I5*F5 -> 0 | L5: =IF(M5>=1,C5*M5,"") | N5: =M5*F5 -> 0 | P5: =IF(Q5>=1,C5*Q5,"") -> 400 | Q5: 1 | R5: =Q5*F5 -> 0
A6: 2. | B6: Skříňka 400 s dveřmi | C6: 400 | E6: skříňka spodní dveřová, korpus DTDL 18 mm výběr z 5-ti dekorů, hrana ABS min. 0,5 mm; rozměr: 400x820x510 mm, 1x otevíravé dveře DTDL 18 mm s ABS 2 mm výběr z 5-ti dekorů, závěsy s tlumením dovírání, kovová úchytka v provedení nerez, rektifikační nohy 100mm, sokl, 1x police přestavitelná | H6: =IF(I6>=1,C6*I6,"") | J6: =I6*F6 -> 0 | L6: =IF(M6>=1,C6*M6,"") -> 400 | M6: 1 | N6: =M6*F6 -> 0 | P6: =IF(Q6>=1,C6*Q6,"") | R6: =Q6*F6 -> 0
A7: 3. | B7: Skříňka 600 zásuvková | C7: 600 | E7: skříňka spodní zásuvková, korpus DTDL 18 mm výběr z 5-ti dekorů, hrana ABS min. 0,5 mm; rozměr: 600X820x510 mm, 3x čela zásuvek DTDL 18 mm s ABS 2 mm, výběr z 5-ti dekorů, kovové výsuvy kuličkové s tlumením dojezdu, kovová úchytka v provedení nerez, organizér (příborník), rektifikační nohy 100 mm, sokl, | H7: =IF(I7>=1,C7*I7,"") | J7: =I7*F7 -> 0 | L7: =IF(M7>=1,C7*M7,"") -> 600 | M7: 1 | N7: =M7*F7 -> 0 | P7: =IF(Q7>=1,C7*Q7,"") | R7: =Q7*F7 -> 0
A8: 4. | B8: Skříňka 600 s dveřmi | C8: 600 | E8: skříňka spodní dveřová, korpus DTDL 18 mm výběr z 5-ti dekorů, hrana ABS min. 0,5 mm; rozměr: 600x820x510 mm, 2x otevíravé dveře DTDL 18 mm s ABS 2 mm výběr z 5-ti dekorů, závěsy s tlumením dovírání, kovová úchytka v provedení nerez, rektifikační nohy 100mm, sokl, 1x police přestavitelná | H8: =IF(I8>=1,C8*I8,"") -> 600 | I8: 1 | J8: =I8*F8 -> 0 | L8: =IF(M8>=1,C8*M8,"") | N8: =M8*F8 -> 0 | P8: =IF(Q8>=1,C8*Q8,"") | R8: =Q8*F8 -> 0
A9: 5. | B9: Skříňka 600 trouba | C9: 600 | E9: skříňka spodní, korpus DTDL 18 mm výběr z 5-ti dekorů, hrana ABS min. 0,5 mm; rozměr: 600x820x510 mm, 1x otevíravé dveře DTDL 18 mm s ABS 2 mm výběr z 5-ti dekorů, závěsy s tlumením dovírání, kovová úchytka v provedení nerez, rektifikační nohy 100mm, sokl, | H9: =IF(I9>=1,C9*I9,"") | J9: =I9*F9 -> 0 | L9: =IF(M9>=1,C9*M9,"") | N9: =M9*F9 -> 0 | P9: =IF(Q9>=1,C9*Q9,"") -> 600 | Q9: 1 | R9: =Q9*F9 -> 0
A10: 6. | B10: Skříňka 700 zásuvková | C10: 700 | E10: skříňka spodní zásuvková, korpus DTDL 18 mm výběr z 5-ti dekorů, hrana ABS min. 0,5 mm; rozměr: 700x820x510 mm, 3x čela zásuvek DTDL 18 mm s ABS 2 mm výběr z 5-ti dekorů, výsuvy s tlumením dojezdu Blum Tandembox Antaro nebo ekvivalentní řešení, kovová úchytka v provedení nerez, organizér (příborník), rektifikační nohy 100 mm, sokl, | H10: =IF(I10>=1,C10*I10,"") | J10: =I10*F10 -> 0 | L10: =IF(M10>=1,C10*M10,"") | N10: =M10*F10 -> 0 | P10: =IF(Q10>=1,C10*Q10,"") -> 700 | Q10: 1 | R10: =Q10*F10 -> 0
A11: 7. | B11: Skříňka 800 zásuvková | C11: 800 | E11: skříňka spodní zásuvková, korpus DTDL 18 mm výběr z 5-ti dekorů, hrana ABS min. 0,5 mm; rozměr: 800x820x510 mm, 3x čela zásuvek DTDL 18 mm s ABS 2 mm výběr z 5-ti dekorů, výsuvy s tlumením dojezdu Blum Tandembox Antaro nebo ekvivalentní řešení, kovová úchytka v provedení nerez, organizér (příborník), rektifikační nohy 100 mm, sokl, | H11: =IF(I11>=1,C11*I11,"") | J11: =I11*F11 -> 0 | L11: =IF(M11>=1,C11*M11,"") -> 800 | M11: 1 | N11: =M11*F11 -> 0 | P11: =IF(Q11>=1,C11*Q11,"") | R11: =Q11*F11 -> 0
A12: 8. | B12: Skříňka 800 s dveřmi | C12: 800 | E12: skříňka spodní dveřová, korpus DTDL 18 mm výběr z 5-ti dekorů, hrana ABS min. 0,5 mm; rozměr: 800x820x510 mm, 2x otevíravé dveře DTDL 18 mm s ABS 2 mm výběr z 5-ti dekorů, závěsy s tlumením dovírání, kovová úchytka v provedení nerez, rektifikační nohy 100mm, sokl, 1x police přestavitelná | H12: =IF(I12>=1,C12*I12,"") -> 800 | I12: 1 | J12: =I12*F12 -> 0 | L12: =IF(M12>=1,C12*M12,"") -> 800 | M12: 1 | N12: =M12*F12 -> 0 | P12: =IF(Q12>=1,C12*Q12,"") | R12: =Q12*F12 -> 0
A13: 9. | B13: Skříňka 900 s dveřmi rohová | C13: 1500 | E13: skříňka spodní dveřová, korpus DTDL 18 mm výběr z 5-ti dekorů, hrana ABS min. 0,5 mm; rozměr: 900x820x510 mm, 1x otevíravé dveře DTDL 18 mm s ABS 2 mm výběr z 5-ti dekorů, závěsy s tlumením dovírání, kovová úchytka v provedení nerez, rektifikační nohy 100mm, sokl, 1x police přestavitelná | H13: =IF(I13>=1,C13*I13,"") | J13: =I13*F13 -> 0 | L13: =IF(M13>=1,C13*M13,"") | N13: =M13*F13 -> 0 | P13: =IF(Q13>=1,C13*Q13,"") -> 1500 | Q13: 1 | R13: =Q13*F13 -> 0
A14: 10. | B14: Skříňka 1000 zásuvková | C14: 1000 | E14: skříňka spodní zásuvková, korpus DTDL 18 mm výběr z 5-ti dekorů, hrana ABS min. 0,5 mm; rozměr: 1000x820x510 mm, 3x čela zásuvek DTDL 18 mm s ABS 2 mm výběr z 5-ti dekorů, výsuvy s tlumením dojezdu Blum Tandembox Antaro nebo ekvivalentní řešení, kovová úchytka v provedení nerez, organizér (příborník), rektifikační nohy 100 mm, sokl, | H14: =IF(I14>=1,C14*I14,"") | J14: =I14*F14 -> 0 | L14: =IF(M14>=1,C14*M14,"") | N14: =M14*F14 -> 0 | P14: =IF(Q14>=1,C14*Q14,"") -> 1000 | Q14: 1 | R14: =Q14*F14 -> 0
A15: 11. | B15: Skříňka 400 s dveřmi horní závěsná | C15: 400 | E15: skříňka horní dveřová, korpus DTDL 18 mm výběr z 5-ti dekorů, hrana ABS min. 0,5 mm; rozměr: 400x800x350 mm, 1x otevíravé dveře DTDL 18 mm s ABS 2 mm výběr z 5-ti dekorů, závěsy s tlumením dovírání, kovová úchytka v provedení nerez, 1x police přestavitelná | H15: =IF(I15>=1,C15*I15,"") | J15: =I15*F15 -> 0 | L15: =IF(M15>=1,C15*M15,"") | N15: =M15*F15 -> 0 | P15: =IF(Q15>=1,C15*Q15,"") -> 400 | Q15: 1 | R15: =Q15*F15 -> 0
A16: 12. | B16: Skříňka 600 s dveřmi horní závěsná | C16: 600 | E16: skříňka horní dveřová, korpus DTDL 18 mm výběr z 5-ti dekorů, rozměr: 600x800x350 mm, 2x otevíravé dveře DTDL 18 mm s ABS 2 mm výběr z 5-ti dekorů, závěsy s tlumením dovírání, kovová úchytka v provedení nerez, 1x police přestasvitelná | H16: =IF(I16>=1,C16*I16,"") -> 1200 | I16: 2 | J16: =I16*F16 -> 0 | L16: =IF(M16>=1,C16*M16,"") -> 1200 | M16: 2 | N16: =M16*F16 -> 0 | P16: =IF(Q16>=1,C16*Q16,"") -> 1200 | Q16: 2 | R16: =Q16*F16 -> 0
A17: 13. | B17: Skříňka 800 s dveřmi horní závěsná | C17: 800 | E17: skříňka horní dveřová, korpus DTDL 18 mm výběr z 5-ti dekorů, hrana ABS min. 0,5 mm; rozměr: 800x800x350 mm, 2x otevíravé dveře DTDL 18 mm s ABS 2 mm výběr z 5-ti dekorů, závěsy s tlumením dovírání, kovová úchytka v provedení nerez, 1x police přestavitelná | H17: =IF(I17>=1,C17*I17,"") | J17: =I17*F17 -> 0 | L17: =IF(M17>=1,C17*M17,"") -> 800 | M17: 1 | N17: =M17*F17 -> 0 | P17: =IF(Q17>=1,C17*Q17,"") -> 800 | Q17: 1 | R17: =Q17*F17 -> 0
A18: 14. | B18: Skříňka 600 s dveřmi horní závěsná rohová | C18: 1200 | E18: skříňka horní dveřová, korpus DTDL 18 mm výběr z 5-ti dekorů, hrana ABS min. 0,5 mm; rozměr: 600x800x600 mm, 1x otevíravé dveře DTDL 18 mm s ABS 2 mm výběr z 5-ti dekorů, závěsy s tlumením dovírání, kovová úchytka v provedení nerez, 1x police přestavitelná | H18: =IF(I18>=1,C18*I18,"") | J18: =I18*F18 -> 0 | L18: =IF(M18>=1,C18*M18,"") | N18: =M18*F18 -> 0 | P18: =IF(Q18>=1,C18*Q18,"") -> 1200 | Q18: 1 | R18: =Q18*F18 -> 0
A19: 15. | B19: Skříňka horní 600 pro digestoř | C19: 600 | E19: skříňka horní dveřová nad digestoř, korpus DTDL 18 mm výběr z 5-ti dekorů, hrana ABS min. 0,5 mm; rozměr: 600x450x350 mm, 1x otevíravé dveře DTDL 18 mm s ABS 2 mm výběr z 5-ti dekorů, závěsy s tlumením dovírání, kovová úchytka v provedení nerez | H19: =IF(I19>=1,C19*I19,"") -> 600 | I19: 1 | J19: =I19*F19 -> 0 | L19: =IF(M19>=1,C19*M19,"") -> 600 | M19: 1 | N19: =M19*F19 -> 0 | P19: =IF(Q19>=1,C19*Q19,"") -> 600 | Q19: 1 | R19: =Q19*F19 -> 0
A20: 16. | B20: Pracovní deska hloubka 600 | E20: pracovní deska š. 600 mm v provedení postforming tl. 38 mm s rádiusem 3 mm. Cena za 1 bm vč. výřezů pro vestavné spotřebiče | H20: =J1 -> 1800 | J20: =F20*H20/1000 -> 0 | L20: =N1 -> 2600 | N20: =L20*F20/1000 -> 0 | P20: =R1 -> 4200 | R20: =P20*F20/1000 -> 0
A21: 17. | B21: Zádová deska s HPL povrchem | E21: zádová deska tl. min 10 mm oboustranně laminovaná HPL povrchem. Odolnost vůči vodě a oděru. Cena za 1 bm vč. výřezů pro el. a upevnění, spodní hrana horních skříněk bude cca 45-55 cm od prac. desky | H21: =J1 -> 1800 | J21: =F21*H21/1000 -> 0 | L21: =N1 -> 2600 | N21: =L21*F21/1000 -> 0 | P21: =R1 -> 4200 | R21: =P21*F21/1000 -> 0
A22: 18. | B22: Nerezový dřez s odkapem | E22: nerezový dřez pro dřezovou skříňku s odkapem vč. výřezu pracovní desky, sifonu a napojení; rozměry min. 480x640 mm, max. 500x670 mm; vnitřní rozměr mycího prostoru min. 400x340 mm | J22: =I22*F22 -> 0 | M22: 1 | N22: =M22*F22 -> 0 | Q22: 1 | R22: =Q22*F22 -> 0
A23: 19. | B23: Nerezový dřez | E23: nerezový dřez pro dřezovou skříňku vč. výřezu pracovní desky, sifonu a napojení | I23: 1 | J23: =I23*F23 -> 0 | N23: =M23*F23 -> 0 | R23: =Q23*F23 -> 0
A24: 20. | B24: Potravinová skříň | C24: 400 | E24: potravinová skříň dveřová, korpus DTDL 18 mm výběr z 5-ti dekorů, hrana ABS min. 0,5 mm; rozměr: 400x2060x580 mm, 2x otevíravé dveře DTDL 18 mm s ABS 2 mm výběr z 5-ti dekorů, závěsy s tlumením dovírání, kovová úchytka v provedení nerez, rektifikační nohy 100mm, sokl, 3x police přestavitelná | Q24: 1 | R24: =Q24*F24 -> 0
A25: 21. | B25: Demontáž | E25: Demontáž původní KL a odvoz na skládku vč. likvidace. Cena za 1 bm. | H25: =J1 -> 1800 | J25: =F25*H25/1000 -> 0 | L25: =N1 -> 2600 | N25: =L25*F25/1000 -> 0 | P25: =R1 -> 4200 | R25: =P25*F25/1000 -> 0
A26: 22. | B26: Hodinová sazba | E26: HS - údržbářské práce, opravy, vč. dopravy

Sheet Příloha č. 2
D1: Příloha č. 2 Ceník prací a materiálů
A4: ID | B4: Název | C4: SS | D4: Popis (rozměry š,v,h) | E4: cena bez DPH
A5: 1. | B5: Skříňka 400 zásuvková | C5: 400 | D5: ='List 2. Ceník prací a materiálu'!E5 -> skříňka spodní zásuvková, korpus DTDL 18 mm výběr z 5-ti dekorů, hrana ABS min. 0,5 mm; rozměr: 400x820x510 mm, 3x čela zásuvek DTDL 18 mm s ABS 2 mm výběr z 5-ti dekorů, kovové výsuvy kuličkové s tlumením dojezdu, kovová úchytka v provedení nerez, organizér (příborník), rektifikační nohy 100 mm, sokl, | E5: ='List 2. Ceník prací a materiálu'!F5 -> 0
A6: 2. | B6: Skříňka 400 s dveřmi | C6: 400 | D6: ='List 2. Ceník prací a materiálu'!E6 -> skříňka spodní dveřová, korpus DTDL 18 mm výběr z 5-ti dekorů, hrana ABS min. 0,5 mm; rozměr: 400x820x510 mm, 1x otevíravé dveře DTDL 18 mm s ABS 2 mm výběr z 5-ti dekorů, závěsy s tlumením dovírání, kovová úchytka v provedení nerez, rektifikační nohy 100mm, sokl, 1x police přestavitelná | E6: ='List 2. Ceník prací a materiálu'!F6 -> 0
A7: 3. | B7: Skříňka 600 zásuvková | C7: 600 | D7: ='List 2. Ceník prací a materiálu'!E7 -> skříňka spodní zásuvková, korpus DTDL 18 mm výběr z 5-ti dekorů, hrana ABS min. 0,5 mm; rozměr: 600X820x510 mm, 3x čela zásuvek DTDL 18 mm s ABS 2 mm, výběr z 5-ti dekorů, kovové výsuvy kuličkové s tlumením dojezdu, kovová úchytka v provedení nerez, organizér (příborník), rektifikační nohy 100 mm, sokl, | E7: ='List 2. Ceník prací a materiálu'!F7 -> 0
A8: 4. | B8: Skříňka 600 s dveřmi | C8: 600 | D8: ='List 2. Ceník prací a materiálu'!E8 -> skříňka spodní dveřová, korpus DTDL 18 mm výběr z 5-ti dekorů, hrana ABS min. 0,5 mm; rozměr: 600x820x510 mm, 2x otevíravé dveře DTDL 18 mm s ABS 2 mm výběr z 5-ti dekorů, závěsy s tlumením dovírání, kovová úchytka v provedení nerez, rektifikační nohy 100mm, sokl, 1x police přestavitelná | E8: ='List 2. Ceník prací a materiálu'!F8 -> 0
A9: 5. | B9: Skříňka 600 trouba | C9: 600 | D9: ='List 2. Ceník prací a materiálu'!E9 -> skříňka spodní, korpus DTDL 18 mm výběr z 5-ti dekorů, hrana ABS min. 0,5 mm; rozměr: 600x820x510 mm, 1x otevíravé dveře DTDL 18 mm s ABS 2 mm výběr z 5-ti dekorů, závěsy s tlumením dovírání, kovová úchytka v provedení nerez, rektifikační nohy 100mm, sokl, | E9: ='List 2. Ceník prací a materiálu'!F9 -> 0
A10: 6. | B10: Skříňka 700 zásuvková | C10: 700 | D10: ='List 2. Ceník prací a materiálu'!E10 -> skříňka spodní zásuvková, korpus DTDL 18 mm výběr z 5-ti dekorů, hrana ABS min. 0,5 mm; rozměr: 700x820x510 mm, 3x čela zásuvek DTDL 18 mm s ABS 2 mm výběr z 5-ti dekorů, výsuvy s tlumením dojezdu Blum Tandembox Antaro nebo ekvivalentní řešení, kovová úchytka v provedení nerez, organizér (příborník), rektifikační nohy 100 mm, sokl, | E10: ='List 2. Ceník prací a materiálu'!F10 -> 0
A11: 7. | B11: Skříňka 800 zásuvková | C11: 800 | D11: ='List 2. Ceník prací a materiálu'!E11 -> skříňka spodní zásuvková, korpus DTDL 18 mm výběr z 5-ti dekorů, hrana ABS min. 0,5 mm; rozměr: 800x820x510 mm, 3x čela zásuvek DTDL 18 mm s ABS 2 mm výběr z 5-ti dekorů, výsuvy s tlumením dojezdu Blum Tandembox Antaro nebo ekvivalentní řešení, kovová úchytka v provedení nerez, organizér (příborník), rektifikační nohy 100 mm, sokl, | E11: ='List 2. Ceník prací a materiálu'!F11 -> 0
A12: 8. | B12: Skříňka 800 s dveřmi | C12: 800 | D12: ='List 2. Ceník prací a materiálu'!E12 -> skříňka spodní dveřová, korpus DTDL 18 mm výběr z 5-ti dekorů, hrana ABS min. 0,5 mm; rozměr: 800x820x510 mm, 2x otevíravé dveře DTDL 18 mm s ABS 2 mm výběr z 5-ti dekorů, závěsy s tlumením dovírání, kovová úchytka v provedení nerez, rektifikační nohy 100mm, sokl, 1x police přestavitelná | E12: ='List 2. Ceník prací a materiálu'!F12 -> 0
A13: 9. | B13: Skříňka 900 s dveřmi rohová | C13: 1500 | D13: ='List 2. Ceník prací a materiálu'!E13 -> skříňka spodní dveřová, korpus DTDL 18 mm výběr z 5-ti dekorů, hrana ABS min. 0,5 mm; rozměr: 900x820x510 mm, 1x otevíravé dveře DTDL 18 mm s ABS 2 mm výběr z 5-ti dekorů, závěsy s tlumením dovírání, kovová úchytka v provedení nerez, rektifikační nohy 100mm, sokl, 1x police přestavitelná | E13: ='List 2. Ceník prací a materiálu'!F13 -> 0
A14: 10. | B14: Skříňka 1000 zásuvková | C14: 1000 | D14: ='List 2. Ceník prací a materiálu'!E14 -> skříňka spodní zásuvková, korpus DTDL 18 mm výběr z 5-ti dekorů, hrana ABS min. 0,5 mm; rozměr: 1000x820x510 mm, 3x čela zásuvek DTDL 18 mm s ABS 2 mm výběr z 5-ti dekorů, výsuvy s tlumením dojezdu Blum Tandembox Antaro nebo ekvivalentní řešení, kovová úchytka v provedení nerez, organizér (příborník), rektifikační nohy 100 mm, sokl, | E14: ='List 2. Ceník prací a materiálu'!F14 -> 0
A15: 11. | B15: Skříňka 400 s dveřmi horní závěsná | C15: 400 | D15: ='List 2. Ceník prací a materiálu'!E15 -> skříňka horní dveřová, korpus DTDL 18 mm výběr z 5-ti dekorů, hrana ABS min. 0,5 mm; rozměr: 400x800x350 mm, 1x otevíravé dveře DTDL 18 mm s ABS 2 mm výběr z 5-ti dekorů, závěsy s tlumením dovírání, kovová úchytka v provedení nerez, 1x police přestavitelná | E15: ='List 2. Ceník prací a materiálu'!F15 -> 0
A16: 12. | B16: Skříňka 600 s dveřmi horní závěsná | C16: 600 | D16: ='List 2. Ceník prací a materiálu'!E16 -> skříňka horní dveřová, korpus DTDL 18 mm výběr z 5-ti dekorů, rozměr: 600x800x350 mm, 2x otevíravé dveře DTDL 18 mm s ABS 2 mm výběr z 5-ti dekorů, závěsy s tlumením dovírání, kovová úchytka v provedení nerez, 1x police přestasvitelná | E16: ='List 2. Ceník prací a materiálu'!F16 -> 0
... A19: 15. | B19: Skříňka horní 600 pro digestoř | C19: 600 | D19: ='List 2. Ceník prací a materiálu'!E19 -> skříňka horní dveřová nad digestoř, korpus DTDL 18 mm výběr z 5-ti dekorů, hrana ABS min. 0,5 mm; rozměr: 600x450x350 mm, 1x otevíravé dveře DTDL 18 mm s ABS 2 mm výběr z 5-ti dekorů, závěsy s tlumením dovírání, kovová úchytka v provedení nerez | E19: ='List 2. Ceník prací a materiálu'!F19 -> 0
A20: 16. | B20: Pracovní deska hloubka 600 | D20: ='List 2. Ceník prací a materiálu'!E20 -> pracovní deska š. 600 mm v provedení postforming tl. 38 mm s rádiusem 3 mm. Cena za 1 bm vč. výřezů pro vestavné spotřebiče | E20: ='List 2. Ceník prací a materiálu'!F20 -> 0
A21: 17. | B21: Zádová deska s HPL povrchem | D21: ='List 2. Ceník prací a materiálu'!E21 -> zádová deska tl. min 10 mm oboustranně laminovaná HPL povrchem. Odolnost vůči vodě a oděru. Cena za 1 bm vč. výřezů pro el. a upevnění, spodní hrana horních skříněk bude cca 45-55 cm od prac. desky | E21: ='List 2. Ceník prací a materiálu'!F21 -> 0
A22: 18. | B22: Nerezový dřez s odkapem | D22: ='List 2. Ceník prací a materiálu'!E22 -> nerezový dřez pro dřezovou skříňku s odkapem vč. výřezu pracovní desky, sifonu a napojení; rozměry min. 480x640 mm, max. 500x670 mm; vnitřní rozměr mycího prostoru min. 400x340 mm | E22: ='List 2. Ceník prací a materiálu'!F22 -> 0
A23: 19. | B23: Nerezový dřez | D23: ='List 2. Ceník prací a materiálu'!E23 -> nerezový dřez pro dřezovou skříňku vč. výřezu pracovní desky, sifonu a napojení | E23: ='List 2. Ceník prací a materiálu'!F23 -> 0
A24: 20. | B24: Potravinová skříň | C24: 400 | D24: ='List 2. Ceník prací a materiálu'!E24 -> potravinová skříň dveřová, korpus DTDL 18 mm výběr z 5-ti dekorů, hrana ABS min. 0,5 mm; rozměr: 400x2060x580 mm, 2x otevíravé dveře DTDL 18 mm s ABS 2 mm výběr z 5-ti dekorů, závěsy s tlumením dovírání, kovová úchytka v provedení nerez, rektifikační nohy 100mm, sokl, 3x police přestavitelná | E24: ='List 2. Ceník prací a materiálu'!F24 -> 0
A25: 21. | B25: Demontáž | D25: ='List 2. Ceník prací a materiálu'!E25 -> Demontáž původní KL a odvoz na skládku vč. likvidace. Cena za 1 bm. | E25: ='List 2. Ceník prací a materiálu'!F25 -> 0
A26: 22. | B26: Hodinová sazba | D26: ='List 2. Ceník prací a materiálu'!E26 -> HS - údržbářské práce, opravy, vč. dopravy | E26: ='List 2. Ceník prací a materiálu'!F26 -> 0
A28: Cena jednotlivých skříněk obsahuje zaměření, výrobu, dopravu a montáž vč. pomocného materiálu

Sheet List3
B1: VZOROVÉ NACENĚNÍ VZ 2623/Ha
C4: cena za 1 kuchyňskou linku vč.všech souvisejících prací, zaměření, dopravy, montáže, demontáže a likvidace původní KL | E4: předpoklad - počet | F4: cena bez DPH
B5: VZOROVÁ KL 180 cm komplet vč. ost.příslušenství (pol. 2,4,5,6,7,8,9,10,11,12,14,16) | C5: 0 | E5: 30 | F5: =C5*E5 -> 0
B6: VZOROVÁ KL 260 cm komplet vč. ost.příslušenství (pol. 1,2,3,4,6,7,2x8,9,10,11,12,14,16) | C6: 0 | E6: 5 | F6: =C6*E6 -> 0
B7: VZOROVÁ KL 120 cm komplet vč. ost.příslušenství (pol. 1,5,2x6,10,11,13,15,16) | C7: 0 | E7: 5 | F7: =C7*E7 -> 0
B8: celkem | F8: =SUM(F5:F7) -> 0
B11: předpokládají se ročně práce z 90% pro bytový fond a z 10% pro nebytový fond | D11: cena bez DPH | E11: DPH | F11: cena vč. DPH
B12: celková cena pro bytový fond | D12: =F8*0.9 -> 0 | E12: 0.12 | F12: =D12*(1+E12) -> 0
B13: celková cena pro nebytový fond | D13: =F8*0.1 -> 0 | E13: 0.21 | F13: =D13*(1+E13) -> 0
B14: CELKEM CENA * | D14: =SUM(D12:D13) -> 0 | F14: =SUM(F12:F13) -> 0
B16: Pokud je dodavatel neplátce DPH, musí v tabulce vymazat 12% a 21% DPH. Cena bez DPH a včetně DPH v jeho případě bude shodná.“
B19: vyhotovil: | E19: dne:
B21: * hodnotící kritérium

Sheet List2
S2: VZOROVÁ KL 180 cm komplet vč. ost.příslušenství (pol. 2,4,5,6,7,8,9,10,11,12,14,16)
D3: Poz. | E3: Ks | F3: KL120 | G3: Ks | H3: KL180 | J3: KLR | S3: VZOROVÁ KL 260 cm komplet vč. ost.příslušenství (pol. 1,2,3,4,6,7,2x8,9,10,11,12,14,16)
C4: ='List 2. Ceník prací a materiálu'!B5 -> Skříňka 400 zásuvková | D4: ='List 2. Ceník prací a materiálu'!A5 -> 1. | E4: 1 | F4: ='List 2. Ceník prací a materiálu'!F5*E4 -> 0 | H4: ='List 2. Ceník prací a materiálu'!F5*G4 -> 0 | J4: ='List 2. Ceník prací a materiálu'!F5*I4 -> 0 | S4: VZOROVÁ KL 120 cm komplet vč. ost.příslušenství (pol. 1,5,2x6,10,11,13,15,16)
C5: ='List 2. Ceník prací a materiálu'!B7 -> Skříňka 600 zásuvková | D5: ='List 2. Ceník prací a materiálu'!A7 -> 3. | F5: ='List 2. Ceník prací a materiálu'!F7*E5 -> 0 | G5: 1 | H5: ='List 2. Ceník prací a materiálu'!F7*G5 -> 0 | J5: ='List 2. Ceník prací a materiálu'!F7*I5 -> 0
C6: ='List 2. Ceník prací a materiálu'!B8 -> Skříňka 600 s dveřmi | D6: ='List 2. Ceník prací a materiálu'!A8 -> 4. | F6: ='List 2. Ceník prací a materiálu'!F11*E6 -> 0 | H6: ='List 2. Ceník prací a materiálu'!F11*G6 -> 0 | J6: ='List 2. Ceník prací a materiálu'!F11*I6 -> 0
C7: ='List 2. Ceník prací a materiálu'!B9 -> Skříňka 600 trouba | D7: ='List 2. Ceník prací a materiálu'!A9 -> 5. | F7: ='List 2. Ceník prací a materiálu'!F14*E7 -> 0 | G7: 1 | H7: ='List 2. Ceník prací a materiálu'!F14*G7 -> 0 | J7: ='List 2. Ceník prací a materiálu'!F14*I7 -> 0
C8: ='List 2. Ceník prací a materiálu'!B11 -> Skříňka 800 zásuvková | D8: ='List 2. Ceník prací a materiálu'!A11 -> 7. | E8: 1 | F8: ='List 2. Ceník prací a materiálu'!F8*E8 -> 0 | G8: 1 | H8: ='List 2. Ceník prací a materiálu'!F8*G8 -> 0 | J8: ='List 2. Ceník prací a materiálu'!F8*I8 -> 0
C9: ='List 2. Ceník prací a materiálu'!B12 -> Skříňka 800 s dveřmi | D9: ='List 2. Ceník prací a materiálu'!A12 -> 8. | E9: 2 | F9: ='List 2. Ceník prací a materiálu'!F12*E9 -> 0 | G9: 1 | H9: ='List 2. Ceník prací a materiálu'!F12*G9 -> 0 | J9: ='List 2. Ceník prací a materiálu'!F12*I9 -> 0
C10: ='List 2. Ceník prací a materiálu'!B13 -> Skříňka 900 s dveřmi rohová | D10: ='List 2. Ceník prací a materiálu'!A13 -> 9. | F10: ='List 2. Ceník prací a materiálu'!F13*E10 -> 0 | G10: 1 | H10: ='List 2. Ceník prací a materiálu'!F13*G10 -> 0 | J10: ='List 2. Ceník prací a materiálu'!F13*I10 -> 0
C11: ='List 2. Ceník prací a materiálu'!B14 -> Skříňka 1000 zásuvková | D11: ='List 2. Ceník prací a materiálu'!A14 -> 10. | F11: ='List 2. Ceník prací a materiálu'!F15*E11 -> 0 | G11: 1 | H11: ='List 2. Ceník prací a materiálu'!F15*G11 -> 0 | J11: ='List 2. Ceník prací a materiálu'!F15*I11 -> 0
C12: ='List 2. Ceník prací a materiálu'!B15 -> Skříňka 400 s dveřmi horní závěsná | D12: ='List 2. Ceník prací a materiálu'!A15 -> 11. | F12: ='List 2. Ceník prací a materiálu'!F16*E12 -> 0 | G12: 1 | H12: ='List 2. Ceník prací a materiálu'!F16*G12 -> 0 | J12: ='List 2. Ceník prací a materiálu'!F16*I12 -> 0
C13: ='List 2. Ceník prací a materiálu'!B16 -> Skříňka 600 s dveřmi horní závěsná | D13: ='List 2. Ceník prací a materiálu'!A16 -> 12. | E13: 1 | F13: ='List 2. Ceník prací a materiálu'!F17*E13 -> 0 | G13: 1 | H13: ='List 2. Ceník prací a materiálu'!F17*G13 -> 0 | J13: ='List 2. Ceník prací a materiálu'!F17*I13 -> 0
C14: ='List 2. Ceník prací a materiálu'!B17 -> Skříňka 800 s dveřmi horní závěsná | D14: ='List 2. Ceník prací a materiálu'!A17 -> 13. | E14: 1.2 | F14: ='List 2. Ceník prací a materiálu'!F19*E14 -> 0 | G14: 1.8 | H14: ='List 2. Ceník prací a materiálu'!F19*G14 -> 0 | I14: 4.05 | J14: ='List 2. Ceník prací a materiálu'!F19*I14 -> 0
C15: ='List 2. Ceník prací a materiálu'!B19 -> Skříňka horní 600 pro digestoř | D15: ='List 2. Ceník prací a materiálu'!A19 -> 15. | F15: ='List 2. Ceník prací a materiálu'!F20*E15 -> 0 | G15: 1 | H15: ='List 2. Ceník prací a materiálu'!F20*G15 -> 0 | I15: 4.05 | J15: ='List 2. Ceník prací a materiálu'!F20*I15 -> 0
C16: ='List 2. Ceník prací a materiálu'!B20 -> Pracovní deska hloubka 600 | D16: ='List 2. Ceník prací a materiálu'!A20 -> 16. | E16: 1 | F16: ='List 2. Ceník prací a materiálu'!F21*E16 -> 0 | H16: ='List 2. Ceník prací a materiálu'!F21*G16 -> 0 | J16: ='List 2. Ceník prací a materiálu'!F21*I16 -> 0
C17: ='List 2. Ceník prací a materiálu'!B21 -> Zádová deska s HPL povrchem | D17: ='List 2. Ceník prací a materiálu'!A21 -> 17. | E17: 1 | F17: ='List 2. Ceník prací a materiálu'!F22*E17 -> 0 | G17: 1 | H17: ='List 2. Ceník prací a materiálu'!F22*G17 -> 0 | J17: ='List 2. Ceník prací a materiálu'!F22*I17 -> 0
C18: ='List 2. Ceník prací a materiálu'!B22 -> Nerezový dřez s odkapem | D18: ='List 2. Ceník prací a materiálu'!A22 -> 18. | F18: ='List 2. Ceník prací a materiálu'!F23*E18 -> 0 | H18: ='List 2. Ceník prací a materiálu'!F23*G18 -> 0 | J18: ='List 2. Ceník prací a materiálu'!F23*I18 -> 0
C19: ='List 2. Ceník prací a materiálu'!B23 -> Nerezový dřez | D19: ='List 2. Ceník prací a materiálu'!A23 -> 19. | F19: ='List 2. Ceník prací a materiálu'!F25*E19 -> 0 | H19: ='List 2. Ceník prací a materiálu'!F25*G19 -> 0 | J19: ='List 2. Ceník prací a materiálu'!F25*I19 -> 0
C20: ='List 2. Ceník prací a materiálu'!B25 -> Demontáž | D20: ='List 2. Ceník prací a materiálu'!A25 -> 21.
